BEGIN:VCALENDAR
VERSION:2.0
PRODID:-//Roman Catholic Diocese of Orange - ECPv6.15.17.1//NONSGML v1.0//EN
CALSCALE:GREGORIAN
METHOD:PUBLISH
X-WR-CALNAME:Roman Catholic Diocese of Orange
X-ORIGINAL-URL:https://www.rcbo.org
X-WR-CALDESC:Events for Roman Catholic Diocese of Orange
REFRESH-INTERVAL;VALUE=DURATION:PT1H
X-Robots-Tag:noindex
X-PUBLISHED-TTL:PT1H
BEGIN:VTIMEZONE
TZID:America/Los_Angeles
BEGIN:DAYLIGHT
TZOFFSETFROM:-0800
TZOFFSETTO:-0700
TZNAME:PDT
DTSTART:20240310T100000
END:DAYLIGHT
BEGIN:STANDARD
TZOFFSETFROM:-0700
TZOFFSETTO:-0800
TZNAME:PST
DTSTART:20241103T090000
END:STANDARD
BEGIN:DAYLIGHT
TZOFFSETFROM:-0800
TZOFFSETTO:-0700
TZNAME:PDT
DTSTART:20250309T100000
END:DAYLIGHT
BEGIN:STANDARD
TZOFFSETFROM:-0700
TZOFFSETTO:-0800
TZNAME:PST
DTSTART:20251102T090000
END:STANDARD
BEGIN:DAYLIGHT
TZOFFSETFROM:-0800
TZOFFSETTO:-0700
TZNAME:PDT
DTSTART:20260308T100000
END:DAYLIGHT
BEGIN:STANDARD
TZOFFSETFROM:-0700
TZOFFSETTO:-0800
TZNAME:PST
DTSTART:20261101T090000
END:STANDARD
END:VTIMEZONE
BEGIN:VEVENT
DTSTART;TZID=America/Los_Angeles:20251219T193000
DTEND;TZID=America/Los_Angeles:20251219T193000
DTSTAMP:20260425T035939
CREATED:20251125T215043Z
LAST-MODIFIED:20251201T223504Z
UID:10000387-1766172600-1766172600@www.rcbo.org
SUMMARY:Post Noel Night Concert on Friday
DESCRIPTION:Noel Night ConcertHuntington Beach Symphony Chamber Group
URL:https://www.rcbo.org/event/post-noel-night-concert-on-friday/
LOCATION:St. Vincent de Paul Catholic Church\, 8345 Talbert Avenue\, Huntington Beach\, CA\, 92646\, United States
CATEGORIES:Concert,Parish Events
ATTACH;FMTTYPE=image/webp:https://www.rcbo.org/wp-content/uploads/2025/11/svdp-noel-night-concert.webp
GEO:33.7018856;-117.9832227
X-APPLE-STRUCTURED-LOCATION;VALUE=URI;X-ADDRESS=St. Vincent de Paul Catholic Church 8345 Talbert Avenue Huntington Beach CA 92646 United States;X-APPLE-RADIUS=500;X-TITLE=8345 Talbert Avenue:geo:-117.9832227,33.7018856
END:VEVENT
BEGIN:VEVENT
DTSTART;TZID=America/Los_Angeles:20251202T190000
DTEND;TZID=America/Los_Angeles:20251202T210000
DTSTAMP:20260425T035939
CREATED:20251125T211016Z
LAST-MODIFIED:20251125T211127Z
UID:10000375-1764702000-1764709200@www.rcbo.org
SUMMARY:Post Irish Christmas Concert
DESCRIPTION:Join us for an Irish Christmas concert with Emmet Cahill\, lead singer of Celtic Thunder\, at St. Vincent de Paul Catholic Church in Huntington Beach on Tuesday\, December 2\, 2025. 5:45 pm  \n\n\n\n\nMeet & Greet (include photo opportunity with Emmet Cahill) in the Church\n\n\n\n(VIP Access tickets ONLY) \n\n\n\n6:30 pm Doors open in Church \n\n\n\n7:00 pm Concert begins \n\n\n\nReception in Parish Hall to follow \n\n\n\n\nSt. Vincent de Paul Catholic Church\, 8345 Talbert Avenue\, Huntington Beach\, CA 92646 Learn more: Visit https://www.svdphb.org/events-1/emmet-cahill-an-irish-christmas for detailed information and to order tickets.
URL:https://www.rcbo.org/event/post-irish-christmas-concert/
LOCATION:St. Vincent de Paul Catholic Church\, 8345 Talbert Avenue\, Huntington Beach\, CA\, 92646\, United States
CATEGORIES:Parish Events
ATTACH;FMTTYPE=application/pdf:https://www.rcbo.org/wp-content/uploads/2025/11/Emmet-Cahill-Irish-Christmas.pdf
GEO:33.7018856;-117.9832227
X-APPLE-STRUCTURED-LOCATION;VALUE=URI;X-ADDRESS=St. Vincent de Paul Catholic Church 8345 Talbert Avenue Huntington Beach CA 92646 United States;X-APPLE-RADIUS=500;X-TITLE=8345 Talbert Avenue:geo:-117.9832227,33.7018856
END:VEVENT
END:VCALENDAR