BEGIN:VCALENDAR
VERSION:2.0
PRODID:-//Roman Catholic Diocese of Orange - ECPv6.15.17.1//NONSGML v1.0//EN
CALSCALE:GREGORIAN
METHOD:PUBLISH
X-WR-CALNAME:Roman Catholic Diocese of Orange
X-ORIGINAL-URL:https://www.rcbo.org
X-WR-CALDESC:Events for Roman Catholic Diocese of Orange
REFRESH-INTERVAL;VALUE=DURATION:PT1H
X-Robots-Tag:noindex
X-PUBLISHED-TTL:PT1H
BEGIN:VTIMEZONE
TZID:America/Los_Angeles
BEGIN:DAYLIGHT
TZOFFSETFROM:-0800
TZOFFSETTO:-0700
TZNAME:PDT
DTSTART:20250309T100000
END:DAYLIGHT
BEGIN:STANDARD
TZOFFSETFROM:-0700
TZOFFSETTO:-0800
TZNAME:PST
DTSTART:20251102T090000
END:STANDARD
BEGIN:DAYLIGHT
TZOFFSETFROM:-0800
TZOFFSETTO:-0700
TZNAME:PDT
DTSTART:20260308T100000
END:DAYLIGHT
BEGIN:STANDARD
TZOFFSETFROM:-0700
TZOFFSETTO:-0800
TZNAME:PST
DTSTART:20261101T090000
END:STANDARD
BEGIN:DAYLIGHT
TZOFFSETFROM:-0800
TZOFFSETTO:-0700
TZNAME:PDT
DTSTART:20270314T100000
END:DAYLIGHT
BEGIN:STANDARD
TZOFFSETFROM:-0700
TZOFFSETTO:-0800
TZNAME:PST
DTSTART:20271107T090000
END:STANDARD
END:VTIMEZONE
BEGIN:VEVENT
DTSTART;TZID=America/Los_Angeles:20260310T080000
DTEND;TZID=America/Los_Angeles:20260310T170000
DTSTAMP:20260421T095550
CREATED:20260206T204934Z
LAST-MODIFIED:20260206T205226Z
UID:10000460-1773129600-1773162000@www.rcbo.org
SUMMARY:St. Irenaeus Young Adult Ministry Tuesday Gatherings
DESCRIPTION:Join the St. Irenaeus Young Adult Ministry as we begin meeting regularly each Tuesday evening to grow together in our Catholic faith with one another. These will be gatherings of Faith\, Friendship\, Fun\, and Fellowship. Expect Prayer Moments\, Theology Discussions\, New Friendships\, Scripture Studies and Reflection\, Liturgy\, Adoration\, Praise and Worship Nights\, Fellowship\, Food\, Trivia\, Socials\, Service Events\, and Outings as we live an experience of community in spreading the Good News of Christ to all! \n\n\n\nContact Sr. Krystle Balancio\, FMA at the St. Irenaeus parish office or visit linktr.ee/sticypressyam for more information.
URL:https://www.rcbo.org/event/st-irenaeus-young-adult-ministry-tuesday-gatherings/2026-03-10/
LOCATION:Saint Irenaeus Catholic Church\, 5201 Evergreen Avenue\, Cypress\, CA\, 90630\, United States
CATEGORIES:Parish Events,Young Adult Ministry
ATTACH;FMTTYPE=image/png:https://www.rcbo.org/wp-content/uploads/2026/02/St.-I-YAM-Meeting-Flyer-Sr.-Krystle-Balancio.png
GEO:33.8286492;-118.0423279
X-APPLE-STRUCTURED-LOCATION;VALUE=URI;X-ADDRESS=Saint Irenaeus Catholic Church 5201 Evergreen Avenue Cypress CA 90630 United States;X-APPLE-RADIUS=500;X-TITLE=5201 Evergreen Avenue:geo:-118.0423279,33.8286492
END:VEVENT
END:VCALENDAR