BEGIN:VCALENDAR
VERSION:2.0
PRODID:-//Roman Catholic Diocese of Orange - ECPv6.15.17.1//NONSGML v1.0//EN
CALSCALE:GREGORIAN
METHOD:PUBLISH
X-ORIGINAL-URL:https://www.rcbo.org
X-WR-CALDESC:Events for Roman Catholic Diocese of Orange
REFRESH-INTERVAL;VALUE=DURATION:PT1H
X-Robots-Tag:noindex
X-PUBLISHED-TTL:PT1H
BEGIN:VTIMEZONE
TZID:America/Los_Angeles
BEGIN:DAYLIGHT
TZOFFSETFROM:-0800
TZOFFSETTO:-0700
TZNAME:PDT
DTSTART:20250309T100000
END:DAYLIGHT
BEGIN:STANDARD
TZOFFSETFROM:-0700
TZOFFSETTO:-0800
TZNAME:PST
DTSTART:20251102T090000
END:STANDARD
BEGIN:DAYLIGHT
TZOFFSETFROM:-0800
TZOFFSETTO:-0700
TZNAME:PDT
DTSTART:20260308T100000
END:DAYLIGHT
BEGIN:STANDARD
TZOFFSETFROM:-0700
TZOFFSETTO:-0800
TZNAME:PST
DTSTART:20261101T090000
END:STANDARD
BEGIN:DAYLIGHT
TZOFFSETFROM:-0800
TZOFFSETTO:-0700
TZNAME:PDT
DTSTART:20270314T100000
END:DAYLIGHT
BEGIN:STANDARD
TZOFFSETFROM:-0700
TZOFFSETTO:-0800
TZNAME:PST
DTSTART:20271107T090000
END:STANDARD
END:VTIMEZONE
BEGIN:VEVENT
DTSTART;TZID=America/Los_Angeles:20260801T000000
DTEND;TZID=America/Los_Angeles:20260801T235959
DTSTAMP:20260422T044513
CREATED:20260326T205808Z
LAST-MODIFIED:20260326T205811Z
UID:10000530-1785542400-1785628799@www.rcbo.org
SUMMARY:World Youth Day Korea Pilgrimage
DESCRIPTION:Join the Diocese of Orange Young Adults on a pilgrimage to World Youth Day 2027 in Korea. Experience the spiritual heart of Korean Catholicism\, visit historic sites\, and participate in World Youth Day celebrations. This journey offers opportunities for reflection\, cultural immersion\, and connection with young Catholics from around the world. \n\n\n\nThis pilgrimage is specifically for young adults ages 18–39\, and participants must be within this age range at the time of the pilgrimage. \n\n\n\nVisit https://vocatiotravel.wetravel.com/i/697d154e4ddb7473bdc63be1 for more information about our Diocesan Pilgrimage. Email Tricia Tembreull at ttembreull@rcbo.org for any questions you might have about the pilgrimage.
URL:https://www.rcbo.org/event/world-youth-day-korea-pilgrimage/
LOCATION:CA
CATEGORIES:Young Adult Ministry
END:VEVENT
BEGIN:VEVENT
DTSTART;TZID=America/Los_Angeles:20260801T000000
DTEND;TZID=America/Los_Angeles:20260801T235959
DTSTAMP:20260422T044513
CREATED:20260415T205404Z
LAST-MODIFIED:20260415T205406Z
UID:10000532-1785542400-1785628799@www.rcbo.org
SUMMARY:Jamaica Mission Trip
DESCRIPTION:The Office of Young Adults will be organizing a 10-day mission pilgrimage to Kingston\, Jamaica\, where participants will engage in the spiritual and corporal works of mercy by serving alongside and living with the Missionaries of the Poor. \n\n\n\nThis pilgrimage offers a powerful opportunity to journey with the Missionaries of the Poor—a religious order of consecrated brothers and sisters—and to encounter Christ through service to the poorest of the poor. \n\n\n\nSpace is very limited\, and all participants must apply through the application portal. Due to limited availability\, applying does not guarantee a spot on the pilgrimage. All applications will be prayerfully reviewed and discerned. \n\n\n\nSee the official website for all the details: https://orangeyyahm.my.canva.site/jamaicapilgrimage
URL:https://www.rcbo.org/event/jamaica-mission-trip/
LOCATION:CA
CATEGORIES:Young Adult Ministry
END:VEVENT
END:VCALENDAR