BEGIN:VCALENDAR
VERSION:2.0
PRODID:-//Roman Catholic Diocese of Orange - ECPv6.15.17.1//NONSGML v1.0//EN
CALSCALE:GREGORIAN
METHOD:PUBLISH
X-WR-CALNAME:Roman Catholic Diocese of Orange
X-ORIGINAL-URL:https://www.rcbo.org
X-WR-CALDESC:Events for Roman Catholic Diocese of Orange
REFRESH-INTERVAL;VALUE=DURATION:PT1H
X-Robots-Tag:noindex
X-PUBLISHED-TTL:PT1H
BEGIN:VTIMEZONE
TZID:America/Los_Angeles
BEGIN:DAYLIGHT
TZOFFSETFROM:-0800
TZOFFSETTO:-0700
TZNAME:PDT
DTSTART:20240310T100000
END:DAYLIGHT
BEGIN:STANDARD
TZOFFSETFROM:-0700
TZOFFSETTO:-0800
TZNAME:PST
DTSTART:20241103T090000
END:STANDARD
BEGIN:DAYLIGHT
TZOFFSETFROM:-0800
TZOFFSETTO:-0700
TZNAME:PDT
DTSTART:20250309T100000
END:DAYLIGHT
BEGIN:STANDARD
TZOFFSETFROM:-0700
TZOFFSETTO:-0800
TZNAME:PST
DTSTART:20251102T090000
END:STANDARD
BEGIN:DAYLIGHT
TZOFFSETFROM:-0800
TZOFFSETTO:-0700
TZNAME:PDT
DTSTART:20260308T100000
END:DAYLIGHT
BEGIN:STANDARD
TZOFFSETFROM:-0700
TZOFFSETTO:-0800
TZNAME:PST
DTSTART:20261101T090000
END:STANDARD
END:VTIMEZONE
BEGIN:VEVENT
DTSTART;TZID=America/Los_Angeles:20251202T190000
DTEND;TZID=America/Los_Angeles:20251202T210000
DTSTAMP:20260421T184917
CREATED:20251125T211016Z
LAST-MODIFIED:20251125T211127Z
UID:10000375-1764702000-1764709200@www.rcbo.org
SUMMARY:Post Irish Christmas Concert
DESCRIPTION:Join us for an Irish Christmas concert with Emmet Cahill\, lead singer of Celtic Thunder\, at St. Vincent de Paul Catholic Church in Huntington Beach on Tuesday\, December 2\, 2025. 5:45 pm  \n\n\n\n\nMeet & Greet (include photo opportunity with Emmet Cahill) in the Church\n\n\n\n(VIP Access tickets ONLY) \n\n\n\n6:30 pm Doors open in Church \n\n\n\n7:00 pm Concert begins \n\n\n\nReception in Parish Hall to follow \n\n\n\n\nSt. Vincent de Paul Catholic Church\, 8345 Talbert Avenue\, Huntington Beach\, CA 92646 Learn more: Visit https://www.svdphb.org/events-1/emmet-cahill-an-irish-christmas for detailed information and to order tickets.
URL:https://www.rcbo.org/event/post-irish-christmas-concert/
LOCATION:St. Vincent de Paul Catholic Church\, 8345 Talbert Avenue\, Huntington Beach\, CA\, 92646\, United States
CATEGORIES:Parish Events
ATTACH;FMTTYPE=application/pdf:https://www.rcbo.org/wp-content/uploads/2025/11/Emmet-Cahill-Irish-Christmas.pdf
GEO:33.7018856;-117.9832227
X-APPLE-STRUCTURED-LOCATION;VALUE=URI;X-ADDRESS=St. Vincent de Paul Catholic Church 8345 Talbert Avenue Huntington Beach CA 92646 United States;X-APPLE-RADIUS=500;X-TITLE=8345 Talbert Avenue:geo:-117.9832227,33.7018856
END:VEVENT
BEGIN:VEVENT
DTSTART;TZID=America/Los_Angeles:20251201T190000
DTEND;TZID=America/Los_Angeles:20251201T210000
DTSTAMP:20260421T184917
CREATED:20251125T210607Z
LAST-MODIFIED:20251125T210610Z
UID:10000374-1764615600-1764622800@www.rcbo.org
SUMMARY:The Importance of Advent
DESCRIPTION:Come join our SC Family as Very Reverend Angelos Sebastian\, Vicar General and Pastor of St. Kilian Parish\, presents “The Importance of Advent” on Monday\, December 1st\, at 7 PM at St. Cecilia Catholic Church. A reception will follow in the Monsignor Sammon Center behind the church. All are welcome\, and no RSVP is necessary!
URL:https://www.rcbo.org/event/the-importance-of-advent/
LOCATION:Saint Cecilia Catholic Church\, 1301 SE. Sycamore Avenue\, Tustin\, CA\, 92780\, United States
CATEGORIES:Parish Events
ATTACH;FMTTYPE=image/webp:https://www.rcbo.org/wp-content/uploads/2025/11/The-Importance-of-Advent-2025.webp
GEO:33.7269726;-117.8256824
X-APPLE-STRUCTURED-LOCATION;VALUE=URI;X-ADDRESS=Saint Cecilia Catholic Church 1301 SE. Sycamore Avenue Tustin CA 92780 United States;X-APPLE-RADIUS=500;X-TITLE=1301 SE. Sycamore Avenue:geo:-117.8256824,33.7269726
END:VEVENT
BEGIN:VEVENT
DTSTART;TZID=America/Los_Angeles:20251129T090000
DTEND;TZID=America/Los_Angeles:20251129T090000
DTSTAMP:20260421T184917
CREATED:20251125T214943Z
LAST-MODIFIED:20251125T214943Z
UID:10000386-1764406800-1764406800@www.rcbo.org
SUMMARY:The Birth of the Messiah: A Journey through Matthew and Luke
DESCRIPTION:Bible Institute Retreat:The Birth of the Messiah – Matthew and Luke \nPresented by Fr. Timothy Peters\, Professor of Biblical Theology at Saint John’s Seminary in Camarillo\, CA. \nHoly Spirit Catholic Church\n17270 Ward St\, Fountain Valley\, CA 92708\nSaturday\, November 29\, 2025 \n9:00am-12pm \nThe Great prophecies of a future Messiah/Christ\nExamining the Book of Isaiah – In the early Church\, some referred to the Prophecy of Isaiah as the 5th Gospel because it so eloquently spoke of the future Messiah/Christ. Thus\, it’s no surprise that the Church continually reads from Isaiah throughout the Advent season. \nThe Infancy Narrative in Matthew\nMatthew Chapter 1 – The Good News of the Gospel and the importance of the Lord’s promises to Abraham and David; The Virgin Mary\, the Great prophecy of Isaiah and four other unlikely women who were Matriarchs in Israel; Saint Joseph\, his silence\, his dreams and his actions. Matthew Chapter 2 – The Magi\, the Star and the prophecy of Balaam in Numbers 24:17; King Herod\, his ambition\, his building projects and his reputation in Rome; The Holy Innocents\, a great challenge for our culture. \nThe Infancy Narrative in Luke\nLuke Chapter 1 – The Annunciation and Mary’s Fiat; Gabriel’s words and the importance of the Davidic Kingdom; The Virgin Birth and the Great Prophecy of the Son of Man in Daniel Chapter 7; The Visitation. Luke Chapter 2 – The census in Luke’s Gospel and Jesus’ birth in Bethlehem; The Presentation in the Temple; Simeon and his prophecy that a sword would\npierce Mary’s heart; Why did Mary contemplate all these things in her heart? \n*The Catholic Biblical Institute in the Diocese of Orange presents these short retreats with the goal of inspiring the faithful to continually study Sacred Scripture. All are welcome to attend. Those wishing to take more courses in The Biblical institute may take these retreats as part of their introductory preparation. More information will be provided during our retreat. \nFor more information\, bible@rcbo.org (714) 282-3079
URL:https://www.rcbo.org/event/the-birth-of-the-messiah-a-journey-through-matthew-and-luke/
LOCATION:California
CATEGORIES:Biblical Institute,Evangelization,Faith Formation
ATTACH;FMTTYPE=image/png:https://www.rcbo.org/wp-content/uploads/2025/11/messiah-infancy-matthew-luke-sCdH4k.png
END:VEVENT
BEGIN:VEVENT
DTSTART;TZID=America/Los_Angeles:20251124T193000
DTEND;TZID=America/Los_Angeles:20251124T203000
DTSTAMP:20260421T184917
CREATED:20251104T045200Z
LAST-MODIFIED:20251125T210054Z
UID:10000254-1764012600-1764016200@www.rcbo.org
SUMMARY:Saint Timothy Weekly Bible Study
DESCRIPTION:Join us for a Bible study on the upcoming Sunday’s Gospel\, where we pray with the word\, study it in depth\, and answer your burning questions! \nContact mzemanek@st-timsrc.org for more information or visit www.st-timsrc.org/adults
URL:https://www.rcbo.org/event/bible-study-34/
LOCATION:St. Timothy Catholic Church\, 29102 Crown Valley Parkway\, Laguna Niguel\, CA\, 92677\, United States
CATEGORIES:Evangelization,Faith Formation,Parish Events
ATTACH;FMTTYPE=image/webp:https://www.rcbo.org/wp-content/uploads/2025/11/st-timothy-bible-study.webp
GEO:33.5402334;-117.693762
X-APPLE-STRUCTURED-LOCATION;VALUE=URI;X-ADDRESS=St. Timothy Catholic Church 29102 Crown Valley Parkway Laguna Niguel CA 92677 United States;X-APPLE-RADIUS=500;X-TITLE=29102 Crown Valley Parkway:geo:-117.693762,33.5402334
END:VEVENT
BEGIN:VEVENT
DTSTART;TZID=America/Los_Angeles:20251122T100000
DTEND;TZID=America/Los_Angeles:20251122T120000
DTSTAMP:20260421T184917
CREATED:20251029T223200Z
LAST-MODIFIED:20251108T235859Z
UID:10000252-1763805600-1763812800@www.rcbo.org
SUMMARY:Surviving the Holidays
DESCRIPTION:Anyone who is grieving the loss of a loved one is welcome to join the GriefShare Event “Surviving the Holidays” being held at St. Thomas More on Saturday November 22nd from 10:00 AM – 12:00 Noon. It is an event designed to provide help for those who have suffered the loss of a loved one. It will provide you with some tools to help you go through the holidays as comfortably as possible. There will be a video and some discussion\, served up with with holiday treats. Trust that God will be with you and that you are free to choose to do some things differently this year. REGISTER AT GRIEFSHARE.ORG/HOLIDAYS for this event. \nstmirvine.org
URL:https://www.rcbo.org/event/surviving-the-holidays/
LOCATION:California
CATEGORIES:Parish Events
ATTACH;FMTTYPE=image/jpeg:https://www.rcbo.org/wp-content/uploads/2025/11/GS-Surviving-the-Holidays-2025.jpg
END:VEVENT
BEGIN:VEVENT
DTSTART;TZID=America/Los_Angeles:20251122T080000
DTEND;TZID=America/Los_Angeles:20251122T130000
DTSTAMP:20260421T184917
CREATED:20251029T225400Z
LAST-MODIFIED:20251121T194656Z
UID:10000253-1763798400-1763816400@www.rcbo.org
SUMMARY:Funeral Preparedness Workshop
DESCRIPTION:Join us November 22\, 8:00am – 1:00pm for a thoughtful and compassionate workshop designed to help individuals plan for their final arrangements with peace of mind and clarity. This seminar will guide participants through the key elements of preparing a funeral\, including choosing readings and music for the liturgy\, understanding the pastoral care available during end-of-life moments\, and receiving important information about cemetery options and procedures. By planning ahead\, you not only ensure your wishes are honored but also provide a meaningful gift of guidance and comfort to your loved ones. All are welcome to attend this informative and faith-centered session. Register Here: https://pci.jotform.com/form/252664952852164 \nContact nhuerta@rcbo.org for more info. \nEOL Planning Workshop
URL:https://www.rcbo.org/event/funeral-preparedness-workshop/
LOCATION:California
CATEGORIES:Liturgy
END:VEVENT
BEGIN:VEVENT
DTSTART;TZID=America/Los_Angeles:20251121T190000
DTEND;TZID=America/Los_Angeles:20251121T210000
DTSTAMP:20260421T184917
CREATED:20251104T025900Z
LAST-MODIFIED:20251107T221555Z
UID:10000251-1763751600-1763758800@www.rcbo.org
SUMMARY:Theology on Tap w/ Father Paw Lwin
DESCRIPTION:Theology on Tap: The Eucharist and Thanksgiving \nVisit our website or DM us @holytrinityyoungadults for more details
URL:https://www.rcbo.org/event/theology-on-tap-w-father-paw-lwin/
LOCATION:California
END:VEVENT
BEGIN:VEVENT
DTSTART;TZID=America/Los_Angeles:20251120T190000
DTEND;TZID=America/Los_Angeles:20251120T200000
DTSTAMP:20260421T184917
CREATED:20251104T030600Z
LAST-MODIFIED:20251107T221555Z
UID:10000250-1763665200-1763668800@www.rcbo.org
SUMMARY:Talk on the Sacred Heart
DESCRIPTION:The sacred Heart sisters will be joining us for a talk about the Sacred Heart of Jesus! \nContact us @st.norbertya on Instagram or email us at st.norbertya@gmail.com
URL:https://www.rcbo.org/event/talk-on-the-sacred-heart/
LOCATION:California
CATEGORIES:Young Adult Ministry
END:VEVENT
BEGIN:VEVENT
DTSTART;TZID=America/Los_Angeles:20251118T190000
DTEND;TZID=America/Los_Angeles:20251118T210000
DTSTAMP:20260421T184917
CREATED:20251104T053700Z
LAST-MODIFIED:20251108T235946Z
UID:10000249-1763492400-1763499600@www.rcbo.org
SUMMARY:Friendsgiving
DESCRIPTION:We will be providing the main course\, bring a side to share! \nContact Jessie at jessie@scdayl.org for more information and to RSVP
URL:https://www.rcbo.org/event/friendsgiving/
LOCATION:California
CATEGORIES:Young Adult Ministry
END:VEVENT
BEGIN:VEVENT
DTSTART;TZID=America/Los_Angeles:20251117T193000
DTEND;TZID=America/Los_Angeles:20251117T203000
DTSTAMP:20260421T184917
CREATED:20251104T044900Z
LAST-MODIFIED:20251107T221554Z
UID:10000248-1763407800-1763411400@www.rcbo.org
SUMMARY:Bible Study
DESCRIPTION:Join us for a Bible study on the upcoming Sunday’s Gospel\, where we pray with the word\, study it in depth\, and answer your burning questions! \nContact mzemanek@st-timsrc.org for more information or visit www.st-timsrc.org/adults
URL:https://www.rcbo.org/event/bible-study-33/
LOCATION:California
CATEGORIES:Young Adult Ministry
END:VEVENT
BEGIN:VEVENT
DTSTART;TZID=America/Los_Angeles:20251115T100000
DTEND;TZID=America/Los_Angeles:20251115T110000
DTSTAMP:20260421T184917
CREATED:20251104T025600Z
LAST-MODIFIED:20251107T221554Z
UID:10000247-1763200800-1763204400@www.rcbo.org
SUMMARY:Spiritual Work of Mercy: Prayer for the Living and the Dead
DESCRIPTION:Join us to come together in intentional prayer led by Deacon Randy McMahon for All The Souls of the Faithful Departed. \nVisit our Young Adult page on our parish website or DM @holytrinityyoungadults for more details.
URL:https://www.rcbo.org/event/spiritual-work-of-mercy-prayer-for-the-living-and-the-dead/
LOCATION:California
CATEGORIES:Young Adult Ministry
END:VEVENT
BEGIN:VEVENT
DTSTART;TZID=America/Los_Angeles:20251115T080000
DTEND;TZID=America/Los_Angeles:20251115T180000
DTSTAMP:20260421T184917
CREATED:20251104T022600Z
LAST-MODIFIED:20251107T221552Z
UID:10000246-1763193600-1763229600@www.rcbo.org
SUMMARY:Jewelry Sale
DESCRIPTION:Grab something as a gift for Christmas or a birthday or a just cause. \nAfter all masses \nContact Kathy at 949-449-4488 for more info
URL:https://www.rcbo.org/event/jewelry-sale/
LOCATION:California
CATEGORIES:Parish Events,Young Adult Ministry
END:VEVENT
BEGIN:VEVENT
DTSTART;TZID=America/Los_Angeles:20251114T080000
DTEND;TZID=America/Los_Angeles:20251116T180000
DTSTAMP:20260421T184917
CREATED:20251104T025300Z
LAST-MODIFIED:20251107T221551Z
UID:10000245-1763107200-1763316000@www.rcbo.org
SUMMARY:Young Adult Weekend
DESCRIPTION:
URL:https://www.rcbo.org/event/young-adult-weekend/
LOCATION:California
CATEGORIES:Young Adult Ministry
ATTACH;FMTTYPE=image/jpeg:https://www.rcbo.org/wp-content/uploads/2025/11/IMG7606273585142989318-Short-Moon-1.jpg
END:VEVENT
BEGIN:VEVENT
DTSTART;TZID=America/Los_Angeles:20251113T183000
DTEND;TZID=America/Los_Angeles:20251113T210000
DTSTAMP:20260421T184917
CREATED:20251104T023700Z
LAST-MODIFIED:20251107T221551Z
UID:10000244-1763058600-1763067600@www.rcbo.org
SUMMARY:Tapas & Theology (Women)
DESCRIPTION:Get together with other women of faith for dinner\, drinks\, and fellowship\, featuring a guest speaker! All women 18+ are welcome!
URL:https://www.rcbo.org/event/tapas-theology-women/
LOCATION:California
CATEGORIES:Young Adult Ministry
END:VEVENT
BEGIN:VEVENT
DTSTART;TZID=America/Los_Angeles:20251111T183000
DTEND;TZID=America/Los_Angeles:20251111T210000
DTSTAMP:20260421T184917
CREATED:20251104T023400Z
LAST-MODIFIED:20251107T221551Z
UID:10000243-1762885800-1762894800@www.rcbo.org
SUMMARY:Tacos & Theology (Men)
DESCRIPTION:Get together with other men of faith for dinner\, drinks\, and fellowship\, featuring a guest speaker! All men 18+ are welcome! \nTacos: Contact awatson@ssj.org for more info; Tapas: Contact rmoreno@ssj.org for more info
URL:https://www.rcbo.org/event/tacos-theology-men/
LOCATION:California
CATEGORIES:Young Adult Ministry
END:VEVENT
BEGIN:VEVENT
DTSTART;TZID=America/Los_Angeles:20251110T193000
DTEND;TZID=America/Los_Angeles:20251110T203000
DTSTAMP:20260421T184917
CREATED:20251104T044800Z
LAST-MODIFIED:20251107T221550Z
UID:10000242-1762803000-1762806600@www.rcbo.org
SUMMARY:Bible Study
DESCRIPTION:Join us for a Bible study on the upcoming Sunday’s Gospel\, where we pray with the word\, study it in depth\, and answer your burning questions! \nContact mzemanek@st-timsrc.org for more information or visit www.st-timsrc.org/adults
URL:https://www.rcbo.org/event/bible-study-32/
LOCATION:California
CATEGORIES:Young Adult Ministry
END:VEVENT
BEGIN:VEVENT
DTSTART;TZID=America/Los_Angeles:20251110T190000
DTEND;TZID=America/Los_Angeles:20251110T203000
DTSTAMP:20260421T184917
CREATED:20251104T022800Z
LAST-MODIFIED:20251107T221550Z
UID:10000241-1762801200-1762806600@www.rcbo.org
SUMMARY:Women's Bible Study
DESCRIPTION:
URL:https://www.rcbo.org/event/womens-bible-study-2/
LOCATION:California
END:VEVENT
BEGIN:VEVENT
DTSTART;TZID=America/Los_Angeles:20251109T180000
DTEND;TZID=America/Los_Angeles:20251109T190000
DTSTAMP:20260421T184917
CREATED:20251104T021500Z
LAST-MODIFIED:20251107T221550Z
UID:10000240-1762711200-1762714800@www.rcbo.org
SUMMARY:Financial Freedom Blaze Night
DESCRIPTION:Join us for an empowering financial workshop designed to equip young adults with the tools\, wisdom\, & biblical perspective needed to navigate money with purpose and confidence. Whether you’re just starting your financial journey or looking to gain clarity and control over your finances\, this workshop will cover essential topics like budgeting\, saving\, debt\, investing\, and kingdom stewardship all through the lens of faith. \nReach out to Kathy at 949-449-4488 if you have any questions \nContact Kathy at 949-449-4488 for more info
URL:https://www.rcbo.org/event/financial-freedom-blaze-night/
LOCATION:California
CATEGORIES:Parish Events,Young Adult Ministry
END:VEVENT
BEGIN:VEVENT
DTSTART;TZID=America/Los_Angeles:20251108T080000
DTEND;TZID=America/Los_Angeles:20251109T180000
DTSTAMP:20260421T184917
CREATED:20240516T002600Z
LAST-MODIFIED:20251107T221549Z
UID:10000238-1762588800-1762711200@www.rcbo.org
SUMMARY:Archdiocese for the Military Services\, USA (Special Collections)
DESCRIPTION:Scheduled every three years\, Sunday before Veterans Day
URL:https://www.rcbo.org/event/archdiocese-for-the-military-services-usa-special-collections/
LOCATION:California
END:VEVENT
BEGIN:VEVENT
DTSTART;TZID=America/Los_Angeles:20251108T080000
DTEND;TZID=America/Los_Angeles:20251108T210000
DTSTAMP:20260421T184917
CREATED:20251016T231600Z
LAST-MODIFIED:20251107T221550Z
UID:10000239-1762588800-1762635600@www.rcbo.org
SUMMARY:Stars and Stripes Mass
DESCRIPTION:All are invited to attend Mass to show our thanks and appreciation for our active duty military and veterans. \nRefreshments and sharing on the Gathering Plaza following the Mass. \nvisit: www.smdpyl.org
URL:https://www.rcbo.org/event/stars-and-stripes-mass/
LOCATION:California
CATEGORIES:Parish Events
ATTACH;FMTTYPE=image/jpeg:https://www.rcbo.org/wp-content/uploads/2025/11/2025Stars-and-Stripes-Mass-Social-1.jpg
END:VEVENT
BEGIN:VEVENT
DTSTART;TZID=America/Los_Angeles:20251107T190000
DTEND;TZID=America/Los_Angeles:20251107T210000
DTSTAMP:20260421T184917
CREATED:20251104T031000Z
LAST-MODIFIED:20251107T221549Z
UID:10000237-1762542000-1762549200@www.rcbo.org
SUMMARY:First Friday Mass
DESCRIPTION:7pm confession ( you might want to show up a little earlier\, the line can get a little long\, praise the Lord) 8pm – Mass 8:45pm – Adoration 9:20pm end! \nIt is a good way to start your devotion to the sacred heart! It is just Mass and adoration to start your month off right! \nContact Matthew Taylor @ mtaylor@svdphb.org
URL:https://www.rcbo.org/event/first-friday-mass/
LOCATION:California
CATEGORIES:Young Adult Ministry
END:VEVENT
BEGIN:VEVENT
DTSTART;TZID=America/Los_Angeles:20251107T180000
DTEND;TZID=America/Los_Angeles:20251107T200000
DTSTAMP:20260421T184917
CREATED:20251104T024000Z
LAST-MODIFIED:20251107T221549Z
UID:10000236-1762538400-1762545600@www.rcbo.org
SUMMARY:Meet and Greet with Adoration and Praise
DESCRIPTION:For all of you young adults ages 18-35\, who are living this important young adult phase of life – through transitions\, the newness of fresh identities\, independence\, and roles/responsibilities\, and the searching for truth and meaning\, you are invited to a special Meet and Greet with me and other interested Young Adults on Friday\, November 7 beginning at 6PM in the St. Irenaeus patio. We will begin the night with Adoration\, praise and worship\, and prayer in the Church\, and then move to the convent backyard to continue the meet and greet with fellowship\, food\, fun\, and sharing on how we can build this community. \nCome as you are! If you’re considering coming back to Church\, being more involved in the Church\, if you’re well-versed in Scripture and Church-teaching\, or if you’ve got questions…Come! I can’t wait to meet you! Come and see how we can accompany one another on this faith journey and support each other as we aim for the finish line of heaven. \nContact Sr. Krystle for more information through our Instagram @sticypressyam
URL:https://www.rcbo.org/event/meet-and-greet-with-adoration-and-praise/
LOCATION:California
CATEGORIES:Young Adult Ministry
END:VEVENT
BEGIN:VEVENT
DTSTART;TZID=America/Los_Angeles:20251106T080000
DTEND;TZID=America/Los_Angeles:20251107T210000
DTSTAMP:20260421T184917
CREATED:20251031T004800Z
LAST-MODIFIED:20251203T221314Z
UID:10000234-1762416000-1762549200@www.rcbo.org
SUMMARY:First Class Relic of St. Carlo Acutis
DESCRIPTION:
URL:https://www.rcbo.org/event/first-class-relic-of-st-carlo-acutis/
LOCATION:St. Thomas More Catholic Church\, 51 Marketplace\, Irvine\, CA\, 92602\, United States
CATEGORIES:Eucharistic Revival,Evangelization,Parish Events,Young Adult Ministry
ATTACH;FMTTYPE=image/jpeg:https://www.rcbo.org/wp-content/uploads/2025/11/St.-Carlo-Relic-For-Church-Bulletin-Final-Revised-10.12.25-scaled-1.jpg
GEO:33.7290839;-117.783788
X-APPLE-STRUCTURED-LOCATION;VALUE=URI;X-ADDRESS=St. Thomas More Catholic Church 51 Marketplace Irvine CA 92602 United States;X-APPLE-RADIUS=500;X-TITLE=51 Marketplace:geo:-117.783788,33.7290839
END:VEVENT
BEGIN:VEVENT
DTSTART;TZID=America/Los_Angeles:20251105T183000
DTEND;TZID=America/Los_Angeles:20251105T203000
DTSTAMP:20260421T184917
CREATED:20251011T042600Z
LAST-MODIFIED:20251107T221548Z
UID:10000233-1762367400-1762374600@www.rcbo.org
SUMMARY:YAM Event - Parables (Feast)
DESCRIPTION:Join other young adults in our local community for a night of fun\, fellowship\, food\, and faith! Each session is themed around a parable found in the Bible\, and will feature a corresponding short lesson or collaborative project. This month we will be hosting a feast and reading through the Parable of the Wedding Feast found in Luke 14:16-24. Through doing these activities\, young adults will gain a deeper and richer understanding of the Gospel message\, leading them closer to Christ. \nVisit @SJNYYA on Instagram for more information and register. \nCopy of young adult ministry
URL:https://www.rcbo.org/event/yam-event-parables-feast/
LOCATION:California
CATEGORIES:Young Adult Ministry
END:VEVENT
BEGIN:VEVENT
DTSTART;TZID=America/Los_Angeles:20251103T080000
DTEND;TZID=America/Los_Angeles:20251103T180000
DTSTAMP:20260421T184917
CREATED:20251104T030000Z
LAST-MODIFIED:20251107T221548Z
UID:10000232-1762156800-1762192800@www.rcbo.org
SUMMARY:Friendsgiving potluck
DESCRIPTION:Join us for Friendsgiving potluck! \nMessage us on instagram @st.norbertya or email us at St.norbertya@gmail.com
URL:https://www.rcbo.org/event/friendsgiving-potluck/
LOCATION:California
CATEGORIES:Young Adult Ministry
END:VEVENT
BEGIN:VEVENT
DTSTART;TZID=America/Los_Angeles:20251103T080000
DTEND;TZID=America/Los_Angeles:20251103T180000
DTSTAMP:20260421T184917
CREATED:20251022T033900Z
LAST-MODIFIED:20251107T221548Z
UID:10000231-1762156800-1762192800@www.rcbo.org
SUMMARY:Inclusive Icons: Art Exhibition
DESCRIPTION:You are invited to visit Sacred Heart Chapel at the St. Joseph Center this November. Immerse yourself in the lives of holy men and women from around the world. Uncover the deeper meanings and subtle nuances \nwoven into each painting. Let the stories of these saints invite you into reflection on the universal spiritual themes of compassion\, courage\, justice\, and love. \nViewing is available from 1:00p.m. to 4:00p.m. on select days in November. For more information\, please review the accompanying flyer. \nFor questions\, please contact ddelaura@csjorange.org \nIcons Exhibit Flyer 11.2025
URL:https://www.rcbo.org/event/inclusive-icons-art-exhibition/
LOCATION:California
END:VEVENT
BEGIN:VEVENT
DTSTART;TZID=America/Los_Angeles:20251102T080000
DTEND;TZID=America/Los_Angeles:20251108T180000
DTSTAMP:20260421T184917
CREATED:20250404T030500Z
LAST-MODIFIED:20251107T221547Z
UID:10000230-1762070400-1762624800@www.rcbo.org
SUMMARY:Vocations Awareness Week
DESCRIPTION:Vocations Awareness Week November 2nd-8th
URL:https://www.rcbo.org/event/vocations-awareness-week/
LOCATION:California
CATEGORIES:Vocations
END:VEVENT
BEGIN:VEVENT
DTSTART;TZID=America/Los_Angeles:20251101T183000
DTEND;TZID=America/Los_Angeles:20251101T210000
DTSTAMP:20260421T184917
CREATED:20251104T024800Z
LAST-MODIFIED:20251107T221547Z
UID:10000229-1762021800-1762030800@www.rcbo.org
SUMMARY:All Saints Day Bonfire
DESCRIPTION:Join us for a fun evening by the fire to celebrate the communion of saints with music\, food\, and good company under the stars. \nOur pastor\, Fr. Eugene\, will be available for confessions throughout the evening. \nDress as your favorite saint for a chance to win a prize! \nRSVP here: https://docs.google.com/forms/d/e/1FAIpQLSecczyD2qN-MSg0e9B-gtqC1RUKJkEx6MTSYkwZa4xImsXD4A/viewform Visit @stm.ya Instagram for more info.
URL:https://www.rcbo.org/event/all-saints-day-bonfire/
LOCATION:California
CATEGORIES:Young Adult Ministry
END:VEVENT
BEGIN:VEVENT
DTSTART;TZID=America/Los_Angeles:20251101T093000
DTEND;TZID=America/Los_Angeles:20251101T150000
DTSTAMP:20260421T184917
CREATED:20251010T214800Z
LAST-MODIFIED:20251107T221547Z
UID:10000228-1761989400-1762009200@www.rcbo.org
SUMMARY:Inclusive Icons: A Walk with the Artist
DESCRIPTION:Walk with Pat through her collection of Inclusive Icons\, a sacred art \nexhibition and spiritual retreat. Spend the day immersed in the lives of \nholy men and women from around the world. Uncover the deeper \nmeanings and subtle nuances woven into each painting. Let the stories \nof these saints invite you into reflection on the universal spiritual \nthemes of compassion\, courage\, justice\, and love. \nwww.eventbrite.com/e/inclusive-icons-tickets-1567747778809 \nInclusive Icons 08.20.25
URL:https://www.rcbo.org/event/inclusive-icons-a-walk-with-the-artist/
LOCATION:California
CATEGORIES:Diocese of Orange
END:VEVENT
BEGIN:VEVENT
DTSTART;TZID=America/Los_Angeles:20251030T190000
DTEND;TZID=America/Los_Angeles:20251030T210000
DTSTAMP:20260421T184917
CREATED:20251002T035200Z
LAST-MODIFIED:20251107T221546Z
UID:10000227-1761850800-1761858000@www.rcbo.org
SUMMARY:Pumpkin Carving
DESCRIPTION:Bring your own pumpkin to carve/decorate! Carving supplies will be provided.
URL:https://www.rcbo.org/event/pumpkin-carving/
LOCATION:California
CATEGORIES:Parish Events,Young Adult Ministry
END:VEVENT
END:VCALENDAR