BEGIN:VCALENDAR
VERSION:2.0
PRODID:-//Roman Catholic Diocese of Orange - ECPv6.15.17.1//NONSGML v1.0//EN
CALSCALE:GREGORIAN
METHOD:PUBLISH
X-ORIGINAL-URL:https://www.rcbo.org
X-WR-CALDESC:Events for Roman Catholic Diocese of Orange
REFRESH-INTERVAL;VALUE=DURATION:PT1H
X-Robots-Tag:noindex
X-PUBLISHED-TTL:PT1H
BEGIN:VTIMEZONE
TZID:America/Los_Angeles
BEGIN:DAYLIGHT
TZOFFSETFROM:-0800
TZOFFSETTO:-0700
TZNAME:PDT
DTSTART:20240310T100000
END:DAYLIGHT
BEGIN:STANDARD
TZOFFSETFROM:-0700
TZOFFSETTO:-0800
TZNAME:PST
DTSTART:20241103T090000
END:STANDARD
BEGIN:DAYLIGHT
TZOFFSETFROM:-0800
TZOFFSETTO:-0700
TZNAME:PDT
DTSTART:20250309T100000
END:DAYLIGHT
BEGIN:STANDARD
TZOFFSETFROM:-0700
TZOFFSETTO:-0800
TZNAME:PST
DTSTART:20251102T090000
END:STANDARD
BEGIN:DAYLIGHT
TZOFFSETFROM:-0800
TZOFFSETTO:-0700
TZNAME:PDT
DTSTART:20260308T100000
END:DAYLIGHT
BEGIN:STANDARD
TZOFFSETFROM:-0700
TZOFFSETTO:-0800
TZNAME:PST
DTSTART:20261101T090000
END:STANDARD
END:VTIMEZONE
BEGIN:VEVENT
DTSTART;TZID=America/Los_Angeles:20251007T183000
DTEND;TZID=America/Los_Angeles:20251007T203000
DTSTAMP:20260422T153007
CREATED:20251002T020400Z
LAST-MODIFIED:20251107T221534Z
UID:10000199-1759861800-1759869000@www.rcbo.org
SUMMARY:Tapas & Theology
DESCRIPTION:All women 18+ are invited to Tapas & Theology at Four Sons Brewery in Huntington Beach for food and fellowship! Tapas & Theology is for women who want to share their faith life in a fun and relaxed atmosphere. The evenings include casual conversation\, a speaker\, and small group discussion. \nLearn more:: \nWe kindly ask that you RSVP for this event on our website. Visit ssj.org for more info. Contact Reanna Liebl with any questions.
URL:https://www.rcbo.org/event/tapas-theology-2/
LOCATION:California
CATEGORIES:Young Adult Ministry
END:VEVENT
BEGIN:VEVENT
DTSTART;TZID=America/Los_Angeles:20251007T193000
DTEND;TZID=America/Los_Angeles:20251007T203000
DTSTAMP:20260422T153007
CREATED:20251002T015300Z
LAST-MODIFIED:20251107T221533Z
UID:10000198-1759865400-1759869000@www.rcbo.org
SUMMARY:Bible Study
DESCRIPTION:All are invited to join us in the Parish Hall to pray through\, discuss and study the upcoming Sunday Gospel reading. No previous experience or knowledge of the Bible is necessary! \nLearn more:: \nContact Matt Zemanek at mzemanek@st-timsrc.org for information or visit www.st-timsrc.org/adults
URL:https://www.rcbo.org/event/bible-study-24/
LOCATION:California
CATEGORIES:Parish Events
END:VEVENT
BEGIN:VEVENT
DTSTART;TZID=America/Los_Angeles:20251008T190000
DTEND;TZID=America/Los_Angeles:20251008T210000
DTSTAMP:20260422T153007
CREATED:20250925T014200Z
LAST-MODIFIED:20251107T221534Z
UID:10000200-1759950000-1759957200@www.rcbo.org
SUMMARY:"Why the Catholic Church?" by Fr. Robert Spitzer
DESCRIPTION:  \nVisit stcecilia.org for more information.
URL:https://www.rcbo.org/event/why-the-catholic-church-by-fr-robert-spitzer/
LOCATION:California
CATEGORIES:Parish Events
ATTACH;FMTTYPE=image/jpeg:https://www.rcbo.org/wp-content/uploads/2025/11/Fr.-Robert-Spitzer-1.jpg
END:VEVENT
BEGIN:VEVENT
DTSTART;TZID=America/Los_Angeles:20251008T190000
DTEND;TZID=America/Los_Angeles:20251008T210000
DTSTAMP:20260422T153007
CREATED:20250926T054400Z
LAST-MODIFIED:20251107T221534Z
UID:10000201-1759950000-1759957200@www.rcbo.org
SUMMARY:Father Robert Spitzer\, Talk: 'Why the Catholic Church"?
DESCRIPTION:
URL:https://www.rcbo.org/event/father-robert-spitzer-talk-why-the-catholic-church/
LOCATION:California
CATEGORIES:Parish Events
ATTACH;FMTTYPE=image/jpeg:https://www.rcbo.org/wp-content/uploads/2025/11/SC-Weekend-Slides-ENGLISH-20.jpg
END:VEVENT
BEGIN:VEVENT
DTSTART;TZID=America/Los_Angeles:20251009T190000
DTEND;TZID=America/Los_Angeles:20251009T210000
DTSTAMP:20260422T153007
CREATED:20251002T035600Z
LAST-MODIFIED:20251107T221534Z
UID:10000202-1760036400-1760043600@www.rcbo.org
SUMMARY:UNITY NIGHT
DESCRIPTION:Event Description: \nAn ecumenical night of praise and worship for all young adults in orange county! Everyone is welcome! Bring your parents and families! \nLearn more:: \nContact abusa@coscp.org for more info.
URL:https://www.rcbo.org/event/unity-night-2/
LOCATION:California
CATEGORIES:Parish Events,Young Adult Ministry
END:VEVENT
BEGIN:VEVENT
DTSTART;TZID=America/Los_Angeles:20251010T080000
DTEND;TZID=America/Los_Angeles:20251012T180000
DTSTAMP:20260422T153007
CREATED:20250802T011000Z
LAST-MODIFIED:20251107T221535Z
UID:10000203-1760083200-1760292000@www.rcbo.org
SUMMARY:Beginning Experience Weekend for Widowed and Divorced Catholics
DESCRIPTION:Beginning Experience\n\nBeginning Experience \nWeekend of Healing for Widowed and Divorced Catholics \nIf you are grieving the loss of your marriage through death\, divorce or separation\, join us at the Pro Sanctity Spirituality Center in Fullerton\, October 10th – 12th. A trained team leads participants through a healing and growth program. If you are ready to move through your feelings of grief\, into the light of a new beginning and hope\, this weekend may be for you. The Weekend is Catholic in focus but is open to other people of faith. Contact Kim at (714)336-3221 or Melissa (bilingual\, Spanish) at (949)697-3352 for more information. Early registration is encouraged. \nBeginning Experience Weekend Fall 2025 Flyer
URL:https://www.rcbo.org/event/beginning-experience-weekend-for-widowed-and-divorced-catholics/
LOCATION:California
CATEGORIES:Marriage
ATTACH;FMTTYPE=image/jpeg:https://www.rcbo.org/wp-content/uploads/2025/11/Beginning-Experience.jpg
END:VEVENT
BEGIN:VEVENT
DTSTART;TZID=America/Los_Angeles:20251010T080000
DTEND;TZID=America/Los_Angeles:20251012T180000
DTSTAMP:20260422T153007
CREATED:20250903T075900Z
LAST-MODIFIED:20251107T221535Z
UID:10000204-1760083200-1760292000@www.rcbo.org
SUMMARY:Beginning Experience Weekend for Widowed and Divorced Catholics
DESCRIPTION:If you are grieving the loss of your marriage through death\, divorce or separation\, join us at the Pro Sanctity Spirituality Center in Fullerton\, October 10th – 12th. A trained team leads participants through a healing and growth program. If you are ready to move through your feelings of grief\, into the light of a new beginning and hope\, this weekend may be for you. The Weekend is Catholic in focus but is open to other people of faith. Contact Kim at (714)336-3221 or Melissa (bilingual\, Spanish) at (949)697-3352 for more information. Early registration is encouraged. \nCarol @ 714 349-9177\, Kim @ 714 336-3221 or Melissa @ 949 697-3352 \nCopy of Beginning Experience Weekend Flyer Oct 2025 copy
URL:https://www.rcbo.org/event/beginning-experience-weekend-for-widowed-and-divorced-catholics-2/
LOCATION:California
CATEGORIES:Diocese of Orange,Marriage
END:VEVENT
BEGIN:VEVENT
DTSTART;TZID=America/Los_Angeles:20251011T180000
DTEND;TZID=America/Los_Angeles:20251011T200000
DTSTAMP:20260422T153007
CREATED:20251002T040100Z
LAST-MODIFIED:20251107T221535Z
UID:10000205-1760205600-1760212800@www.rcbo.org
SUMMARY:Conversations in the Spirit
DESCRIPTION:A space for youth adults to listen\, reflect and speak from the heart about your participation in the Synodal Church. \nThe Conversation in the Spirit model has been recommended for Synodal consultations as part of the Synod on Synodality and was used by the Synod delegates at the first session of the Synod General Assembly in Rome\, in October 2023. \n  \nAll Catholic faith communities have been encouraged to learn\, practice and share this discernment model of encounter\, active listening\, shared silence and collaborative discernment of the Spirit as an integral step in promoting wider participation\, deeper communion and increased attention on the Gospel mission and the presence of the living Spirit of God in all those who gather in the name of Christ. \nThe results of the Conversations will be sent to the General Secretariat of the \nSynod. \nhttps://shorturl.at/5YXfb \n 
URL:https://www.rcbo.org/event/conversations-in-the-spirit/
LOCATION:California
END:VEVENT
BEGIN:VEVENT
DTSTART;TZID=America/Los_Angeles:20251013T193000
DTEND;TZID=America/Los_Angeles:20251013T203000
DTSTAMP:20260422T153007
CREATED:20251002T020900Z
LAST-MODIFIED:20251107T221536Z
UID:10000206-1760383800-1760387400@www.rcbo.org
SUMMARY:Bible Study
DESCRIPTION:All are invited to join us in the Parish Hall to pray through\, discuss and study the upcoming Sunday Gospel reading. No previous experience or knowledge of the Bible is necessary! \nLearn more:: \nContact Matt Zemanek at mzemanek@st-timsrc.org for information or visit www.st-timsrc.org/adults
URL:https://www.rcbo.org/event/bible-study-25/
LOCATION:California
CATEGORIES:Parish Events
END:VEVENT
BEGIN:VEVENT
DTSTART;TZID=America/Los_Angeles:20251014T183000
DTEND;TZID=America/Los_Angeles:20251014T203000
DTSTAMP:20260422T153007
CREATED:20251002T035300Z
LAST-MODIFIED:20251107T221539Z
UID:10000208-1760466600-1760473800@www.rcbo.org
SUMMARY:Tacos & Theology
DESCRIPTION:All men 18+ are invited to Tacos & Theology at Four Sons Brewery in Huntington Beach for food and fellowship! Tacos & Theology is for men who want to share their faith life in a fun and relaxed atmosphere. The evenings include casual conversation\, a speaker\, and small group discussion. \nLearn more:: \nWe kindly ask that you RSVP for this event on our website. Visit ssj.org for more info. Contact Andrew Watson with any questions.
URL:https://www.rcbo.org/event/tacos-theology-2/
LOCATION:California
CATEGORIES:Young Adult Ministry
END:VEVENT
BEGIN:VEVENT
DTSTART;TZID=America/Los_Angeles:20251014T190000
DTEND;TZID=America/Los_Angeles:20251014T210000
DTSTAMP:20260422T153007
CREATED:20251002T035400Z
LAST-MODIFIED:20251107T221539Z
UID:10000209-1760468400-1760475600@www.rcbo.org
SUMMARY:Game Night & Tacos!
DESCRIPTION:Event Description: \nBoard Game Night & Tacos \nLearn more:: \nFollow us on IG: @holytrinityyoungadults
URL:https://www.rcbo.org/event/game-night-tacos/
LOCATION:California
CATEGORIES:Parish Events
END:VEVENT
BEGIN:VEVENT
DTSTART;TZID=America/Los_Angeles:20251014T193000
DTEND;TZID=America/Los_Angeles:20251014T203000
DTSTAMP:20260422T153007
CREATED:20251002T015500Z
LAST-MODIFIED:20251107T221538Z
UID:10000207-1760470200-1760473800@www.rcbo.org
SUMMARY:Bible Study
DESCRIPTION:All are invited to join us in the Parish Hall to pray through\, discuss and study the upcoming Sunday Gospel reading. No previous experience or knowledge of the Bible is necessary! \nLearn more:: \nContact Matt Zemanek at mzemanek@st-timsrc.org for information or visit www.st-timsrc.org/adults
URL:https://www.rcbo.org/event/bible-study-26/
LOCATION:California
CATEGORIES:Parish Events
END:VEVENT
BEGIN:VEVENT
DTSTART;TZID=America/Los_Angeles:20251015T080000
DTEND;TZID=America/Los_Angeles:20251015T180000
DTSTAMP:20260422T153007
CREATED:20251014T003900Z
LAST-MODIFIED:20251107T221539Z
UID:10000210-1760515200-1760551200@www.rcbo.org
SUMMARY:The Cross of Gratitude
DESCRIPTION:The Cross of Gratitude will be in residence at Annunciation Byzantine Catholic Church\, 995 N. West St.\, Anaheim\, CA 92801\, as it tours the world. This is also a Jubilee Church site\, so it is extra special. Please join us to pray for peace and unity. \nNicole 714-533-6292 \n Cross of Gratitude Schedule 2025 jpeg 2
URL:https://www.rcbo.org/event/the-cross-of-gratitude/
LOCATION:California
CATEGORIES:Evangelization,Parish Events
ATTACH;FMTTYPE=image/jpeg:https://www.rcbo.org/wp-content/uploads/2025/11/Cross-of-Gratitude-Schedule-2025-jpeg-2.jpeg
END:VEVENT
BEGIN:VEVENT
DTSTART;TZID=America/Los_Angeles:20251016T190000
DTEND;TZID=America/Los_Angeles:20251016T210000
DTSTAMP:20260422T153007
CREATED:20251002T020600Z
LAST-MODIFIED:20251107T221540Z
UID:10000211-1760641200-1760648400@www.rcbo.org
SUMMARY:Volleyball Night
DESCRIPTION:Volleyball Night \nJoin us for Volleyball and fellowship! \nLearn more:: \nDM us on Instagram @st.norbertya or email us st.norbertya@gmail.com for more information.
URL:https://www.rcbo.org/event/volleyball-night-2/
LOCATION:California
CATEGORIES:Parish Events,Young Adult Ministry
END:VEVENT
BEGIN:VEVENT
DTSTART;TZID=America/Los_Angeles:20251017T194500
DTEND;TZID=America/Los_Angeles:20251017T213000
DTSTAMP:20260422T153007
CREATED:20251002T035800Z
LAST-MODIFIED:20251107T221540Z
UID:10000212-1760730300-1760736600@www.rcbo.org
SUMMARY:Journey through the Bible w/ Fr Tim
DESCRIPTION:Event Description: \nBible Study with Fr Tim on different books on the Old Testament! \nLearn more:: \nQuestions? Call 714-751-5335 and ask for Jessica IHM Wayfarers in Hope YA ministry coordinator at IHM or email: jmarin@ihmsantaana.org
URL:https://www.rcbo.org/event/journey-through-the-bible-w-fr-tim-2/
LOCATION:California
CATEGORIES:Parish Events,Young Adult Ministry
END:VEVENT
BEGIN:VEVENT
DTSTART;TZID=America/Los_Angeles:20251018T080000
DTEND;TZID=America/Los_Angeles:20251018T180000
DTSTAMP:20260422T153007
CREATED:20241123T063600Z
LAST-MODIFIED:20251107T221540Z
UID:10000213-1760774400-1760810400@www.rcbo.org
SUMMARY:I AM CONGRESS 2025
DESCRIPTION:Saturday\, October 18 \nSave the date for the 2025 Diocese of Orange Eucharistic Congress. More information coming soon.
URL:https://www.rcbo.org/event/i-am-congress-2025/
LOCATION:California
CATEGORIES:Diocese of Orange,Eucharistic Revival,Evangelization
END:VEVENT
BEGIN:VEVENT
DTSTART;TZID=America/Los_Angeles:20251019T090000
DTEND;TZID=America/Los_Angeles:20251019T140000
DTSTAMP:20260422T153007
CREATED:20251001T035900Z
LAST-MODIFIED:20251107T221540Z
UID:10000214-1760864400-1760882400@www.rcbo.org
SUMMARY:Community Resource Fair-St. Norbert Catholic Church
DESCRIPTION:27th Sun.-OT-Bible Study-Oct. 1-Adults-CC \n 
URL:https://www.rcbo.org/event/community-resource-fair-st-norbert-catholic-church/
LOCATION:California
CATEGORIES:Parish Events
END:VEVENT
BEGIN:VEVENT
DTSTART;TZID=America/Los_Angeles:20251019T150000
DTEND;TZID=America/Los_Angeles:20251019T160000
DTSTAMP:20260422T153007
CREATED:20251017T030400Z
LAST-MODIFIED:20251107T221541Z
UID:10000215-1760886000-1760889600@www.rcbo.org
SUMMARY:Healthcare & Mental Health Providers Annual White Mass
DESCRIPTION:https://media.rcbo.org/s/o/oaTHj00tXp6NuxK4 \nThe Diocese of Orange welcomes all \nthose who work in the healthcare \nand mental health fields to attend \nwith their families and receive a \nspecial blessing. Awards and \ncocktail reception to follow the Mass. \nThe White Mass dates back to the \nlate 1800s and is held often near \nOctober 18\, the feast day of St. \nLuke the Evangelist\, the patron \nsaint of physicians and surgeons. \nThe Healthcare Professional Mass \nis traditionally known as the “White \nMass” because of the white lab \ncoats worn by many who work in \nthe healthcare profession. \nSunday\, October 19 \n3:00pm \nChrist Cathedral Arboretum \nRSVP here: https://forms.office.com/r/KVQ764wpQu \n  \nrfreeman@rcbo.org
URL:https://www.rcbo.org/event/healthcare-mental-health-providers-annual-white-mass/
LOCATION:California
CATEGORIES:Pastoral Center
END:VEVENT
BEGIN:VEVENT
DTSTART;TZID=America/Los_Angeles:20251020T193000
DTEND;TZID=America/Los_Angeles:20251020T203000
DTSTAMP:20260422T153007
CREATED:19700101T080000Z
LAST-MODIFIED:20251107T221541Z
UID:10000216-1760988600-1760992200@www.rcbo.org
SUMMARY:Bible Study
DESCRIPTION:All are invited to join us in the Parish Hall to pray through\, discuss and study the upcoming Sunday Gospel reading. No previous experience or knowledge of the Bible is necessary! \nLearn more:: \nContact Matt Zemanek at mzemanek@st-timsrc.org for information or visit www.st-timsrc.org/adults
URL:https://www.rcbo.org/event/bible-study-27/
LOCATION:California
CATEGORIES:Parish Events
END:VEVENT
BEGIN:VEVENT
DTSTART;TZID=America/Los_Angeles:20251021T193000
DTEND;TZID=America/Los_Angeles:20251021T203000
DTSTAMP:20260422T153007
CREATED:20251002T020100Z
LAST-MODIFIED:20251107T221541Z
UID:10000217-1761075000-1761078600@www.rcbo.org
SUMMARY:Bible Study
DESCRIPTION:All are invited to join us in the Parish Hall to pray through\, discuss and study the upcoming Sunday Gospel reading. No previous experience or knowledge of the Bible is necessary! \nLearn more:: \nContact Matt Zemanek at mzemanek@st-timsrc.org for information or visit www.st-timsrc.org/adults
URL:https://www.rcbo.org/event/bible-study-28/
LOCATION:California
CATEGORIES:Parish Events
END:VEVENT
BEGIN:VEVENT
DTSTART;TZID=America/Los_Angeles:20251022T090000
DTEND;TZID=America/Los_Angeles:20251119T100000
DTSTAMP:20260422T153007
CREATED:20251008T031800Z
LAST-MODIFIED:20251107T221541Z
UID:10000218-1761123600-1763546400@www.rcbo.org
SUMMARY:Parish Evangelization Workshops
DESCRIPTION:We are excited to announce the launch of the Parish Evangelization Workshops at the Christ Cathedral Pastoral Center! These dynamic gatherings are designed to equip pastors and parish leadership teams with practical tools\, shared language\, and a unified vision to move our parishes from maintenance to mission. With engaging presentations\, collaborative exercises\, and a focus on real parish needs\, these workshops will provide both inspiration and practical steps for building missionary disciples in your community. \nBecause your parish is already connected to the Lumen Christi School of Evangelization\, you are receiving priority access to register. Space is limited to five parish teams per workshop date\, so we encourage you to reserve your spot soon. Workshops will be offered in English at this time\, with Spanish sessions planned for the near future. Don’t miss this opportunity to strengthen your parish’s evangelizing mission and join other leaders committed to renewal across the Diocese! \nLearn more:: \nContact Martha Arenas: marenas@rcbo.org
URL:https://www.rcbo.org/event/parish-evangelization-workshops/
LOCATION:California
CATEGORIES:Christ Cathedral Campus,Parish Events
END:VEVENT
BEGIN:VEVENT
DTSTART;TZID=America/Los_Angeles:20251023T200000
DTEND;TZID=America/Los_Angeles:20251023T200000
DTSTAMP:20260422T153007
CREATED:20251002T034800Z
LAST-MODIFIED:20251107T221542Z
UID:10000219-1761249600-1761249600@www.rcbo.org
SUMMARY:Bible Study
DESCRIPTION:Join us for our bible study on that Sunday’s readings!
URL:https://www.rcbo.org/event/bible-study-29/
LOCATION:California
CATEGORIES:Parish Events
END:VEVENT
BEGIN:VEVENT
DTSTART;TZID=America/Los_Angeles:20251024T080000
DTEND;TZID=America/Los_Angeles:20251026T180000
DTSTAMP:20260422T153007
CREATED:20250918T001700Z
LAST-MODIFIED:20251107T221542Z
UID:10000220-1761292800-1761501600@www.rcbo.org
SUMMARY:Retiro de La Busqueda de Cristo
DESCRIPTION:Oct 24
URL:https://www.rcbo.org/event/retiro-de-la-busqueda-de-cristo/
LOCATION:California
CATEGORIES:Evangelization,Parish Events,Young Adult Ministry
ATTACH;FMTTYPE=image/png:https://www.rcbo.org/wp-content/uploads/2025/11/Oct-24.png
END:VEVENT
BEGIN:VEVENT
DTSTART;TZID=America/Los_Angeles:20251024T194500
DTEND;TZID=America/Los_Angeles:20251024T213000
DTSTAMP:20260422T153007
CREATED:20251002T035900Z
LAST-MODIFIED:20251107T221542Z
UID:10000221-1761335100-1761341400@www.rcbo.org
SUMMARY:Journey through the Bible w/ Fr Tim
DESCRIPTION:Event Description: \nBible Study with Fr Tim on different books on the Old Testament! \nLearn more:: \nQuestions? Call 714-751-5335 and ask for Jessica IHM Wayfarers in Hope YA ministry coordinator at IHM or email: jmarin@ihmsantaana.org
URL:https://www.rcbo.org/event/journey-through-the-bible-w-fr-tim-3/
LOCATION:California
CATEGORIES:Parish Events,Young Adult Ministry
END:VEVENT
BEGIN:VEVENT
DTSTART;TZID=America/Los_Angeles:20251025T090000
DTEND;TZID=America/Los_Angeles:20251025T170000
DTSTAMP:20260422T153007
CREATED:20251001T040100Z
LAST-MODIFIED:20251107T221543Z
UID:10000222-1761382800-1761411600@www.rcbo.org
SUMMARY:Post Women’s Annual Retreat
DESCRIPTION:Screenshot\n\nHoly Family Church Women’s Retreat \nAbide in Me: Resting\, Growing\, & Bearing Fruit \nSaturday\, October 25th\, 9:00 a.m. – 5:00 p.m. \n566 South Glassell Street\, Orange\, CA\nJoin us as we step into a spiritual garden for a beautiful day of prayer & fellowship\, & discover what it means to abide in Christ–resting in His love\, growing in faith\, & bearing everlasting fruit as beloved daughters of God. \nOur retreat will feature inspiring talks by: \nFr. Sy Nguyen\, Pastor\, Holy Family Church; \nFr. Alan Benander\, O. Praem\, St. Michael’s Abbey; \nFlorencia Moynihan\, The Catholic Nutritionist; & \nuplifting music by Matt Franklin\, Solano Church. \nWe will close with Mass & go forth rooted in Christ’s life-giving garden. \nCheck in at 8:30 a.m. Our retreat starts at 9:00 a.m. & concludes at 5:00 p.m.\, following the Vigil Mass & special blessing. \nRegistration Fee is $75.00 with a lite breakfast & full lunch included. \nEarly bird sign-ups @ $60.00 before September 27th! Registration closes October 20th. \nhttps://signup.com/mobileweb/2.0/vspot.html?activitykey=42545842086#choose_jobs_page \nWomen’s Retreat Registration Link: https://signup.com/mobileweb/2.0/vspot.html?activitykey=42545842086#choose_jobs_page
URL:https://www.rcbo.org/event/post-womens-annual-retreat/
LOCATION:California
CATEGORIES:Parish Events
ATTACH;FMTTYPE=image/jpeg:https://www.rcbo.org/wp-content/uploads/2025/11/IMG_0023.jpeg
END:VEVENT
BEGIN:VEVENT
DTSTART;TZID=America/Los_Angeles:20251027T193000
DTEND;TZID=America/Los_Angeles:20251027T203000
DTSTAMP:20260422T153007
CREATED:20251002T034900Z
LAST-MODIFIED:20251107T221543Z
UID:10000223-1761593400-1761597000@www.rcbo.org
SUMMARY:Bible Study
DESCRIPTION:All are invited to join us in the Parish Hall to pray through\, discuss and study the upcoming Sunday Gospel reading. No previous experience or knowledge of the Bible is necessary! \nLearn more:: \nContact Matt Zemanek at mzemanek@st-timsrc.org for information or visit www.st-timsrc.org/adults
URL:https://www.rcbo.org/event/bible-study-30/
LOCATION:California
CATEGORIES:Parish Events
END:VEVENT
BEGIN:VEVENT
DTSTART;TZID=America/Los_Angeles:20251028T190000
DTEND;TZID=America/Los_Angeles:20251028T203000
DTSTAMP:20260422T153007
CREATED:20251002T040200Z
LAST-MODIFIED:20251107T221544Z
UID:10000226-1761678000-1761683400@www.rcbo.org
SUMMARY:Memento Mori
DESCRIPTION:Event Description: \nCome and join us to learn\, eat\, and pray in celebration of the Mexican Tradition of Dia de Los Muertos! Feel free to bring a picture of a loved one to add to our Altar de Muertos for the night. \nLearn more:: \nFollow us on instagram @holytrinityyoungadults
URL:https://www.rcbo.org/event/memento-mori/
LOCATION:California
CATEGORIES:Young Adult Ministry
END:VEVENT
BEGIN:VEVENT
DTSTART;TZID=America/Los_Angeles:20251028T190000
DTEND;TZID=America/Los_Angeles:20251028T210000
DTSTAMP:20260422T153007
CREATED:20251002T035500Z
LAST-MODIFIED:20251107T221544Z
UID:10000225-1761678000-1761685200@www.rcbo.org
SUMMARY:Hope: Testimony Night
DESCRIPTION:Event Description: \nXLT Testimony Night \nLearn more:: \nFollow us on IG: @holytrinityyoungadults
URL:https://www.rcbo.org/event/hope-testimony-night/
LOCATION:California
CATEGORIES:Parish Events,Young Adult Ministry
END:VEVENT
BEGIN:VEVENT
DTSTART;TZID=America/Los_Angeles:20251028T193000
DTEND;TZID=America/Los_Angeles:20251028T203000
DTSTAMP:20260422T153007
CREATED:20251002T020200Z
LAST-MODIFIED:20251107T221543Z
UID:10000224-1761679800-1761683400@www.rcbo.org
SUMMARY:Bible Study
DESCRIPTION:All are invited to join us in the Parish Hall to pray through\, discuss and study the upcoming Sunday Gospel reading. No previous experience or knowledge of the Bible is necessary! \nLearn more:: \nContact Matt Zemanek at mzemanek@st-timsrc.org for information or visit www.st-timsrc.org/adults
URL:https://www.rcbo.org/event/bible-study-31/
LOCATION:California
CATEGORIES:Parish Events
END:VEVENT
BEGIN:VEVENT
DTSTART;TZID=America/Los_Angeles:20251030T190000
DTEND;TZID=America/Los_Angeles:20251030T210000
DTSTAMP:20260422T153007
CREATED:20251002T035200Z
LAST-MODIFIED:20251107T221546Z
UID:10000227-1761850800-1761858000@www.rcbo.org
SUMMARY:Pumpkin Carving
DESCRIPTION:Bring your own pumpkin to carve/decorate! Carving supplies will be provided.
URL:https://www.rcbo.org/event/pumpkin-carving/
LOCATION:California
CATEGORIES:Parish Events,Young Adult Ministry
END:VEVENT
END:VCALENDAR