BEGIN:VCALENDAR
VERSION:2.0
PRODID:-//Roman Catholic Diocese of Orange - ECPv6.15.17.1//NONSGML v1.0//EN
CALSCALE:GREGORIAN
METHOD:PUBLISH
X-WR-CALNAME:Roman Catholic Diocese of Orange
X-ORIGINAL-URL:https://www.rcbo.org
X-WR-CALDESC:Events for Roman Catholic Diocese of Orange
REFRESH-INTERVAL;VALUE=DURATION:PT1H
X-Robots-Tag:noindex
X-PUBLISHED-TTL:PT1H
BEGIN:VTIMEZONE
TZID:America/Los_Angeles
BEGIN:DAYLIGHT
TZOFFSETFROM:-0800
TZOFFSETTO:-0700
TZNAME:PDT
DTSTART:20240310T100000
END:DAYLIGHT
BEGIN:STANDARD
TZOFFSETFROM:-0700
TZOFFSETTO:-0800
TZNAME:PST
DTSTART:20241103T090000
END:STANDARD
BEGIN:DAYLIGHT
TZOFFSETFROM:-0800
TZOFFSETTO:-0700
TZNAME:PDT
DTSTART:20250309T100000
END:DAYLIGHT
BEGIN:STANDARD
TZOFFSETFROM:-0700
TZOFFSETTO:-0800
TZNAME:PST
DTSTART:20251102T090000
END:STANDARD
BEGIN:DAYLIGHT
TZOFFSETFROM:-0800
TZOFFSETTO:-0700
TZNAME:PDT
DTSTART:20260308T100000
END:DAYLIGHT
BEGIN:STANDARD
TZOFFSETFROM:-0700
TZOFFSETTO:-0800
TZNAME:PST
DTSTART:20261101T090000
END:STANDARD
END:VTIMEZONE
BEGIN:VEVENT
DTSTART;TZID=America/Los_Angeles:20250920T080000
DTEND;TZID=America/Los_Angeles:20250927T180000
DTSTAMP:20260422T152833
CREATED:20250821T001100Z
LAST-MODIFIED:20251107T221525Z
UID:10000185-1758355200-1758996000@www.rcbo.org
SUMMARY:2025 Week of Service in Our Neighborhoods
DESCRIPTION:For 10 years\, we have gone into our neighborhoods to serve and address needs\, just as our founding Sisters did 375 years ago in Le Puy\, France. This year\, we will tend to community gardens\, clean up riverbeds\, cook and serve meals\, pack food boxes\, clean for families\, build community\, support unhoused families\, and so much more! \nIn the early years of the beginning of the Sisters of St. Joseph in France around 1650\, the Sisters gathered in 3’s or 4’s to live in community and to serve the needs of the “dear neighbor” around them. They would go out into the neighborhood and seek out those in need and do their best to meet the needs of the poor. When they returned to their houses in the evening\, they would sit around the fireplace in the kitchen while making lace and they would share what was in their hearts\, where they had encountered God’s presence in their ministry that day. \nToday\, we stand on their shoulders\, guided by their support and wisdom\, in moving forward their mission in serving our “dear neighbor.” \nLearn more and register at https://bit.ly/wos-2025 \n2025 Week of Service flyer
URL:https://www.rcbo.org/event/2025-week-of-service-in-our-neighborhoods/
LOCATION:California
CATEGORIES:Life, Justice and Peace
END:VEVENT
BEGIN:VEVENT
DTSTART;TZID=America/Los_Angeles:20250920T090000
DTEND;TZID=America/Los_Angeles:20250920T160000
DTSTAMP:20260422T152833
CREATED:20241002T024900Z
LAST-MODIFIED:20251107T221525Z
UID:10000183-1758358800-1758384000@www.rcbo.org
SUMMARY:Anaheim Craft & Vintage Fair 2025
DESCRIPTION:  \n*More than 30 unique vendors *No multi-level marketers *Vintage Sellers *No entrance fee for shoppers *Convenient parking *Great food for sale *Bake sale\, with jam and jelly *Handicapped accessible \nAnaheimcraftfair@gmail.com \nhttps://www.annunciationbyzantine.org
URL:https://www.rcbo.org/event/anaheim-craft-vintage-fair-2025/
LOCATION:California
CATEGORIES:Parish Events,RCBO Parishes
ATTACH;FMTTYPE=image/jpeg:https://www.rcbo.org/wp-content/uploads/2025/11/Anaheim-Craft-Fair-Cropped-Church-flier-2025-jpeg-.jpg
END:VEVENT
BEGIN:VEVENT
DTSTART;TZID=America/Los_Angeles:20250922T190000
DTEND;TZID=America/Los_Angeles:20250922T200000
DTSTAMP:20260422T152833
CREATED:20250918T002200Z
LAST-MODIFIED:20251107T221525Z
UID:10000186-1758567600-1758571200@www.rcbo.org
SUMMARY:Presentation About Grief
DESCRIPTION:
URL:https://www.rcbo.org/event/presentation-about-grief/
LOCATION:California
CATEGORIES:Parish Events
ATTACH;FMTTYPE=image/jpeg:https://www.rcbo.org/wp-content/uploads/2025/11/Emmanuel-Grp-ECruz.jpg
END:VEVENT
BEGIN:VEVENT
DTSTART;TZID=America/Los_Angeles:20250925T183000
DTEND;TZID=America/Los_Angeles:20250925T203000
DTSTAMP:20260422T152833
CREATED:20250821T013800Z
LAST-MODIFIED:20251107T221529Z
UID:10000187-1758825000-1758832200@www.rcbo.org
SUMMARY:Tapas & Theology
DESCRIPTION:  \nAll women 18+ are invited to Tapas & Theology at 4 Son’s Brewery in Huntington Beach for food and fellowship! Tapas & Theology is for women who want to share their faith life in a fun and relaxed atmosphere. The evenings include casual conversation\, a speaker\, and small group discussion. \nWe kindly ask that you RSVP for this event on our website. Visit ssj.org for more info. Contact Reanna Liebl with any questions.
URL:https://www.rcbo.org/event/tapas-theology/
LOCATION:California
CATEGORIES:Parish Events,Young Adult Ministry
ATTACH;FMTTYPE=image/jpeg:https://www.rcbo.org/wp-content/uploads/2025/11/TapasLogo-Ally-Karpie.jpg
END:VEVENT
BEGIN:VEVENT
DTSTART;TZID=America/Los_Angeles:20250926T180000
DTEND;TZID=America/Los_Angeles:20250926T210000
DTSTAMP:20260422T152833
CREATED:20250821T031300Z
LAST-MODIFIED:20251107T221529Z
UID:10000188-1758909600-1758920400@www.rcbo.org
SUMMARY:Catholic Speed Dating
DESCRIPTION:Looking to meet someone with the same faith and values? You’re more than a profile. It’s time for a fresh approach. \nThe night of the event you’ll show up at the hosting venue early so we can get everyone situated and checked in before the event starts. You’ll be greeted by the event hosts who will welcome you\, explain the structure of the event\, and answer any remaining questions before kicking things off. You’ll also be given an oh-so-important match card that you’ll use to indicate interest in anyone you’d like to get to know further. As the evening progresses\, you’ll engage in a series of short conversations with eligible singles of the opposite gender. A typical event involves 10-15 conversations\, with each one lasting 6 minutes. There’s a 30-second buffer in between each session to allow for wrapping up conversations and for the men to rotate to the next table. There’s also a 10-minute break at the midpoint of the event. Altogether\, the event runs for approximately 2 hours. \nAfter the event\, everyone’s match cards are collected. After we’ve tabulated everyone’s match preferences\, we’ll send each participant a personalized email with their results. When mutual interest is indicated\, we send both participants the other’s contact information\, and you take it from there. Results can vary from multiple matches to a single match\, to none at all\, depending on the individual responses of everyone involved. \nRegister at https://docs.google.com/forms/d/e/1FAIpQLScYq_VQeUtQv1ca7jybY5a5NRR05cdHG4i3A7L_ZOd89 \nCOS Catholic Speed Dating
URL:https://www.rcbo.org/event/catholic-speed-dating/
LOCATION:California
CATEGORIES:Young Adult Ministry
END:VEVENT
BEGIN:VEVENT
DTSTART;TZID=America/Los_Angeles:20250927T090000
DTEND;TZID=America/Los_Angeles:20250927T110000
DTSTAMP:20260422T152833
CREATED:20250718T015600Z
LAST-MODIFIED:20251126T212907Z
UID:10000189-1758963600-1758970800@www.rcbo.org
SUMMARY:Camino de Creación
DESCRIPTION: \n\n 
URL:https://www.rcbo.org/event/camino-de-creacion-2/
LOCATION:California
CATEGORIES:Family Life
END:VEVENT
BEGIN:VEVENT
DTSTART;TZID=America/Los_Angeles:20250927T090000
DTEND;TZID=America/Los_Angeles:20250927T110000
DTSTAMP:20260422T152833
CREATED:20250718T015700Z
LAST-MODIFIED:20251107T221530Z
UID:10000190-1758963600-1758970800@www.rcbo.org
SUMMARY:Creation Camino
DESCRIPTION:As Pilgrims of Hope in this Jubilee Year\, we have a unique opportunity to reflect and grow in our faith. This is also the 10th anniversary of Pope Francis’ encyclical Laudato Si’ On Care for Our Common Home and the 800th anniversary of St. Francis of Assisi’s Canticle of Creation. Studies have shown that being out in nature impacts our mental and physical health and we know as people of faith\, being in Creation also brings us closer to God and one another! Our diocese joins these efforts by participating in the national Catholic Pilgrimages of Hope for Creation as we hope for a new way forward together as a world\, Church\, and family. \nCreation Camino Challenge Signup \nLooking for a fun way to reconnect to faith & family & wellness in the great outdoors? Join our Creation Camino Challenge!  \nSign up your family for either: \n\nSaturday\, September 13 at Oak Canyon Nature Center in Anaheim\nSaturday\, September 27 at Bolsa Chica Ecological Reserve in Huntington Beach.\n\nSpots are limited\, so register soon! \nREGISTER HERE \n 
URL:https://www.rcbo.org/event/creation-camino-2/
LOCATION:California
CATEGORIES:Family Life
END:VEVENT
BEGIN:VEVENT
DTSTART;TZID=America/Los_Angeles:20251001T190000
DTEND;TZID=America/Los_Angeles:20251001T203000
DTSTAMP:20260422T152833
CREATED:20250616T225300Z
LAST-MODIFIED:20251125T205139Z
UID:10000297-1759345200-1759350600@www.rcbo.org
SUMMARY:St. Timothy\, Youth and Young Adults
DESCRIPTION:Join us on the first Wednesday of every month for our parish Revival Nights! These evenings of worship\, Eucharistic Adoration and a dynamic speaker are open for all ages! Our Young adult ministry grabs In-N-Out after each event! This month’s speaker Florencia Moynihan\, also known as the Catholic Nutritionist\, will deliver an incredible testimony that is sure to move you! \nVisit www.st-timsrc.org/revivalnights for more info!
URL:https://www.rcbo.org/event/st-timothy-youth-and-young-adults/2025-10-01/
LOCATION:St. Timothy Catholic Church\, 29102 Crown Valley Parkway\, Laguna Niguel\, CA\, 92677\, United States
CATEGORIES:Eucharistic Revival,Evangelization,Parish Events,Young Adult Ministry
ATTACH;FMTTYPE=image/jpeg:https://www.rcbo.org/wp-content/uploads/2025/11/2024-0807-Revival-Night-3-Tanner-Jauregui.jpg
GEO:33.5402334;-117.693762
X-APPLE-STRUCTURED-LOCATION;VALUE=URI;X-ADDRESS=St. Timothy Catholic Church 29102 Crown Valley Parkway Laguna Niguel CA 92677 United States;X-APPLE-RADIUS=500;X-TITLE=29102 Crown Valley Parkway:geo:-117.693762,33.5402334
END:VEVENT
BEGIN:VEVENT
DTSTART;TZID=America/Los_Angeles:20251001T190000
DTEND;TZID=America/Los_Angeles:20251001T203000
DTSTAMP:20260422T152833
CREATED:20251002T035100Z
LAST-MODIFIED:20251107T221531Z
UID:10000191-1759345200-1759350600@www.rcbo.org
SUMMARY:Revival Night
DESCRIPTION:Join us for a night of worship\, adoration and a talk from Fr. Tim Grumbach! Fr. Tim Fr. Tim Grumbach is a priest of the Archdiocese of Los Angeles. For the last four years\, he has been the Chaplain of Bishop Alemany High School. He has been able to travel to offer the Sacraments and spiritual formation for different missionary movements throughout the country\, including NET Ministries\, Life Teen Missions\, FOCUS\, and Culture Project. \nLearn more:: \nVisit www.st-timsrc.org/revivalnights
URL:https://www.rcbo.org/event/revival-night-8/
LOCATION:California
CATEGORIES:Parish Events,Young Adult Ministry
END:VEVENT
BEGIN:VEVENT
DTSTART;TZID=America/Los_Angeles:20251002T190000
DTEND;TZID=America/Los_Angeles:20251002T203000
DTSTAMP:20260422T152833
CREATED:20251002T015900Z
LAST-MODIFIED:20251107T221531Z
UID:10000192-1759431600-1759437000@www.rcbo.org
SUMMARY:Revival Night
DESCRIPTION:These nights of Eucharistic adoration\, praise and worship\, and encounter with our Lord are for all ages. Whether your heart is on fire for the Lord\, or you don’t know who God is yet\, we invite you to open your heart and see what the Lord has in store for you! Join us on the first Wednesday of every month from 7-8:30 pm. \nLearn more:: \nVisit www.st-timsrc.org/revivalnights for more information
URL:https://www.rcbo.org/event/revival-night-9/
LOCATION:California
CATEGORIES:Parish Events
END:VEVENT
BEGIN:VEVENT
DTSTART;TZID=America/Los_Angeles:20251003T080000
DTEND;TZID=America/Los_Angeles:20251003T180000
DTSTAMP:20260422T152833
CREATED:20251002T015000Z
LAST-MODIFIED:20251107T221532Z
UID:10000194-1759478400-1759514400@www.rcbo.org
SUMMARY:Week of Service - Hygiene Kit assembly night
DESCRIPTION:Volunteers are invited to support foster and unhoused youth by packing hygiene kits for Orangewood Foundation’s toiletry distribution. Volunteers will gather at the St. Joseph Center to prepare kits and write letters of encouragement to the young people who will receive them. \nOrangewood Foundation promotes health\, wellness\, housing\, life skills\, employment\, and education to help foster youth improve or strengthen their physical\, emotional and “relational” health as first steps on the road to self-sufficiency. \nNote: Please bring donations of the following items: full size shampoo (12-20 oz)\, full size hair conditioner\, full size body wash\, toothbrushes\, and full size tubes of toothpaste. \nLearn more:: \nRSVP at bit.ly/wos2024 or contact Damaris Molina at dmolina@csjorange.org for more info.
URL:https://www.rcbo.org/event/week-of-service-hygiene-kit-assembly-night/
LOCATION:California
CATEGORIES:Young Adult Ministry
END:VEVENT
BEGIN:VEVENT
DTSTART;TZID=America/Los_Angeles:20251003T080000
DTEND;TZID=America/Los_Angeles:20251005T180000
DTSTAMP:20260422T152833
CREATED:20250723T020200Z
LAST-MODIFIED:20251107T221531Z
UID:10000193-1759478400-1759687200@www.rcbo.org
SUMMARY:Young Adult Silent Retreat (age 18-39)
DESCRIPTION:Step away from the noise of daily life and enter into a sacred space of deep listening\, stillness\, and spiritual renewal. Join us for a transformative Catholic Silent Retreat rooted in the timeless wisdom of St. Ignatius of Loyola’s Spiritual Exercises. \nOver the course of several days\, you’ll be guided through the rich tapestry of Ignatian prayer—meditation\, contemplation\, discernment\, and the Daily Examen—while wrapped in the healing embrace of silence. This retreat is not an escape\, but a sacred encounter. A time to hear God’s voice more clearly. A time to come home to your soul \nWhat to Expect: \nDaily guided meditations based on the Spiritual Exercises \nOpportunities for personal prayer and reflection \nOne-on-one spiritual direction with trained Ignatian guides \nDaily Mass and Eucharistic Adoration \nSilence in community—an atmosphere of peace and reverence \nNo prior experience required—just an open heart and a willingness to meet God in the quiet. Whether you are discerning a decision\, seeking spiritual clarity\, or simply yearning for rest\, this retreat offers a holy space to be still and know that He is God. \nCome. Be renewed. Be restored. Be transformed. \nhttps://form.jotform.com/251386772118159
URL:https://www.rcbo.org/event/young-adult-silent-retreat-age-18-39/
LOCATION:California
CATEGORIES:Young Adult Ministry
END:VEVENT
BEGIN:VEVENT
DTSTART;TZID=America/Los_Angeles:20251003T194500
DTEND;TZID=America/Los_Angeles:20251003T213000
DTSTAMP:20260422T152833
CREATED:20251002T035700Z
LAST-MODIFIED:20251107T221532Z
UID:10000195-1759520700-1759527000@www.rcbo.org
SUMMARY:Journey through the Bible w/ Fr Tim
DESCRIPTION:Event Description: \nBible Study with Fr Tim on different books on the Old Testament! \nLearn more:: \nQuestions? Call 714-751-5335 and ask for Jessica IHM Wayfarers in Hope YA ministry coordinator at IHM or email: jmarin@ihmsantaana.org
URL:https://www.rcbo.org/event/journey-through-the-bible-w-fr-tim/
LOCATION:California
CATEGORIES:Parish Events,Young Adult Ministry
END:VEVENT
BEGIN:VEVENT
DTSTART;TZID=America/Los_Angeles:20251004T190000
DTEND;TZID=America/Los_Angeles:20251004T210000
DTSTAMP:20260422T152833
CREATED:20250918T002400Z
LAST-MODIFIED:20251107T221533Z
UID:10000196-1759604400-1759611600@www.rcbo.org
SUMMARY:Sarah Hart in Concert
DESCRIPTION:  \n$40 per person \nGroup rates: groups of 10-18: $30 per person; groups of 20+: $25 per person \nDetails and tickets available here: https://www.thecsd.org/event-details/sarah-hart-concert-hallelujah-is-our-song
URL:https://www.rcbo.org/event/sarah-hart-in-concert/
LOCATION:California
CATEGORIES:Parish Events
ATTACH;FMTTYPE=image/png:https://www.rcbo.org/wp-content/uploads/2025/11/Sarah-Hart-quarter-page.png
END:VEVENT
BEGIN:VEVENT
DTSTART;TZID=America/Los_Angeles:20251006T193000
DTEND;TZID=America/Los_Angeles:20251006T203000
DTSTAMP:20260422T152833
CREATED:20251002T020800Z
LAST-MODIFIED:20251107T221533Z
UID:10000197-1759779000-1759782600@www.rcbo.org
SUMMARY:Bible Study
DESCRIPTION:All are invited to join us in the Parish Hall to pray through\, discuss and study the upcoming Sunday Gospel reading. No previous experience or knowledge of the Bible is necessary! \nLearn more:: \nContact Matt Zemanek at mzemanek@st-timsrc.org for information or visit www.st-timsrc.org/adults
URL:https://www.rcbo.org/event/bible-study-23/
LOCATION:California
CATEGORIES:Parish Events
END:VEVENT
BEGIN:VEVENT
DTSTART;TZID=America/Los_Angeles:20251007T183000
DTEND;TZID=America/Los_Angeles:20251007T203000
DTSTAMP:20260422T152833
CREATED:20251002T020400Z
LAST-MODIFIED:20251107T221534Z
UID:10000199-1759861800-1759869000@www.rcbo.org
SUMMARY:Tapas & Theology
DESCRIPTION:All women 18+ are invited to Tapas & Theology at Four Sons Brewery in Huntington Beach for food and fellowship! Tapas & Theology is for women who want to share their faith life in a fun and relaxed atmosphere. The evenings include casual conversation\, a speaker\, and small group discussion. \nLearn more:: \nWe kindly ask that you RSVP for this event on our website. Visit ssj.org for more info. Contact Reanna Liebl with any questions.
URL:https://www.rcbo.org/event/tapas-theology-2/
LOCATION:California
CATEGORIES:Young Adult Ministry
END:VEVENT
BEGIN:VEVENT
DTSTART;TZID=America/Los_Angeles:20251007T193000
DTEND;TZID=America/Los_Angeles:20251007T203000
DTSTAMP:20260422T152833
CREATED:20251002T015300Z
LAST-MODIFIED:20251107T221533Z
UID:10000198-1759865400-1759869000@www.rcbo.org
SUMMARY:Bible Study
DESCRIPTION:All are invited to join us in the Parish Hall to pray through\, discuss and study the upcoming Sunday Gospel reading. No previous experience or knowledge of the Bible is necessary! \nLearn more:: \nContact Matt Zemanek at mzemanek@st-timsrc.org for information or visit www.st-timsrc.org/adults
URL:https://www.rcbo.org/event/bible-study-24/
LOCATION:California
CATEGORIES:Parish Events
END:VEVENT
BEGIN:VEVENT
DTSTART;TZID=America/Los_Angeles:20251008T190000
DTEND;TZID=America/Los_Angeles:20251008T210000
DTSTAMP:20260422T152833
CREATED:20250925T014200Z
LAST-MODIFIED:20251107T221534Z
UID:10000200-1759950000-1759957200@www.rcbo.org
SUMMARY:"Why the Catholic Church?" by Fr. Robert Spitzer
DESCRIPTION:  \nVisit stcecilia.org for more information.
URL:https://www.rcbo.org/event/why-the-catholic-church-by-fr-robert-spitzer/
LOCATION:California
CATEGORIES:Parish Events
ATTACH;FMTTYPE=image/jpeg:https://www.rcbo.org/wp-content/uploads/2025/11/Fr.-Robert-Spitzer-1.jpg
END:VEVENT
BEGIN:VEVENT
DTSTART;TZID=America/Los_Angeles:20251008T190000
DTEND;TZID=America/Los_Angeles:20251008T210000
DTSTAMP:20260422T152833
CREATED:20250926T054400Z
LAST-MODIFIED:20251107T221534Z
UID:10000201-1759950000-1759957200@www.rcbo.org
SUMMARY:Father Robert Spitzer\, Talk: 'Why the Catholic Church"?
DESCRIPTION:
URL:https://www.rcbo.org/event/father-robert-spitzer-talk-why-the-catholic-church/
LOCATION:California
CATEGORIES:Parish Events
ATTACH;FMTTYPE=image/jpeg:https://www.rcbo.org/wp-content/uploads/2025/11/SC-Weekend-Slides-ENGLISH-20.jpg
END:VEVENT
BEGIN:VEVENT
DTSTART;TZID=America/Los_Angeles:20251009T190000
DTEND;TZID=America/Los_Angeles:20251009T210000
DTSTAMP:20260422T152833
CREATED:20251002T035600Z
LAST-MODIFIED:20251107T221534Z
UID:10000202-1760036400-1760043600@www.rcbo.org
SUMMARY:UNITY NIGHT
DESCRIPTION:Event Description: \nAn ecumenical night of praise and worship for all young adults in orange county! Everyone is welcome! Bring your parents and families! \nLearn more:: \nContact abusa@coscp.org for more info.
URL:https://www.rcbo.org/event/unity-night-2/
LOCATION:California
CATEGORIES:Parish Events,Young Adult Ministry
END:VEVENT
BEGIN:VEVENT
DTSTART;TZID=America/Los_Angeles:20251010T080000
DTEND;TZID=America/Los_Angeles:20251012T180000
DTSTAMP:20260422T152833
CREATED:20250802T011000Z
LAST-MODIFIED:20251107T221535Z
UID:10000203-1760083200-1760292000@www.rcbo.org
SUMMARY:Beginning Experience Weekend for Widowed and Divorced Catholics
DESCRIPTION:Beginning Experience \n\nBeginning Experience \nWeekend of Healing for Widowed and Divorced Catholics \nIf you are grieving the loss of your marriage through death\, divorce or separation\, join us at the Pro Sanctity Spirituality Center in Fullerton\, October 10th – 12th. A trained team leads participants through a healing and growth program. If you are ready to move through your feelings of grief\, into the light of a new beginning and hope\, this weekend may be for you. The Weekend is Catholic in focus but is open to other people of faith. Contact Kim at (714)336-3221 or Melissa (bilingual\, Spanish) at (949)697-3352 for more information. Early registration is encouraged. \nBeginning Experience Weekend Fall 2025 Flyer
URL:https://www.rcbo.org/event/beginning-experience-weekend-for-widowed-and-divorced-catholics/
LOCATION:California
CATEGORIES:Marriage
ATTACH;FMTTYPE=image/jpeg:https://www.rcbo.org/wp-content/uploads/2025/11/Beginning-Experience.jpg
END:VEVENT
BEGIN:VEVENT
DTSTART;TZID=America/Los_Angeles:20251010T080000
DTEND;TZID=America/Los_Angeles:20251012T180000
DTSTAMP:20260422T152833
CREATED:20250903T075900Z
LAST-MODIFIED:20251107T221535Z
UID:10000204-1760083200-1760292000@www.rcbo.org
SUMMARY:Beginning Experience Weekend for Widowed and Divorced Catholics
DESCRIPTION:If you are grieving the loss of your marriage through death\, divorce or separation\, join us at the Pro Sanctity Spirituality Center in Fullerton\, October 10th – 12th. A trained team leads participants through a healing and growth program. If you are ready to move through your feelings of grief\, into the light of a new beginning and hope\, this weekend may be for you. The Weekend is Catholic in focus but is open to other people of faith. Contact Kim at (714)336-3221 or Melissa (bilingual\, Spanish) at (949)697-3352 for more information. Early registration is encouraged. \nCarol @ 714 349-9177\, Kim @ 714 336-3221 or Melissa @ 949 697-3352 \nCopy of Beginning Experience Weekend Flyer Oct 2025 copy
URL:https://www.rcbo.org/event/beginning-experience-weekend-for-widowed-and-divorced-catholics-2/
LOCATION:California
CATEGORIES:Diocese of Orange,Marriage
END:VEVENT
BEGIN:VEVENT
DTSTART;TZID=America/Los_Angeles:20251011T180000
DTEND;TZID=America/Los_Angeles:20251011T200000
DTSTAMP:20260422T152833
CREATED:20251002T040100Z
LAST-MODIFIED:20251107T221535Z
UID:10000205-1760205600-1760212800@www.rcbo.org
SUMMARY:Conversations in the Spirit
DESCRIPTION:A space for youth adults to listen\, reflect and speak from the heart about your participation in the Synodal Church. \nThe Conversation in the Spirit model has been recommended for Synodal consultations as part of the Synod on Synodality and was used by the Synod delegates at the first session of the Synod General Assembly in Rome\, in October 2023. \n  \nAll Catholic faith communities have been encouraged to learn\, practice and share this discernment model of encounter\, active listening\, shared silence and collaborative discernment of the Spirit as an integral step in promoting wider participation\, deeper communion and increased attention on the Gospel mission and the presence of the living Spirit of God in all those who gather in the name of Christ. \nThe results of the Conversations will be sent to the General Secretariat of the \nSynod. \nhttps://shorturl.at/5YXfb \n 
URL:https://www.rcbo.org/event/conversations-in-the-spirit/
LOCATION:California
END:VEVENT
BEGIN:VEVENT
DTSTART;TZID=America/Los_Angeles:20251013T193000
DTEND;TZID=America/Los_Angeles:20251013T203000
DTSTAMP:20260422T152833
CREATED:20251002T020900Z
LAST-MODIFIED:20251107T221536Z
UID:10000206-1760383800-1760387400@www.rcbo.org
SUMMARY:Bible Study
DESCRIPTION:All are invited to join us in the Parish Hall to pray through\, discuss and study the upcoming Sunday Gospel reading. No previous experience or knowledge of the Bible is necessary! \nLearn more:: \nContact Matt Zemanek at mzemanek@st-timsrc.org for information or visit www.st-timsrc.org/adults
URL:https://www.rcbo.org/event/bible-study-25/
LOCATION:California
CATEGORIES:Parish Events
END:VEVENT
BEGIN:VEVENT
DTSTART;TZID=America/Los_Angeles:20251014T183000
DTEND;TZID=America/Los_Angeles:20251014T203000
DTSTAMP:20260422T152833
CREATED:20251002T035300Z
LAST-MODIFIED:20251107T221539Z
UID:10000208-1760466600-1760473800@www.rcbo.org
SUMMARY:Tacos & Theology
DESCRIPTION:All men 18+ are invited to Tacos & Theology at Four Sons Brewery in Huntington Beach for food and fellowship! Tacos & Theology is for men who want to share their faith life in a fun and relaxed atmosphere. The evenings include casual conversation\, a speaker\, and small group discussion. \nLearn more:: \nWe kindly ask that you RSVP for this event on our website. Visit ssj.org for more info. Contact Andrew Watson with any questions.
URL:https://www.rcbo.org/event/tacos-theology-2/
LOCATION:California
CATEGORIES:Young Adult Ministry
END:VEVENT
BEGIN:VEVENT
DTSTART;TZID=America/Los_Angeles:20251014T190000
DTEND;TZID=America/Los_Angeles:20251014T210000
DTSTAMP:20260422T152833
CREATED:20251002T035400Z
LAST-MODIFIED:20251107T221539Z
UID:10000209-1760468400-1760475600@www.rcbo.org
SUMMARY:Game Night & Tacos!
DESCRIPTION:Event Description: \nBoard Game Night & Tacos \nLearn more:: \nFollow us on IG: @holytrinityyoungadults
URL:https://www.rcbo.org/event/game-night-tacos/
LOCATION:California
CATEGORIES:Parish Events
END:VEVENT
BEGIN:VEVENT
DTSTART;TZID=America/Los_Angeles:20251014T193000
DTEND;TZID=America/Los_Angeles:20251014T203000
DTSTAMP:20260422T152833
CREATED:20251002T015500Z
LAST-MODIFIED:20251107T221538Z
UID:10000207-1760470200-1760473800@www.rcbo.org
SUMMARY:Bible Study
DESCRIPTION:All are invited to join us in the Parish Hall to pray through\, discuss and study the upcoming Sunday Gospel reading. No previous experience or knowledge of the Bible is necessary! \nLearn more:: \nContact Matt Zemanek at mzemanek@st-timsrc.org for information or visit www.st-timsrc.org/adults
URL:https://www.rcbo.org/event/bible-study-26/
LOCATION:California
CATEGORIES:Parish Events
END:VEVENT
BEGIN:VEVENT
DTSTART;TZID=America/Los_Angeles:20251015T080000
DTEND;TZID=America/Los_Angeles:20251015T180000
DTSTAMP:20260422T152833
CREATED:20251014T003900Z
LAST-MODIFIED:20251107T221539Z
UID:10000210-1760515200-1760551200@www.rcbo.org
SUMMARY:The Cross of Gratitude
DESCRIPTION:The Cross of Gratitude will be in residence at Annunciation Byzantine Catholic Church\, 995 N. West St.\, Anaheim\, CA 92801\, as it tours the world. This is also a Jubilee Church site\, so it is extra special. Please join us to pray for peace and unity. \nNicole 714-533-6292 \n Cross of Gratitude Schedule 2025 jpeg 2
URL:https://www.rcbo.org/event/the-cross-of-gratitude/
LOCATION:California
CATEGORIES:Evangelization,Parish Events
ATTACH;FMTTYPE=image/jpeg:https://www.rcbo.org/wp-content/uploads/2025/11/Cross-of-Gratitude-Schedule-2025-jpeg-2.jpeg
END:VEVENT
BEGIN:VEVENT
DTSTART;TZID=America/Los_Angeles:20251016T190000
DTEND;TZID=America/Los_Angeles:20251016T210000
DTSTAMP:20260422T152833
CREATED:20251002T020600Z
LAST-MODIFIED:20251107T221540Z
UID:10000211-1760641200-1760648400@www.rcbo.org
SUMMARY:Volleyball Night
DESCRIPTION:Volleyball Night \nJoin us for Volleyball and fellowship! \nLearn more:: \nDM us on Instagram @st.norbertya or email us st.norbertya@gmail.com for more information.
URL:https://www.rcbo.org/event/volleyball-night-2/
LOCATION:California
CATEGORIES:Parish Events,Young Adult Ministry
END:VEVENT
BEGIN:VEVENT
DTSTART;TZID=America/Los_Angeles:20251017T194500
DTEND;TZID=America/Los_Angeles:20251017T213000
DTSTAMP:20260422T152833
CREATED:20251002T035800Z
LAST-MODIFIED:20251107T221540Z
UID:10000212-1760730300-1760736600@www.rcbo.org
SUMMARY:Journey through the Bible w/ Fr Tim
DESCRIPTION:Event Description: \nBible Study with Fr Tim on different books on the Old Testament! \nLearn more:: \nQuestions? Call 714-751-5335 and ask for Jessica IHM Wayfarers in Hope YA ministry coordinator at IHM or email: jmarin@ihmsantaana.org
URL:https://www.rcbo.org/event/journey-through-the-bible-w-fr-tim-2/
LOCATION:California
CATEGORIES:Parish Events,Young Adult Ministry
END:VEVENT
END:VCALENDAR