BEGIN:VCALENDAR
VERSION:2.0
PRODID:-//Roman Catholic Diocese of Orange - ECPv6.15.17.1//NONSGML v1.0//EN
CALSCALE:GREGORIAN
METHOD:PUBLISH
X-ORIGINAL-URL:https://www.rcbo.org
X-WR-CALDESC:Events for Roman Catholic Diocese of Orange
REFRESH-INTERVAL;VALUE=DURATION:PT1H
X-Robots-Tag:noindex
X-PUBLISHED-TTL:PT1H
BEGIN:VTIMEZONE
TZID:America/Los_Angeles
BEGIN:DAYLIGHT
TZOFFSETFROM:-0800
TZOFFSETTO:-0700
TZNAME:PDT
DTSTART:20240310T100000
END:DAYLIGHT
BEGIN:STANDARD
TZOFFSETFROM:-0700
TZOFFSETTO:-0800
TZNAME:PST
DTSTART:20241103T090000
END:STANDARD
BEGIN:DAYLIGHT
TZOFFSETFROM:-0800
TZOFFSETTO:-0700
TZNAME:PDT
DTSTART:20250309T100000
END:DAYLIGHT
BEGIN:STANDARD
TZOFFSETFROM:-0700
TZOFFSETTO:-0800
TZNAME:PST
DTSTART:20251102T090000
END:STANDARD
BEGIN:DAYLIGHT
TZOFFSETFROM:-0800
TZOFFSETTO:-0700
TZNAME:PDT
DTSTART:20260308T100000
END:DAYLIGHT
BEGIN:STANDARD
TZOFFSETFROM:-0700
TZOFFSETTO:-0800
TZNAME:PST
DTSTART:20261101T090000
END:STANDARD
END:VTIMEZONE
BEGIN:VEVENT
DTSTART;TZID=America/Los_Angeles:20250801T190000
DTEND;TZID=America/Los_Angeles:20250801T210000
DTSTAMP:20260422T200223
CREATED:20250725T214600Z
LAST-MODIFIED:20251107T221507Z
UID:10000141-1754074800-1754082000@www.rcbo.org
SUMMARY:An Evening with Jim Wahlberg
DESCRIPTION:He is a producer\, writer\, and director of films and uses his talents and experiences to raise awareness about the hope found in Christ. Jim is the author of “The Big Hustle” A Boston Street Kid’s Story of Addiction and Redemption & Executive Producer of Mother Teresa: No Greater Love.
URL:https://www.rcbo.org/event/an-evening-with-jim-wahlberg/
CATEGORIES:Eucharistic Revival,Evangelization,Parish Events,Young Adult Ministry
ATTACH;FMTTYPE=image/png:https://www.rcbo.org/wp-content/uploads/2025/11/original-6-scaled-1.png
END:VEVENT
BEGIN:VEVENT
DTSTART;TZID=America/Los_Angeles:20250729T184500
DTEND;TZID=America/Los_Angeles:20250729T200000
DTSTAMP:20260422T200223
CREATED:20250729T035400Z
LAST-MODIFIED:20251107T221507Z
UID:10000140-1753814700-1753819200@www.rcbo.org
SUMMARY:Lumen Christi Summer Retreat: 1 Corinthians
DESCRIPTION:July 29\, 2025 – 1 Corinthians – The Temple of the Holy Spirit and the Celebration of the Eucharist (in the Church Hall after Mass)\nAugust 5\, 2025 – Ephesians – Jesus’ authority\, the Unity of the Church and Holy Matrimony (in the Church after Mass)\nAugust 12\, 2025 – Hebrews – The Eternal Priesthood of Jesus Christ and the New Jerusalem (in the Church after Mass)\n\nFor more information: \n bible@rcbo.org \n(714) 282-3079
URL:https://www.rcbo.org/event/lumen-christi-summer-retreat-1-corinthians/
CATEGORIES:Biblical Institute,Faith Formation
END:VEVENT
BEGIN:VEVENT
DTSTART;TZID=America/Los_Angeles:20250729T180000
DTEND;TZID=America/Los_Angeles:20250729T203000
DTSTAMP:20260422T200223
CREATED:20250718T014100Z
LAST-MODIFIED:20251107T221506Z
UID:10000139-1753812000-1753821000@www.rcbo.org
SUMMARY:TESTIMONI PÚBLICO Y PROCESIÓN DESOLIDARIDAD
DESCRIPTION:Spanish
URL:https://www.rcbo.org/event/testimoni-publico-y-procesion-desolidaridad/
CATEGORIES:Christ Cathedral Campus,Life, Justice and Peace
ATTACH;FMTTYPE=image/jpeg:https://www.rcbo.org/wp-content/uploads/2025/11/Spanish.jpg
END:VEVENT
BEGIN:VEVENT
DTSTART;TZID=America/Los_Angeles:20250729T180000
DTEND;TZID=America/Los_Angeles:20250729T203000
DTSTAMP:20260422T200223
CREATED:20250718T003000Z
LAST-MODIFIED:20251107T221506Z
UID:10000138-1753812000-1753821000@www.rcbo.org
SUMMARY:Public Witness & Procession in Solidarity with Marginalized Communities
DESCRIPTION:Public Witness Opp
URL:https://www.rcbo.org/event/public-witness-procession-in-solidarity-with-marginalized-communities/
CATEGORIES:Christ Cathedral Campus,Life, Justice and Peace
ATTACH;FMTTYPE=image/jpeg:https://www.rcbo.org/wp-content/uploads/2025/11/Public-Witness-Procession-In-Solidarity.jpg
END:VEVENT
BEGIN:VEVENT
DTSTART;TZID=America/Los_Angeles:20250728T193000
DTEND;TZID=America/Los_Angeles:20250728T203000
DTSTAMP:20260422T200223
CREATED:20250619T024800Z
LAST-MODIFIED:20251107T221506Z
UID:10000137-1753731000-1753734600@www.rcbo.org
SUMMARY:Bible Study
DESCRIPTION:All are invited to join us in the Parish Hall to pray through\, discuss and study the upcoming Sunday Gospel reading. No previous experience or knowledge of the Bible is necessary! \nVisit st-timsrc.org/adults for more information.
URL:https://www.rcbo.org/event/bible-study-19/
CATEGORIES:Evangelization,Parish Events,Young Adult Ministry
END:VEVENT
BEGIN:VEVENT
DTSTART;TZID=America/Los_Angeles:20250727T141500
DTEND;TZID=America/Los_Angeles:20250727T164500
DTSTAMP:20260422T200223
CREATED:20250701T002400Z
LAST-MODIFIED:20251107T221506Z
UID:10000136-1753625700-1753634700@www.rcbo.org
SUMMARY:Resilient Marriages by Dr. John Yzaguirre
DESCRIPTION:For ALL couples! Join us to grow a RESILIENT MARRIAGE and learn how to manage your emotions! Learn how to control anger\, manage anxiety\, overcome helplessness and become a JOY expert! For dating\, engaged and married couples\, join Dr. John and Claire Yzaguirre\, Ph.D.\, M.F.T.\, therapists and co-creators of the popular “Thriving Marriages-Casados y Felices” program. Invite your friends and we’ll see you there! Free and walk-ins are welcome! \nFor questions or to register\, please contact Ana Jaime at 707-280-0717 or anajaime73@yahoo.com \nHow to Manage Your Emotions July 27- 2025 \n 
URL:https://www.rcbo.org/event/resilient-marriages-by-dr-john-yzaguirre/
CATEGORIES:Parish Events
END:VEVENT
BEGIN:VEVENT
DTSTART;TZID=America/Los_Angeles:20250726T113000
DTEND;TZID=America/Los_Angeles:20250726T123000
DTSTAMP:20260422T200223
CREATED:20250701T001200Z
LAST-MODIFIED:20251107T221505Z
UID:10000135-1753529400-1753533000@www.rcbo.org
SUMMARY:Jubilee of Marriage
DESCRIPTION:The bishops of California have declared Saturday\, July 26\, the Feast of Saints Joachim and Anne\, as the Jubilee of Marriage during this powerful Jubilee Year of Hope. The vocation of marriage truly is a sign of hope! \nThe Diocese of Orange will celebrate the Marriage Jubilee with a Mass at Christ Cathedral in the Arboretum on Saturday\, July 26 at 11:30 am. All couples and families are invited to make this pilgrimage to our cathedral campus and to receive a plenary indulgence. \nFirst 100 couples to RSVP will receive free Radiate Love T-shirts! \n*RSVP not required to attend; all are welcome! \nVisit https://rcbo.org/hope for more info and RSVP \n Jubilee Marriage Flyer 03
URL:https://www.rcbo.org/event/jubilee-of-marriage/
CATEGORIES:Marriage
ATTACH;FMTTYPE=image/jpeg:https://www.rcbo.org/wp-content/uploads/2025/11/Jubilee_Marriage_Flyer_03-scaled-1.jpg
END:VEVENT
BEGIN:VEVENT
DTSTART;TZID=America/Los_Angeles:20250726T080000
DTEND;TZID=America/Los_Angeles:20250804T180000
DTSTAMP:20260422T200223
CREATED:20240806T044400Z
LAST-MODIFIED:20251107T221505Z
UID:10000133-1753516800-1754330400@www.rcbo.org
SUMMARY:Young Adult Jubilee Pilgrimage to Rome
DESCRIPTION:Event Location: \nRome\, Italy \nEvent Date / Date Range: \nJul 26\, 2025 – Aug 4\, 2025 \nEvent Description: \nThe Holy Father declared 2025 to be a Jubilee Year\, an event that happens every 25 years. The theme for Jubilee 2025 is “Pilgrims of Hope”\, an encouragement to all the faithful to “fan the flame of hope that has been given us\, and help everyone to gain new strength and certainty by looking to the future with an open spirit\, a trusting heart and far-sighted vision.” \nThe Orange Diocese Young Adult Office is excited to join the Pope for the Jubilee Year to be Pilgrims of Hope. From July 28-August 2 Young Adults (18-39) from all over the world will travel to Rome\, Italy to attend various events to embolden and encourage young adults\, celebrate Liturgies\, visit holy sites\, and explore Rome with other young adults. \nWe would love you to join us. Visit https://dioceseofocstg.wpengine.com/yya-jubilee/ to learn more about our Diocesan Pilgrimage. \nJubileePilgrimmage_8.5x11Final (1) \n 
URL:https://www.rcbo.org/event/young-adult-jubilee-pilgrimage-to-rome/
CATEGORIES:Young Adult Ministry
END:VEVENT
BEGIN:VEVENT
DTSTART;TZID=America/Los_Angeles:20250726T080000
DTEND;TZID=America/Los_Angeles:20250726T180000
DTSTAMP:20260422T200223
CREATED:20241003T034700Z
LAST-MODIFIED:20251107T221505Z
UID:10000134-1753516800-1753552800@www.rcbo.org
SUMMARY:Jubilee Pilgrimage
DESCRIPTION:Orange Diocese Office of Youth and Young Adults are excited to join the Pope for the Jubilee Year to be Pilgrims of Hope. The Holy Father has designated July 28-August 2 as the Jubilee of Young People and encourages us young people from all over the world to visit during this time. During this time\, we will attend various events to embolden and encourage young people\, celebrate Liturgies\, visit holy sites\, and explore Rome with other young people. Deposits are due yesterday so if you are interested in attending\, don’t delay! \nLearn more:: \nhttps://dioceseofocstg.wpengine.com/yya-jubilee/
URL:https://www.rcbo.org/event/jubilee-pilgrimage/
CATEGORIES:Young Adult Ministry
END:VEVENT
BEGIN:VEVENT
DTSTART;TZID=America/Los_Angeles:20250722T190000
DTEND;TZID=America/Los_Angeles:20250722T210000
DTSTAMP:20260422T200223
CREATED:20250620T070700Z
LAST-MODIFIED:20251107T221504Z
UID:10000132-1753210800-1753218000@www.rcbo.org
SUMMARY:Summer Concert Advertisement - Endless Song: A Summer Concert
DESCRIPTION:Join us for our first SUMMER CONCERT under the tent. Brought to you by our phenomenal SK Music Ministry. \nDATE: Tuesday\, July 22\, 2025 \nTIME: 7:00 PM \nLOCATION: Parish Courtyard Tent \nThe highlight of our Tuesday Evening Summer Series. Dinner begins at 5:30 PM. Come early and reserve your seat! \nEndless Song Summer Concert 2025-Flyer \n 
URL:https://www.rcbo.org/event/summer-concert-advertisement-endless-song-a-summer-concert/
CATEGORIES:Parish Events
END:VEVENT
BEGIN:VEVENT
DTSTART;TZID=America/Los_Angeles:20250721T193000
DTEND;TZID=America/Los_Angeles:20250721T203000
DTSTAMP:20260422T200223
CREATED:20250619T024700Z
LAST-MODIFIED:20251107T221503Z
UID:10000128-1753126200-1753129800@www.rcbo.org
SUMMARY:Bible Study
DESCRIPTION:All are invited to join us in the Parish Hall to pray through\, discuss and study the upcoming Sunday Gospel reading. No previous experience or knowledge of the Bible is necessary! \nVisit st-timsrc.org/adults for more information.
URL:https://www.rcbo.org/event/bible-study-17/
CATEGORIES:Parish Events,Young Adult Ministry
END:VEVENT
BEGIN:VEVENT
DTSTART;TZID=America/Los_Angeles:20250721T193000
DTEND;TZID=America/Los_Angeles:20250721T203000
DTSTAMP:20260422T200223
CREATED:20250619T024700Z
LAST-MODIFIED:20251107T221504Z
UID:10000129-1753126200-1753129800@www.rcbo.org
SUMMARY:Bible Study
DESCRIPTION:All are invited to join us in the Parish Hall to pray through\, discuss and study the upcoming Sunday Gospel reading. No previous experience or knowledge of the Bible is necessary! \nVisit st-timsrc.org/adults for more information.
URL:https://www.rcbo.org/event/bible-study-18/
CATEGORIES:Evangelization,Parish Events,Young Adult Ministry
END:VEVENT
BEGIN:VEVENT
DTSTART;TZID=America/Los_Angeles:20250721T190000
DTEND;TZID=America/Los_Angeles:20250721T200000
DTSTAMP:20260422T200223
CREATED:20250709T065900Z
LAST-MODIFIED:20251107T221504Z
UID:10000131-1753124400-1753128000@www.rcbo.org
SUMMARY:Rome/Jubilee Pilgrims Sending Mass
DESCRIPTION:There will be a number of groups from the Diocese of Orange attending the 2025 Jubilee Youth Pilgrimage in July and August.  All pilgrims\, no matter the group they belong to\, are invited to join in this special Mass and be sent as pilgrims representing the Diocese of Orange.  Bishop Timothy Freyer will offer an intentional blessing on the pilgrims as they prepare to embark on their spiritual journey.
URL:https://www.rcbo.org/event/rome-jubilee-pilgrims-sending-mass/
END:VEVENT
BEGIN:VEVENT
DTSTART;TZID=America/Los_Angeles:20250721T190000
DTEND;TZID=America/Los_Angeles:20250721T200000
DTSTAMP:20260422T200223
CREATED:20250701T002100Z
LAST-MODIFIED:20251107T221504Z
UID:10000130-1753124400-1753128000@www.rcbo.org
SUMMARY:July 21 Rome/Jubilee Pilgrim Sending Mass
DESCRIPTION:There will be a number of groups from the Diocese of Orange attending the 2025 Jubilee Youth Pilgrimage in July and August. All pilgrims\, no matter the group they belong to\, are invited to join in this special Mass and be sent as pilgrims representing the Diocese of Orange. Bishop Timothy Freyer will offer an intentional blessing on the pilgrims as they prepare to embark on their spiritual journey. \nContact Fr Mike Hanifin at parish@hforange.org for more info. \n  \n 
URL:https://www.rcbo.org/event/july-21-rome-jubilee-pilgrim-sending-mass/
CATEGORIES:Eucharistic Revival,Parish Events,Young Adult Ministry
END:VEVENT
BEGIN:VEVENT
DTSTART;TZID=America/Los_Angeles:20250717T080000
DTEND;TZID=America/Los_Angeles:20250719T180000
DTSTAMP:20260422T200223
CREATED:20250131T071300Z
LAST-MODIFIED:20251107T221502Z
UID:10000127-1752739200-1752948000@www.rcbo.org
SUMMARY:Immersion: Evangelization Training Intensive
DESCRIPTION:Immersion – Evangelization Training Intensive \nJuly 17-19 at Christ Cathedral Campus \nImmersion 2025 is the National Conference for St. Paul Street Evangelization. It is one of the most unique Catholic conferences in the world. We will spend a significant part ministering to others on the streets of Orange County through a variety of evangelization experiences. \nSign up today for your spot. You don’t want to miss our keynote and breakout speakers! \nIn Partnership with and Sponsored by the Diocese of Orange. \nRegister today! https://streetevangelization.com/immersion/ \nImmersion 2025 Flyer – all speakers (1)
URL:https://www.rcbo.org/event/immersion-evangelization-training-intensive/
CATEGORIES:Christ Cathedral Campus,Evangelization
END:VEVENT
BEGIN:VEVENT
DTSTART;TZID=America/Los_Angeles:20250716T200000
DTEND;TZID=America/Los_Angeles:20250716T220000
DTSTAMP:20260422T200223
CREATED:20250311T000600Z
LAST-MODIFIED:20251107T221459Z
UID:10000126-1752696000-1752703200@www.rcbo.org
SUMMARY:The Lionhearts Crusade in Newport Beach July 16th
DESCRIPTION:website: https://www.knightsofthecross.com/event-details/redcarpettickets \nCatholic Film 50min. runtime\nConfirmed Celebrity / Internet Influencer Attendance.\nEucharist Centered Film Bonus Scene Our Lady of Mt. Carmel Scene end of the Film. \nAbout the event\nSchedule: \n● 8:00 PM – Doors Open: Walk the Red Carpet \n● 9:00 PM – Screening (Runtime: just under 45 minutes) \n● 9:45 PM – 10:00 PM – Q&A with Cast and Crew \nSecure Your Tickets Before July 16\, 2025! \n● Early Bird Ticket: $45 \nYour Red Carpet Ticket Includes: \n● Exclusive Red Carpet Access: Walk the red carpet and snap photos! \n● Meet & Greet: Rub shoulders with the cast and creators. \nYour Red Carpet Includes: \n● All perks of the Red Carpet Ticket\, plus: \nInsider Access – Meet and mingle with the film’s creators and cast. \nTheater Concessions – Enjoy delicious food and refreshing drinks. \nNetworking & Mingling – Connect with film enthusiasts\, creatives\, and industry professionals in a lively\, upscale atmosphere. \nDon’t Miss Out – Tickets Are Limited to 150 Guests! \nhttps://www.knightsofthecross.com/tickets \nBe part of television history and enjoy a glamorous night of celebration in Newport Beach! \nhttps://www.knightsofthecross.com
URL:https://www.rcbo.org/event/the-lionhearts-crusade-in-newport-beach-july-16th/
CATEGORIES:Eucharistic Revival,Young Adult Ministry
END:VEVENT
BEGIN:VEVENT
DTSTART;TZID=America/Los_Angeles:20250715T170000
DTEND;TZID=America/Los_Angeles:20250715T181500
DTSTAMP:20260422T200223
CREATED:20250616T225100Z
LAST-MODIFIED:20251107T221459Z
UID:10000125-1752598800-1752603300@www.rcbo.org
SUMMARY:The Mystery of Faith: A Liturgy Course on the Order of Mass
DESCRIPTION:You’re Invited: The Mystery of Faith \nA Liturgy Course on the Order of Mass for the Parish Community \nHave you ever wondered why we do what we do at Mass? \nJoin us for a special Liturgy Course on the Mass—an opportunity to deepen your understanding\, appreciation\, and love for the Eucharist. \n  Where: Christ Our Savior Catholic Parish – Multi Purpose Room \n  When: Weekly on Tuesdays starting July 1st & Concluding August 12th \n  What to Expect: We will be discussing the book “The Mystery of Faith” \n  RSVP: https://form.jotform.com/251575475671062 \nWhether you’re a lifelong Catholic or just beginning your journey\, this course is for everyone who wants to grow in faith and encounter Christ more deeply at Mass. \n  Come and see the mystery come alive! \nLearn more:: \nContact our office for more information at parishoffice@coscp.org \nOrder of Mass Course Flyer
URL:https://www.rcbo.org/event/the-mystery-of-faith-a-liturgy-course-on-the-order-of-mass-3/
CATEGORIES:Evangelization,Faith Formation,Parish Events
END:VEVENT
BEGIN:VEVENT
DTSTART;TZID=America/Los_Angeles:20250714T193000
DTEND;TZID=America/Los_Angeles:20250714T203000
DTSTAMP:20260422T200223
CREATED:20250619T023100Z
LAST-MODIFIED:20251107T221459Z
UID:10000124-1752521400-1752525000@www.rcbo.org
SUMMARY:Bible Study
DESCRIPTION:All are invited to join us in the Parish Hall to pray through\, discuss and study the upcoming Sunday Gospel reading. No previous experience or knowledge of the Bible is necessary! \nVisit st-timsrc.org/adults for more information.
URL:https://www.rcbo.org/event/bible-study-16/
CATEGORIES:Evangelization,Parish Events,Young Adult Ministry
END:VEVENT
BEGIN:VEVENT
DTSTART;TZID=America/Los_Angeles:20250712T090000
DTEND;TZID=America/Los_Angeles:20250712T140000
DTSTAMP:20260422T200223
CREATED:20250701T001900Z
LAST-MODIFIED:20251107T221458Z
UID:10000123-1752310800-1752328800@www.rcbo.org
SUMMARY:Parish Rummage Sale
DESCRIPTION:Annual Rummage Sale of over 200+ families! \nContact St. Mary’s by the Sea for more info. (714) 536-6913 \nRummage Sale Flyer 2025
URL:https://www.rcbo.org/event/parish-rummage-sale-2/
CATEGORIES:Parish Events
END:VEVENT
BEGIN:VEVENT
DTSTART;TZID=America/Los_Angeles:20250711T090000
DTEND;TZID=America/Los_Angeles:20250711T140000
DTSTAMP:20260422T200223
CREATED:20250701T001700Z
LAST-MODIFIED:20251107T221458Z
UID:10000122-1752224400-1752242400@www.rcbo.org
SUMMARY:Parish Rummage Sale
DESCRIPTION:Annual Rummage Sale of over 200+ families! \nContact St. Mary’s by the Sea for more info. (714) 536-6913 \nRummage Sale Flyer 2025
URL:https://www.rcbo.org/event/parish-rummage-sale/
CATEGORIES:Parish Events
END:VEVENT
BEGIN:VEVENT
DTSTART;TZID=America/Los_Angeles:20250710T190000
DTEND;TZID=America/Los_Angeles:20250710T210000
DTSTAMP:20260422T200223
CREATED:20250523T061500Z
LAST-MODIFIED:20251107T221457Z
UID:10000121-1752174000-1752181200@www.rcbo.org
SUMMARY:1700th Anniversary of the Nicene Creed with Fr. Hugh Barbour\, O. Praem.
DESCRIPTION:Join us for an evening marking the 1700th anniversary of the Nicene Creed. On Thursday\, July 10\, Fr. Hugh Barbour\, O. Praem.\, will speak on the Creed’s roots\, its lasting place in the Church\, and how it continues to unite Christians in the faith we proclaim. \nThis free event is hosted by the Office of Ecumenism & Inter-Religion of the Diocese of Orange. It will be held at the Pastoral Center in the 4th Floor Auditorium. \nRegister for free at the following link: https://forms.microsoft.com/pages/responsepage.aspx?id=OOe0Fi5R20q7CHKAOV6vhyNcOuF9J3xNg3yT3OB7tFBUQ0NMN1NOMURKRDlPS1JHTDJLOTYwTkdSSSQlQCN0PWcu&origin=QRCode&route=shorturl \n\n\n\nFr. Hugh Barbour\, O. Praem.\, is a Norbertine of St. Michael’s Abbey in Silverado\, California. He grew up in South Pasadena and is a convert from the Episcopal Church. After earning a bachelor’s degree in classics from the University of North Carolina-Chapel Hill\, Fr. Hugh entered St. Michael’s in 1982 and was ordained a priest in 1990. He earned a license in patristic theology at the Augustinianum and a doctorate in philosophy at the Angelicum in Rome. He has taught philosophy at St. Michael’s to the Abbey’s junior professed seminarians studying for the priesthood since 1992 and was prior of the abbey from 1995 until 2017. Fr. Hugh has been active over the years in weekend parish ministry and in giving talks and retreats; he has served as chaplain of the St. Thomas More Society of Orange County and as censor deputatus of the Diocese of Orange\, and he is a knight commander of the Equestrian Order of the Holy Sepulchre. Since September 2017\, he has been serving as a chaplain at Catholic Answers.NiceneCreed_Anniversary_Flyer_01
URL:https://www.rcbo.org/event/1700th-anniversary-of-the-nicene-creed-with-fr-hugh-barbour-o-praem/
CATEGORIES:Christ Cathedral Campus,Ecumenism & Inter-religion,Parish Events
END:VEVENT
BEGIN:VEVENT
DTSTART;TZID=America/Los_Angeles:20250709T183000
DTEND;TZID=America/Los_Angeles:20250709T210000
DTSTAMP:20260422T200223
CREATED:20250404T025900Z
LAST-MODIFIED:20251107T221457Z
UID:10000120-1752085800-1752094800@www.rcbo.org
SUMMARY:High School Vocation Series (July - August)
DESCRIPTION:Every Wednesday night at 6:30 PM in the Pastoral center from July 9th – August 13th
URL:https://www.rcbo.org/event/high-school-vocation-series-july-august/
CATEGORIES:Vocations
END:VEVENT
BEGIN:VEVENT
DTSTART;TZID=America/Los_Angeles:20250708T170000
DTEND;TZID=America/Los_Angeles:20250708T181500
DTSTAMP:20260422T200223
CREATED:20250616T225000Z
LAST-MODIFIED:20251107T221457Z
UID:10000119-1751994000-1751998500@www.rcbo.org
SUMMARY:The Mystery of Faith: A Liturgy Course on the Order of Mass
DESCRIPTION:You’re Invited: The Mystery of Faith \nA Liturgy Course on the Order of Mass for the Parish Community \nHave you ever wondered why we do what we do at Mass? \nJoin us for a special Liturgy Course on the Mass—an opportunity to deepen your understanding\, appreciation\, and love for the Eucharist. \n  Where: Christ Our Savior Catholic Parish – Multi Purpose Room \n  When: Weekly on Tuesdays starting July 1st & Concluding August 12th \n  What to Expect: We will be discussing the book “The Mystery of Faith” \n  RSVP: https://form.jotform.com/251575475671062 \nWhether you’re a lifelong Catholic or just beginning your journey\, this course is for everyone who wants to grow in faith and encounter Christ more deeply at Mass. \n  Come and see the mystery come alive! \nLearn more:: \nContact our office for more information at parishoffice@coscp.org \nOrder of Mass Course Flyer
URL:https://www.rcbo.org/event/the-mystery-of-faith-a-liturgy-course-on-the-order-of-mass-2/
CATEGORIES:Evangelization,Faith Formation,Parish Events
END:VEVENT
BEGIN:VEVENT
DTSTART;TZID=America/Los_Angeles:20250707T193000
DTEND;TZID=America/Los_Angeles:20250707T203000
DTSTAMP:20260422T200223
CREATED:20250616T224500Z
LAST-MODIFIED:20251107T221457Z
UID:10000118-1751916600-1751920200@www.rcbo.org
SUMMARY:Bible Study
DESCRIPTION:All are invited to join us in the Parish Hall to pray through\, discuss and study the upcoming Sunday Gospel reading. No previous experience or knowledge of the Bible is necessary! \n\nVisit st-timsrc.org/adults for more information.
URL:https://www.rcbo.org/event/bible-study-15/
CATEGORIES:Parish Events,Young Adult Ministry
END:VEVENT
BEGIN:VEVENT
DTSTART;TZID=America/Los_Angeles:20250702T190000
DTEND;TZID=America/Los_Angeles:20250702T203000
DTSTAMP:20260422T200223
CREATED:20250207T062000Z
LAST-MODIFIED:20251107T221456Z
UID:10000116-1751482800-1751488200@www.rcbo.org
SUMMARY:Revival Night
DESCRIPTION:These nights of Eucharistic adoration\, praise and worship\, and encounter with our Lord are for all ages. Whether your heart is on fire for the Lord\, or you don’t know who God is yet\, we invite you to open your heart and see what the Lord has in store for you! Join us on the first Wednesday of every month from 7-8:30 pm. \nChildcare is offered free of charge for children ages 1 (confident walker) through 5th grade upon reservation. RSVP your child for childcare by clicking here. \nVisit https://www.st-timsrc.org/revivalnights for more information.
URL:https://www.rcbo.org/event/revival-night-5/
CATEGORIES:Parish Events,Young Adult Ministry
END:VEVENT
BEGIN:VEVENT
DTSTART;TZID=America/Los_Angeles:20250701T170000
DTEND;TZID=America/Los_Angeles:20250701T181500
DTSTAMP:20260422T200223
CREATED:20250616T224900Z
LAST-MODIFIED:20251107T221456Z
UID:10000115-1751389200-1751393700@www.rcbo.org
SUMMARY:The Mystery of Faith: A Liturgy Course on the Order of Mass
DESCRIPTION:You’re Invited: The Mystery of Faith \nA Liturgy Course on the Order of Mass for the Parish Community \nHave you ever wondered why we do what we do at Mass? \nJoin us for a special Liturgy Course on the Mass—an opportunity to deepen your understanding\, appreciation\, and love for the Eucharist. \n  Where: Christ Our Savior Catholic Parish – Multi Purpose Room \n  When: Weekly on Tuesdays starting July 1st & Concluding August 12th \n  What to Expect: We will be discussing the book “The Mystery of Faith” \n  RSVP: https://form.jotform.com/251575475671062 \nWhether you’re a lifelong Catholic or just beginning your journey\, this course is for everyone who wants to grow in faith and encounter Christ more deeply at Mass. \n  Come and see the mystery come alive! \nLearn more:: \nContact our office for more information at parishoffice@coscp.org \nOrder of Mass Course Flyer
URL:https://www.rcbo.org/event/the-mystery-of-faith-a-liturgy-course-on-the-order-of-mass/
CATEGORIES:Evangelization,Faith Formation,Parish Events
END:VEVENT
BEGIN:VEVENT
DTSTART;TZID=America/Los_Angeles:20250630T193000
DTEND;TZID=America/Los_Angeles:20250630T203000
DTSTAMP:20260422T200223
CREATED:20250522T005600Z
LAST-MODIFIED:20251107T221455Z
UID:10000114-1751311800-1751315400@www.rcbo.org
SUMMARY:Bible Study
DESCRIPTION:All are invited to join us every Monday in the Parish Hall to pray through\, discuss and study the upcoming Sunday Gospel reading. No previous experience or knowledge of the Bible is necessary! \nVisit www.st-timers.org/adults or email Matt Zemanek at mzemanek@st-timsrc.org for more information.
URL:https://www.rcbo.org/event/bible-study-14/
CATEGORIES:Parish Events,Young Adult Ministry
END:VEVENT
BEGIN:VEVENT
DTSTART;TZID=America/Los_Angeles:20250629T144500
DTEND;TZID=America/Los_Angeles:20250629T171500
DTSTAMP:20260422T200223
CREATED:20250325T034500Z
LAST-MODIFIED:20251107T221455Z
UID:10000113-1751208300-1751217300@www.rcbo.org
SUMMARY:Casados y Felices con Dr. John Yzaguirre
DESCRIPTION:¿Cuáles son los ingredientes esenciales para un \nmatrimonio Cristiano\, feliz y duradero? El Dr. John \nYzaguirre responderá a esta pregunta con estrategias prácticas y eficaces sobre \ncómo: \n• Amarse de forma inteligente y transformante \n• Renovar y equilibrar la vida personal y familiar \n• Mejorar la calidad de la comunicación\, solucionar los conflictos y superar las crisis matrimoniales \nEste evento es gratis y se agradece su confirmación de asistencia. \nSe ofrecerán refrescos. Para registrarse o para más información\, \npor favor comuníquese con Ana Jaime: (707) 280-0717. \nLearn more:: \nPara registrarse o para más información\, por favor comuníquese con Ana Jaime: (707) 280-0717. \nCasados y Felices flyer St. Bonaventure 29 de junio 2025
URL:https://www.rcbo.org/event/casados-y-felices-con-dr-john-yzaguirre/
CATEGORIES:Parish Events
END:VEVENT
BEGIN:VEVENT
DTSTART;TZID=America/Los_Angeles:20250626T190000
DTEND;TZID=America/Los_Angeles:20250626T200000
DTSTAMP:20260422T200223
CREATED:20250522T015200Z
LAST-MODIFIED:20251107T221455Z
UID:10000112-1750964400-1750968000@www.rcbo.org
SUMMARY:Bible Study with Deacon Kevin Duthoy\, J.D.
DESCRIPTION:Bible Study 2 YAMOLGLH\nJoin us for an introduction to exegesis and learn how a Catholic Christian studies scripture\, by employing the literal and spiritual senses of scriptural interpretation. \nFor more information\, please visit olglahabara.org/scripture
URL:https://www.rcbo.org/event/bible-study-with-deacon-kevin-duthoy-j-d-2/
CATEGORIES:Parish Events,Young Adult Ministry
END:VEVENT
BEGIN:VEVENT
DTSTART;TZID=America/Los_Angeles:20250623T193000
DTEND;TZID=America/Los_Angeles:20250623T203000
DTSTAMP:20260422T200223
CREATED:20250522T005500Z
LAST-MODIFIED:20251107T221455Z
UID:10000111-1750707000-1750710600@www.rcbo.org
SUMMARY:Bible Study
DESCRIPTION:All are invited to join us every Monday in the Parish Hall to pray through\, discuss and study the upcoming Sunday Gospel reading. No previous experience or knowledge of the Bible is necessary! \nVisit www.st-timers.org/adults or email Matt Zemanek at mzemanek@st-timsrc.org for more information.
URL:https://www.rcbo.org/event/bible-study-13/
CATEGORIES:Parish Events,Young Adult Ministry
END:VEVENT
END:VCALENDAR