BEGIN:VCALENDAR
VERSION:2.0
PRODID:-//Roman Catholic Diocese of Orange - ECPv6.15.17.1//NONSGML v1.0//EN
CALSCALE:GREGORIAN
METHOD:PUBLISH
X-WR-CALNAME:Roman Catholic Diocese of Orange
X-ORIGINAL-URL:https://www.rcbo.org
X-WR-CALDESC:Events for Roman Catholic Diocese of Orange
REFRESH-INTERVAL;VALUE=DURATION:PT1H
X-Robots-Tag:noindex
X-PUBLISHED-TTL:PT1H
BEGIN:VTIMEZONE
TZID:America/Los_Angeles
BEGIN:DAYLIGHT
TZOFFSETFROM:-0800
TZOFFSETTO:-0700
TZNAME:PDT
DTSTART:20240310T100000
END:DAYLIGHT
BEGIN:STANDARD
TZOFFSETFROM:-0700
TZOFFSETTO:-0800
TZNAME:PST
DTSTART:20241103T090000
END:STANDARD
BEGIN:DAYLIGHT
TZOFFSETFROM:-0800
TZOFFSETTO:-0700
TZNAME:PDT
DTSTART:20250309T100000
END:DAYLIGHT
BEGIN:STANDARD
TZOFFSETFROM:-0700
TZOFFSETTO:-0800
TZNAME:PST
DTSTART:20251102T090000
END:STANDARD
BEGIN:DAYLIGHT
TZOFFSETFROM:-0800
TZOFFSETTO:-0700
TZNAME:PDT
DTSTART:20260308T100000
END:DAYLIGHT
BEGIN:STANDARD
TZOFFSETFROM:-0700
TZOFFSETTO:-0800
TZNAME:PST
DTSTART:20261101T090000
END:STANDARD
END:VTIMEZONE
BEGIN:VEVENT
DTSTART;TZID=America/Los_Angeles:20250605T190000
DTEND;TZID=America/Los_Angeles:20250605T200000
DTSTAMP:20260423T064838
CREATED:20250522T015500Z
LAST-MODIFIED:20251107T221446Z
UID:10000091-1749150000-1749153600@www.rcbo.org
SUMMARY:Women's night
DESCRIPTION:Ladies\, it’s time to build sisterhood and dive into what it means to live as daughters of God and brides of Christ. Receive His love\, be encouraged\, and feel more equipped to live boldly in the calling He has for you – come as you are and bring a friend with you! \nVisit https://linktr.ee/christoursavioryoungadults to follow us on instagram (@ya.christoursavior) and join our GroupMe for updates on fellowship + events.
URL:https://www.rcbo.org/event/womens-night/
LOCATION:CA
CATEGORIES:Parish Events,Young Adult Ministry
ATTACH;FMTTYPE=image/png:https://www.rcbo.org/wp-content/uploads/2025/11/65-womens-night-Amarianna-Busa.png
END:VEVENT
BEGIN:VEVENT
DTSTART;TZID=America/Los_Angeles:20250605T190000
DTEND;TZID=America/Los_Angeles:20250605T200000
DTSTAMP:20260423T064838
CREATED:20250522T010000Z
LAST-MODIFIED:20251107T221446Z
UID:10000090-1749150000-1749153600@www.rcbo.org
SUMMARY:Bible Study
DESCRIPTION:St. Norbert’s Upper Room (Family and Youth Center) \nUpcoming Sunday reading reflection and celebration of the feast of St Nobert \nInstagram:. st.norbertya
URL:https://www.rcbo.org/event/bible-study-10/
LOCATION:CA
CATEGORIES:Parish Events,Young Adult Ministry
END:VEVENT
BEGIN:VEVENT
DTSTART;TZID=America/Los_Angeles:20250604T190000
DTEND;TZID=America/Los_Angeles:20250604T203000
DTSTAMP:20260423T064838
CREATED:20250207T061900Z
LAST-MODIFIED:20251107T221446Z
UID:10000089-1749063600-1749069000@www.rcbo.org
SUMMARY:Revival Night
DESCRIPTION:These nights of Eucharistic adoration\, praise and worship\, and encounter with our Lord are for all ages. Whether your heart is on fire for the Lord\, or you don’t know who God is yet\, we invite you to open your heart and see what the Lord has in store for you! Join us on the first Wednesday of every month from 7-8:30 pm. \nChildcare is offered free of charge for children ages 1 (confident walker) through 5th grade upon reservation. RSVP your child for childcare by clicking here. \nVisit https://www.st-timsrc.org/revivalnights for more information.
URL:https://www.rcbo.org/event/revival-night-4/
LOCATION:CA
CATEGORIES:Parish Events,Young Adult Ministry
END:VEVENT
BEGIN:VEVENT
DTSTART;TZID=America/Los_Angeles:20250602T193000
DTEND;TZID=America/Los_Angeles:20250602T203000
DTSTAMP:20260423T064838
CREATED:20250522T005200Z
LAST-MODIFIED:20251107T221445Z
UID:10000088-1748892600-1748896200@www.rcbo.org
SUMMARY:Bible Study
DESCRIPTION:All are invited to join us every Monday in the Parish Hall to pray through\, discuss and study the upcoming Sunday Gospel reading. No previous experience or knowledge of the Bible is necessary! \nVisit www.st-timers.org/adults or email Matt Zemanek at mzemanek@st-timsrc.org for more information.
URL:https://www.rcbo.org/event/bible-study-9/
LOCATION:CA
CATEGORIES:Parish Events,Young Adult Ministry
END:VEVENT
BEGIN:VEVENT
DTSTART;TZID=America/Los_Angeles:20250530T190000
DTEND;TZID=America/Los_Angeles:20250530T213000
DTSTAMP:20260423T064838
CREATED:20250429T003900Z
LAST-MODIFIED:20251107T221442Z
UID:10000085-1748631600-1748640600@www.rcbo.org
SUMMARY:Ecumenical Prayer Service
DESCRIPTION:Please join us for the \nEcumenical Prayer Service for Christian Unity \nFriday\, May 30\, 2025 \nSt. Kilian’s Roman Catholic Church\n26872 Estanciero Dr\, Mission Viejo\, CA 92691 \n7:00pm to 9:30pm \nPlease join us for this very special event.
URL:https://www.rcbo.org/event/ecumenical-prayer-service/
LOCATION:CA
CATEGORIES:Evangelization,Parish Events
ATTACH;FMTTYPE=image/png:https://www.rcbo.org/wp-content/uploads/2025/11/Ecumenical-Prayer-Service-2025.png
END:VEVENT
BEGIN:VEVENT
DTSTART;TZID=America/Los_Angeles:20250530T190000
DTEND;TZID=America/Los_Angeles:20250530T190000
DTSTAMP:20260423T064838
CREATED:20250517T045800Z
LAST-MODIFIED:20251107T221443Z
UID:10000086-1748631600-1748631600@www.rcbo.org
SUMMARY:The 18th Annual Service of Prayer for Christian Unity at Pentecost (Celebrating the 1700th Anniversary of the First Ecumenical Council of the Church)
DESCRIPTION:Featuring Choirs from The Roman Catholic\, Eastern Catholic\, Armenian Apostolic\, Assyrian and Orthodox Christian Liturgical traditions. \nFRIDAY\, MAY 30\, 2025 AT 7PMSt. Kilian’s Roman Catholic Church26872 Estanciero Drive\, Mission Viejo\, CA 92691
URL:https://www.rcbo.org/event/the-18th-annual-service-of-prayer-for-christian-unity-at-pentecost-celebrating-the-1700th-anniversary-of-the-first-ecumenical-council-of-the-church/
LOCATION:CA
CATEGORIES:Ecumenism & Inter-religion,Parish Events
ATTACH;FMTTYPE=image/jpeg:https://www.rcbo.org/wp-content/uploads/2025/11/Ecumenical-Prayer-Service-189.jpg
END:VEVENT
BEGIN:VEVENT
DTSTART;TZID=America/Los_Angeles:20250528T183000
DTEND;TZID=America/Los_Angeles:20250528T203000
DTSTAMP:20260423T064839
CREATED:20250509T231600Z
LAST-MODIFIED:20251107T221442Z
UID:10000084-1748457000-1748464200@www.rcbo.org
SUMMARY:XLT Night: Open Your Heart to God’s Call
DESCRIPTION:As we close out Vocations Month\, come and encounter the Lord who calls each of us by name. \nJoin us for an evening of Confession\, prayer ministry\, praise and worship\, and adoration before the Blessed Sacrament. \nPosition your heart to hear God’s voice — and step into the vocation He has prepared for you. \nVisit our GroupMe to stay up to date with events! https://linktr.ee/holyfamyam
URL:https://www.rcbo.org/event/xlt-night-open-your-heart-to-gods-call/
LOCATION:CA
CATEGORIES:Parish Events,Vocations,Young Adult Ministry
ATTACH;FMTTYPE=image/png:https://www.rcbo.org/wp-content/uploads/2025/11/May-XLT-Worship-Night-2-Vanessa.png
END:VEVENT
BEGIN:VEVENT
DTSTART;TZID=America/Los_Angeles:20250526T193000
DTEND;TZID=America/Los_Angeles:20250526T203000
DTSTAMP:20260423T064839
CREATED:20250508T234400Z
LAST-MODIFIED:20251107T221442Z
UID:10000083-1748287800-1748291400@www.rcbo.org
SUMMARY:Bible Study
DESCRIPTION:All are invited to join us in the Parish Hall to pray through\, discuss and study the upcoming Sunday Gospel reading. No previous experience or knowledge of the Bible is necessary! \nEmail Matt Zemanek at mzemanek@st-timsrc.org for more information
URL:https://www.rcbo.org/event/bible-study-8/
LOCATION:CA
CATEGORIES:Parish Events,Young Adult Ministry
END:VEVENT
BEGIN:VEVENT
DTSTART;TZID=America/Los_Angeles:20250524T080000
DTEND;TZID=America/Los_Angeles:20250524T100000
DTSTAMP:20260423T064839
CREATED:20250513T013800Z
LAST-MODIFIED:20251107T221441Z
UID:10000082-1748073600-1748080800@www.rcbo.org
SUMMARY:Blue Mass
DESCRIPTION:Mass & Blessing to honor First Responders \nRECEPTION \nto follow in the Gathering Plaza \nTHE SERVICE HONORS those who have died in the line of duty and those currently serving as first responders. The Mass is an opportunity for the community to show gratitude to first responders \nand their families. \nvisit: smdpyl.org
URL:https://www.rcbo.org/event/blue-mass/
LOCATION:CA
CATEGORIES:Parish Events
ATTACH;FMTTYPE=image/jpeg:https://www.rcbo.org/wp-content/uploads/2025/11/2025Blue-Mass-OC-Catholic-Photo.jpg
END:VEVENT
BEGIN:VEVENT
DTSTART;TZID=America/Los_Angeles:20250522T190000
DTEND;TZID=America/Los_Angeles:20250522T203000
DTSTAMP:20260423T064839
CREATED:20250509T231000Z
LAST-MODIFIED:20251107T221441Z
UID:10000081-1747940400-1747945800@www.rcbo.org
SUMMARY:3rd part of MISSIONARY NIGHTS: Identity in Christ// Receive His Healing
DESCRIPTION:This is the first teaching most missionary organizations give to their missionaries. come and discover what lies you are believing about yourself that is prohibiting you from living in the freedom Christ has for you! Come and be reminded of who you are and whose you are \nVisit https://linktr.ee/christoursavioryoungadults for young adult events! Join our GroupMe and follow our instagram for updates.
URL:https://www.rcbo.org/event/3rd-part-of-missionary-nights-identity-in-christ-receive-his-healing/
LOCATION:CA
CATEGORIES:Parish Events,Young Adult Ministry
END:VEVENT
BEGIN:VEVENT
DTSTART;TZID=America/Los_Angeles:20250521T183000
DTEND;TZID=America/Los_Angeles:20250521T203000
DTSTAMP:20260423T064839
CREATED:20250509T231400Z
LAST-MODIFIED:20251107T221441Z
UID:10000080-1747852200-1747859400@www.rcbo.org
SUMMARY:Vocations Month - Female Religious Orders
DESCRIPTION:Sisters vs. Nuns: Who Are They Really? \nWhat’s the true difference — and why does it matter for the Church today? \nCome meet consecrated women living out powerful missions for Christ! \nVisit our GroupMe to stay up to date with events! https://linktr.ee/holyfamyam
URL:https://www.rcbo.org/event/vocations-month-female-religious-orders/
LOCATION:CA
CATEGORIES:Parish Events,Vocations,Young Adult Ministry
ATTACH;FMTTYPE=image/png:https://www.rcbo.org/wp-content/uploads/2025/11/May-Holy-Orders-Vanessa-1.png
END:VEVENT
BEGIN:VEVENT
DTSTART;TZID=America/Los_Angeles:20250519T193000
DTEND;TZID=America/Los_Angeles:20250519T203000
DTSTAMP:20260423T064839
CREATED:20250508T234200Z
LAST-MODIFIED:20251107T221440Z
UID:10000079-1747683000-1747686600@www.rcbo.org
SUMMARY:Bible Study
DESCRIPTION:All are invited to join us in the Parish Hall to pray through\, discuss and study the upcoming Sunday Gospel reading. No previous experience or knowledge of the Bible is necessary! \nEmail Matt Zemanek at mzemanek@st-timsrc.org for more information
URL:https://www.rcbo.org/event/bible-study-7/
LOCATION:CA
CATEGORIES:Parish Events,Young Adult Ministry
END:VEVENT
BEGIN:VEVENT
DTSTART;TZID=America/Los_Angeles:20250517T090000
DTEND;TZID=America/Los_Angeles:20250517T150000
DTSTAMP:20260423T064839
CREATED:20250429T004100Z
LAST-MODIFIED:20251107T221440Z
UID:10000078-1747472400-1747494000@www.rcbo.org
SUMMARY:Community Yard Sale
DESCRIPTION:  \n  \nPlease stop by the multi-vendor yard sale\, at Annunciation Byzantine Catholic Church\, 995 N. West St.\, Anaheim\, CA 92801. It will take place on Saturday\, May 17\, 2025\, from 9:00am to 3:00pm.
URL:https://www.rcbo.org/event/community-yard-sale/
LOCATION:CA
CATEGORIES:Parish Events
ATTACH;FMTTYPE=image/jpeg:https://www.rcbo.org/wp-content/uploads/2025/11/Yard-Sale-flier-2-jpeg-.jpg
END:VEVENT
BEGIN:VEVENT
DTSTART;TZID=America/Los_Angeles:20250516T200000
DTEND;TZID=America/Los_Angeles:20250516T220000
DTSTAMP:20260423T064839
CREATED:20250508T235500Z
LAST-MODIFIED:20251107T221440Z
UID:10000077-1747425600-1747432800@www.rcbo.org
SUMMARY:UNITY NIGHT
DESCRIPTION:  \nJoin us for an ecumenical night of praise for all Young Adults in Orange County! “I have come to set the earth on fire\, and how I wish it were already blazing!” Luke 12:49 \n“They were all in one place together.” Acts 2:1 \nLearn more:: \nVisit https://linktr.ee/christoursavioryoungadults to RSVP just for a head count! Contact abusa@coscp.org for more info.
URL:https://www.rcbo.org/event/unity-night/
LOCATION:CA
CATEGORIES:Eucharistic Revival,Parish Events,Young Adult Ministry
ATTACH;FMTTYPE=image/jpeg:https://www.rcbo.org/wp-content/uploads/2025/11/IG-Post-for-UNITY-NIGHT-516-1-Amarianna-Busa.jpg
END:VEVENT
BEGIN:VEVENT
DTSTART;TZID=America/Los_Angeles:20250514T183000
DTEND;TZID=America/Los_Angeles:20250514T203000
DTSTAMP:20260423T064839
CREATED:20250509T231200Z
LAST-MODIFIED:20251107T221440Z
UID:10000076-1747247400-1747254600@www.rcbo.org
SUMMARY:Vocations Month Kick Off - Male Religious Orders
DESCRIPTION:What’s the Difference Between Religious Orders for Men? What Role Do They Play in the Life of the Church? \nCome meet and hear from men who have consecrated their lives to God! \nJoin us for a special panel featuring members from different religious communities as they share their mission\, way of life\, and how they serve the Church today. \nDiscover where God might be calling you! \nVisit our GroupMe to stay up to date with events! https://linktr.ee/holyfamyam
URL:https://www.rcbo.org/event/vocations-month-kick-off-male-religious-orders/
LOCATION:CA
CATEGORIES:Parish Events,Vocations,Young Adult Ministry
ATTACH;FMTTYPE=image/png:https://www.rcbo.org/wp-content/uploads/2025/11/May-Holy-Orders-Vanessa.png
END:VEVENT
BEGIN:VEVENT
DTSTART;TZID=America/Los_Angeles:20250513T210000
DTEND;TZID=America/Los_Angeles:20250513T220000
DTSTAMP:20260423T064839
CREATED:20250506T233500Z
LAST-MODIFIED:20251107T221439Z
UID:10000074-1747170000-1747173600@www.rcbo.org
SUMMARY:Ephphatha - Young Adult Event
DESCRIPTION:All young adults are invited to a night of fellowship. If you are seeking a fresh start\, a place where to reconnect with God\, make new friends\, pray\, socialize\, or discern your vocation\, join us! Let us and let us be “Open” to God’s will in our lives. Know that since our event will fall on the Feast of Our Lady of Fatima we will pray the rosary for the following intentions: 1. The repose of the soul of Pope Francis 2. The Conclave 3. Peace in the World 4. An Increase of Priestly Vocations 5. An increase of Saints in our Church 6. The Conversion of all. Our evening will start with the rosary at 9pm in the St Callistus Chapel and end in the Large Gallery. Our evening will also include adoration\, worship music\, and free dinner afterwards. He is waiting for you! \nContact Paola Flores for more information at pflores@christcathedralparish.org
URL:https://www.rcbo.org/event/ephphatha-young-adult-event/
LOCATION:CA
CATEGORIES:Evangelization,Parish Events,Vocations,Young Adult Ministry
ATTACH;FMTTYPE=image/png:https://www.rcbo.org/wp-content/uploads/2025/11/Ephphatha-Flyer-05.13.2025-1.png
END:VEVENT
BEGIN:VEVENT
DTSTART;TZID=America/Los_Angeles:20250513T183000
DTEND;TZID=America/Los_Angeles:20250513T203000
DTSTAMP:20260423T064839
CREATED:20250509T000000Z
LAST-MODIFIED:20251107T221439Z
UID:10000075-1747161000-1747168200@www.rcbo.org
SUMMARY:Men Women Mystery of Love Women's Group
DESCRIPTION:
URL:https://www.rcbo.org/event/men-women-mystery-of-love-womens-group/
LOCATION:CA
CATEGORIES:Parish Events,Young Adult Ministry
ATTACH;FMTTYPE=image/png:https://www.rcbo.org/wp-content/uploads/2025/11/Men-Women-the-Mystery-of-Love-2-YAMOLGLH.png
END:VEVENT
BEGIN:VEVENT
DTSTART;TZID=America/Los_Angeles:20250512T193000
DTEND;TZID=America/Los_Angeles:20250512T203000
DTSTAMP:20260423T064839
CREATED:20250508T234100Z
LAST-MODIFIED:20251107T221439Z
UID:10000073-1747078200-1747081800@www.rcbo.org
SUMMARY:Bible Study
DESCRIPTION:All are invited to join us in the Parish Hall to pray through\, discuss and study the upcoming Sunday Gospel reading. No previous experience or knowledge of the Bible is necessary! \nEmail Matt Zemanek at mzemanek@st-timsrc.org for more information
URL:https://www.rcbo.org/event/bible-study-6/
LOCATION:CA
CATEGORIES:Parish Events,Young Adult Ministry
ATTACH;FMTTYPE=image/jpeg:https://www.rcbo.org/wp-content/uploads/2025/11/Bible-study-Matt-Zemanek-scaled-1.jpg
END:VEVENT
BEGIN:VEVENT
DTSTART;TZID=America/Los_Angeles:20250511T080000
DTEND;TZID=America/Los_Angeles:20250511T180000
DTSTAMP:20260423T064839
CREATED:20250403T234500Z
LAST-MODIFIED:20251107T221438Z
UID:10000072-1746950400-1746986400@www.rcbo.org
SUMMARY:World Day of Prayer
DESCRIPTION:Location: All Parishes
URL:https://www.rcbo.org/event/world-day-of-prayer/
LOCATION:CA
CATEGORIES:Vocations
END:VEVENT
BEGIN:VEVENT
DTSTART;TZID=America/Los_Angeles:20250508T190000
DTEND;TZID=America/Los_Angeles:20250508T203000
DTSTAMP:20260423T064839
CREATED:20250509T230800Z
LAST-MODIFIED:20251107T221438Z
UID:10000071-1746730800-1746736200@www.rcbo.org
SUMMARY:Hearing God in Prayer
DESCRIPTION:Come and learn a new way of how God can speak to you in your everyday life! \nVisit https://linktr.ee/christoursavioryoungadults for more young adult events!
URL:https://www.rcbo.org/event/hearing-god-in-prayer/
LOCATION:CA
CATEGORIES:Parish Events,Young Adult Ministry
ATTACH;FMTTYPE=image/jpeg:https://www.rcbo.org/wp-content/uploads/2025/11/51-Hearing-god-in-prayer-IG-Amarianna-Busa.jpg
END:VEVENT
BEGIN:VEVENT
DTSTART;TZID=America/Los_Angeles:20250507T190000
DTEND;TZID=America/Los_Angeles:20250507T203000
DTSTAMP:20260423T064839
CREATED:20250508T235800Z
LAST-MODIFIED:20251107T221438Z
UID:10000070-1746644400-1746649800@www.rcbo.org
SUMMARY:FREE Refresh\, Reconnect Marriage Night
DESCRIPTION:
URL:https://www.rcbo.org/event/free-refresh-reconnect-marriage-night/
LOCATION:CA
CATEGORIES:Parish Events
ATTACH;FMTTYPE=image/png:https://www.rcbo.org/wp-content/uploads/2025/11/full-YAMOLGLH.png
END:VEVENT
BEGIN:VEVENT
DTSTART;TZID=America/Los_Angeles:20250507T190000
DTEND;TZID=America/Los_Angeles:20250507T203000
DTSTAMP:20260423T064839
CREATED:20250508T235300Z
LAST-MODIFIED:20251107T221438Z
UID:10000069-1746644400-1746649800@www.rcbo.org
SUMMARY:Revival Night
DESCRIPTION:Join us for a night of Eucharistic adoration\, praise and worship\, a powerful message\, and encounter with our Lord. Whether your heart is on fire for the Lord\, or you don’t know who God is yet\, we invite you to open your heart and see what the Lord has in store for you! \nhttps://www.st-timsrc.org/revivalnights
URL:https://www.rcbo.org/event/revival-night-3/
LOCATION:CA
CATEGORIES:Parish Events,Young Adult Ministry
ATTACH;FMTTYPE=image/jpeg:https://www.rcbo.org/wp-content/uploads/2025/11/DSC03448-Matt-Zemanek.jpg
END:VEVENT
BEGIN:VEVENT
DTSTART;TZID=America/Los_Angeles:20250507T190000
DTEND;TZID=America/Los_Angeles:20250507T203000
DTSTAMP:20260423T064839
CREATED:20250207T061800Z
LAST-MODIFIED:20251107T221437Z
UID:10000068-1746644400-1746649800@www.rcbo.org
SUMMARY:Revival Night
DESCRIPTION:These nights of Eucharistic adoration\, praise and worship\, and encounter with our Lord are for all ages. Whether your heart is on fire for the Lord\, or you don’t know who God is yet\, we invite you to open your heart and see what the Lord has in store for you! Join us on the first Wednesday of every month from 7-8:30 pm. \nChildcare is offered free of charge for children ages 1 (confident walker) through 5th grade upon reservation. RSVP your child for childcare by clicking here. \nVisit https://www.st-timsrc.org/revivalnights for more information.
URL:https://www.rcbo.org/event/revival-night-2/
LOCATION:CA
CATEGORIES:Parish Events,Young Adult Ministry
END:VEVENT
BEGIN:VEVENT
DTSTART;TZID=America/Los_Angeles:20250506T190000
DTEND;TZID=America/Los_Angeles:20250506T210000
DTSTAMP:20260423T064839
CREATED:20250423T112900Z
LAST-MODIFIED:20251107T221433Z
UID:10000067-1746558000-1746565200@www.rcbo.org
SUMMARY:Lila Rose at Holy Trinity Parish
DESCRIPTION:Holy Trinity Catholic Church in Ladera Ranch is pleased to host Lila Rose for a special talk on May 6 at 7 p.m. as part of our speaker series celebrating our 20th anniversary/Jubilee Year. \nLila is a writer\, speaker and activist who founded Live Action\, a national human rights organization. Tickets are $20 or free for middle and high school students. \nTo register\, visit https://www.eventbrite.com/e/20th-jubilee-speaker-lila-rose-tickets-1308568917859
URL:https://www.rcbo.org/event/lila-rose-at-holy-trinity-parish/
LOCATION:CA
CATEGORIES:Parish Events
ATTACH;FMTTYPE=image/jpeg:https://www.rcbo.org/wp-content/uploads/2025/11/HolyTrinity-Concept-2-Update-2-scaled-1.jpg
END:VEVENT
BEGIN:VEVENT
DTSTART;TZID=America/Los_Angeles:20250505T180000
DTEND;TZID=America/Los_Angeles:20250505T180000
DTSTAMP:20260423T064839
CREATED:20250404T035700Z
LAST-MODIFIED:20251107T221433Z
UID:10000066-1746468000-1746468000@www.rcbo.org
SUMMARY:Cram & Pray - Young Adult Overnight Study Session
DESCRIPTION:Rather than going to a boba/coffee shop or the library\, come to SC instead for a night of fellowship\, prayer\, and study! \nAdmission is free\, but ID for age verification (i.e.\, driver’s license or passport) is required at the door to verify that participants are 18+. \nOur event will have 3 TVs for group study\, tables with power strips\, board games\, Wi-Fi\, and snacks/refreshments (i.e.\, candy\, chips\, coffee\, fruit\, spaghetti\, Thai Tea\, and more) will be available. \nRSVP via the QR code or at https://forms.gle/u13p94ioYWyVBanb7. \nFood\, refreshment\, and monetary donations can be made in the Google Form. \nAdditionally\, 24-hour adoration will be available inside the church for both parishioners and students studying. Masses will be offered a week before and during finals for students as well. \nContact Jayden Le at (714) 544-3250 or STCparish@stcecilia.org for more information.
URL:https://www.rcbo.org/event/cram-pray-young-adult-overnight-study-session/
LOCATION:CA
CATEGORIES:Evangelization,Parish Events,Young Adult Ministry
ATTACH;FMTTYPE=image/png:https://www.rcbo.org/wp-content/uploads/2025/11/Cram-Pray-2-1.png
END:VEVENT
BEGIN:VEVENT
DTSTART;TZID=America/Los_Angeles:20250504T130000
DTEND;TZID=America/Los_Angeles:20250504T190000
DTSTAMP:20260423T064839
CREATED:20250408T005800Z
LAST-MODIFIED:20251107T221433Z
UID:10000065-1746363600-1746385200@www.rcbo.org
SUMMARY:Into the Deep YA Retreat
DESCRIPTION:The Into the Deep Easter Retreat is a free event for young adults ages 18-35\, hosted by the Sacred Heart Sisters. The afternoon is focused on Mary\, the Mother of Fidelity\, and will include presentations\, individual prayer\, fellowship and Sunday Mass. Dinner is provided. Donations accepted but not required. \nQuestions? Text 714-743-4027. Visit joyfulapostolate.org/into-the-deep/ for more info or to RSVP.
URL:https://www.rcbo.org/event/into-the-deep-ya-retreat/
LOCATION:CA
CATEGORIES:Eucharistic Revival,Evangelization,Vocations,Young Adult Ministry
ATTACH;FMTTYPE=image/png:https://www.rcbo.org/wp-content/uploads/2025/11/Easter-ITD-print.png
END:VEVENT
BEGIN:VEVENT
DTSTART;TZID=America/Los_Angeles:20250503T080000
DTEND;TZID=America/Los_Angeles:20250504T180000
DTSTAMP:20260423T064839
CREATED:20240516T002200Z
LAST-MODIFIED:20251107T221432Z
UID:10000064-1746259200-1746381600@www.rcbo.org
SUMMARY:Parishes in Collaboration (Special Collections)
DESCRIPTION:
URL:https://www.rcbo.org/event/parishes-in-collaboration-special-collections/
LOCATION:CA
END:VEVENT
BEGIN:VEVENT
DTSTART;TZID=America/Los_Angeles:20250502T180000
DTEND;TZID=America/Los_Angeles:20250502T190000
DTSTAMP:20260423T064839
CREATED:20240917T014100Z
LAST-MODIFIED:20251107T221431Z
UID:10000062-1746208800-1746212400@www.rcbo.org
SUMMARY:Radiate Love: Diocesan Convalidation Communal Wedding
DESCRIPTION:The Diocese of Orange invites Catholic couples who are not yet sacramentally married to have their marriage validated by the Catholic Church in a communal wedding Mass with Most Reverend Timothy Freyer\, D.D.\, Auxiliary Bishop of Orange. The nuptial Mass will be on Friday\, May 2\, 2025 at 6 p.m. at Christ Cathedral. \nPreparation for the Sacrament of Marriage will be provided in English and in Spanish by the Diocese of Orange Office for Family Life. \nCouples should submit their intent as soon as possible at https://forms.office.com/r/GVwqsfPCtk. \nOnce you submit this form\, you will be sent the registration and information packet by email. \nrcbo.org/marriage-preparation or email officeforfamilylife@rcbo.org \nInvitation to Diocesan Convalidation Process
URL:https://www.rcbo.org/event/radiate-love-diocesan-convalidation-communal-wedding/
LOCATION:CA
CATEGORIES:Christ Cathedral Campus,Young Adult Ministry
ATTACH;FMTTYPE=image/png:https://www.rcbo.org/wp-content/uploads/2025/11/Color-English.png
END:VEVENT
BEGIN:VEVENT
DTSTART;TZID=America/Los_Angeles:20250502T080000
DTEND;TZID=America/Los_Angeles:20250504T180000
DTSTAMP:20260423T064839
CREATED:20250311T011300Z
LAST-MODIFIED:20251107T221432Z
UID:10000063-1746172800-1746381600@www.rcbo.org
SUMMARY:La Busqueda de Cristo
DESCRIPTION:Spiritual Spanish Retreat for Young Adults 18-35 years old \nRetiro en español espiritual para jovenes adultos de 18 a 35 años \nAidee Lopez (714) 476-3802
URL:https://www.rcbo.org/event/la-busqueda-de-cristo/
LOCATION:CA
CATEGORIES:Evangelization,Young Adult Ministry
ATTACH;FMTTYPE=image/png:https://www.rcbo.org/wp-content/uploads/2025/11/May-2-3-4.png
END:VEVENT
BEGIN:VEVENT
DTSTART;TZID=America/Los_Angeles:20250501T193000
DTEND;TZID=America/Los_Angeles:20250501T210000
DTSTAMP:20260423T064839
CREATED:20250402T023500Z
LAST-MODIFIED:20251107T221431Z
UID:10000061-1746127800-1746133200@www.rcbo.org
SUMMARY:Young Adult Women's Night
DESCRIPTION:
URL:https://www.rcbo.org/event/young-adult-womens-night-2/
LOCATION:CA
CATEGORIES:Parish Events,Young Adult Ministry
END:VEVENT
END:VCALENDAR