BEGIN:VCALENDAR
VERSION:2.0
PRODID:-//Roman Catholic Diocese of Orange - ECPv6.15.17.1//NONSGML v1.0//EN
CALSCALE:GREGORIAN
METHOD:PUBLISH
X-WR-CALNAME:Roman Catholic Diocese of Orange
X-ORIGINAL-URL:https://www.rcbo.org
X-WR-CALDESC:Events for Roman Catholic Diocese of Orange
REFRESH-INTERVAL;VALUE=DURATION:PT1H
X-Robots-Tag:noindex
X-PUBLISHED-TTL:PT1H
BEGIN:VTIMEZONE
TZID:America/Los_Angeles
BEGIN:DAYLIGHT
TZOFFSETFROM:-0800
TZOFFSETTO:-0700
TZNAME:PDT
DTSTART:20240310T100000
END:DAYLIGHT
BEGIN:STANDARD
TZOFFSETFROM:-0700
TZOFFSETTO:-0800
TZNAME:PST
DTSTART:20241103T090000
END:STANDARD
BEGIN:DAYLIGHT
TZOFFSETFROM:-0800
TZOFFSETTO:-0700
TZNAME:PDT
DTSTART:20250309T100000
END:DAYLIGHT
BEGIN:STANDARD
TZOFFSETFROM:-0700
TZOFFSETTO:-0800
TZNAME:PST
DTSTART:20251102T090000
END:STANDARD
BEGIN:DAYLIGHT
TZOFFSETFROM:-0800
TZOFFSETTO:-0700
TZNAME:PDT
DTSTART:20260308T100000
END:DAYLIGHT
BEGIN:STANDARD
TZOFFSETFROM:-0700
TZOFFSETTO:-0800
TZNAME:PST
DTSTART:20261101T090000
END:STANDARD
END:VTIMEZONE
BEGIN:VEVENT
DTSTART;TZID=America/Los_Angeles:20250701T170000
DTEND;TZID=America/Los_Angeles:20250701T181500
DTSTAMP:20260423T032717
CREATED:20250616T224900Z
LAST-MODIFIED:20251107T221456Z
UID:10000115-1751389200-1751393700@www.rcbo.org
SUMMARY:The Mystery of Faith: A Liturgy Course on the Order of Mass
DESCRIPTION:You’re Invited: The Mystery of Faith \nA Liturgy Course on the Order of Mass for the Parish Community \nHave you ever wondered why we do what we do at Mass? \nJoin us for a special Liturgy Course on the Mass—an opportunity to deepen your understanding\, appreciation\, and love for the Eucharist. \n  Where: Christ Our Savior Catholic Parish – Multi Purpose Room \n  When: Weekly on Tuesdays starting July 1st & Concluding August 12th \n  What to Expect: We will be discussing the book “The Mystery of Faith” \n  RSVP: https://form.jotform.com/251575475671062 \nWhether you’re a lifelong Catholic or just beginning your journey\, this course is for everyone who wants to grow in faith and encounter Christ more deeply at Mass. \n  Come and see the mystery come alive! \nLearn more:: \nContact our office for more information at parishoffice@coscp.org \nOrder of Mass Course Flyer
URL:https://www.rcbo.org/event/the-mystery-of-faith-a-liturgy-course-on-the-order-of-mass/
CATEGORIES:Evangelization,Faith Formation,Parish Events
END:VEVENT
BEGIN:VEVENT
DTSTART;TZID=America/Los_Angeles:20250630T193000
DTEND;TZID=America/Los_Angeles:20250630T203000
DTSTAMP:20260423T032717
CREATED:20250522T005600Z
LAST-MODIFIED:20251107T221455Z
UID:10000114-1751311800-1751315400@www.rcbo.org
SUMMARY:Bible Study
DESCRIPTION:All are invited to join us every Monday in the Parish Hall to pray through\, discuss and study the upcoming Sunday Gospel reading. No previous experience or knowledge of the Bible is necessary! \nVisit www.st-timers.org/adults or email Matt Zemanek at mzemanek@st-timsrc.org for more information.
URL:https://www.rcbo.org/event/bible-study-14/
CATEGORIES:Parish Events,Young Adult Ministry
END:VEVENT
BEGIN:VEVENT
DTSTART;TZID=America/Los_Angeles:20250629T144500
DTEND;TZID=America/Los_Angeles:20250629T171500
DTSTAMP:20260423T032717
CREATED:20250325T034500Z
LAST-MODIFIED:20251107T221455Z
UID:10000113-1751208300-1751217300@www.rcbo.org
SUMMARY:Casados y Felices con Dr. John Yzaguirre
DESCRIPTION:¿Cuáles son los ingredientes esenciales para un \nmatrimonio Cristiano\, feliz y duradero? El Dr. John \nYzaguirre responderá a esta pregunta con estrategias prácticas y eficaces sobre \ncómo: \n• Amarse de forma inteligente y transformante \n• Renovar y equilibrar la vida personal y familiar \n• Mejorar la calidad de la comunicación\, solucionar los conflictos y superar las crisis matrimoniales \nEste evento es gratis y se agradece su confirmación de asistencia. \nSe ofrecerán refrescos. Para registrarse o para más información\, \npor favor comuníquese con Ana Jaime: (707) 280-0717. \nLearn more:: \nPara registrarse o para más información\, por favor comuníquese con Ana Jaime: (707) 280-0717. \nCasados y Felices flyer St. Bonaventure 29 de junio 2025
URL:https://www.rcbo.org/event/casados-y-felices-con-dr-john-yzaguirre/
CATEGORIES:Parish Events
END:VEVENT
BEGIN:VEVENT
DTSTART;TZID=America/Los_Angeles:20250626T190000
DTEND;TZID=America/Los_Angeles:20250626T200000
DTSTAMP:20260423T032717
CREATED:20250522T015200Z
LAST-MODIFIED:20251107T221455Z
UID:10000112-1750964400-1750968000@www.rcbo.org
SUMMARY:Bible Study with Deacon Kevin Duthoy\, J.D.
DESCRIPTION:Bible Study 2 YAMOLGLH\nJoin us for an introduction to exegesis and learn how a Catholic Christian studies scripture\, by employing the literal and spiritual senses of scriptural interpretation. \nFor more information\, please visit olglahabara.org/scripture
URL:https://www.rcbo.org/event/bible-study-with-deacon-kevin-duthoy-j-d-2/
CATEGORIES:Parish Events,Young Adult Ministry
END:VEVENT
BEGIN:VEVENT
DTSTART;TZID=America/Los_Angeles:20250623T193000
DTEND;TZID=America/Los_Angeles:20250623T203000
DTSTAMP:20260423T032717
CREATED:20250522T005500Z
LAST-MODIFIED:20251107T221455Z
UID:10000111-1750707000-1750710600@www.rcbo.org
SUMMARY:Bible Study
DESCRIPTION:All are invited to join us every Monday in the Parish Hall to pray through\, discuss and study the upcoming Sunday Gospel reading. No previous experience or knowledge of the Bible is necessary! \nVisit www.st-timers.org/adults or email Matt Zemanek at mzemanek@st-timsrc.org for more information.
URL:https://www.rcbo.org/event/bible-study-13/
CATEGORIES:Parish Events,Young Adult Ministry
END:VEVENT
BEGIN:VEVENT
DTSTART;TZID=America/Los_Angeles:20250621T150000
DTEND;TZID=America/Los_Angeles:20250621T180000
DTSTAMP:20260423T032717
CREATED:20230607T070100Z
LAST-MODIFIED:20251107T221454Z
UID:10000108-1750518000-1750528800@www.rcbo.org
SUMMARY:Santa Clara Day Nursery 60th Anniversary
DESCRIPTION:We\, the Poor Clare Missionary Sisters have served the people of the Diocese of Orange since 1965. Our Mother Foundress Blessed Maria Ines Teresa of The Blessed Sacrament wanted to help the families of Orange by providing a safe environment for preschool children. \nWe would like to invite all alumni of Santa Clara Day Nursery to join us for Mass and reception. Please RSVP by March 2025 \nContact Email: hena.clarisa@gmail.com
URL:https://www.rcbo.org/event/santa-clara-day-nursery-60th-anniversary/
CATEGORIES:Christ Cathedral Campus
ATTACH;FMTTYPE=image/jpeg:https://www.rcbo.org/wp-content/uploads/2025/11/2019-06-14-christ-cathedral-interior-9019-medium.jpg
END:VEVENT
BEGIN:VEVENT
DTSTART;TZID=America/Los_Angeles:20250621T093000
DTEND;TZID=America/Los_Angeles:20250621T173000
DTSTAMP:20260423T032717
CREATED:20250522T014900Z
LAST-MODIFIED:20251107T221454Z
UID:10000109-1750498200-1750527000@www.rcbo.org
SUMMARY:Refresh and Reconnect Marriage Enrichment Retreat
DESCRIPTION:Marriage Night Flyer (8.5 x 11 in) 4 YAMOLGLH\nWe invite you to this one-day retreat to reconnect with your spouse\, meet other like-minded couples\, learn a few tools\, and enter deeper into the Sacrament of Holy Matrimony. At the retreat\, we will provide a light breakfast\, lunch\, and day care. Cost is $75 per couple. \nFor any question\, call (951) 733-1058
URL:https://www.rcbo.org/event/refresh-and-reconnect-marriage-enrichment-retreat/
CATEGORIES:Parish Events,Vocations,Young Adult Ministry
ATTACH;FMTTYPE=image/png:https://www.rcbo.org/wp-content/uploads/2025/11/Marriage-Night-Flyer-8.5-x-11-in-4-YAMOLGLH.png
END:VEVENT
BEGIN:VEVENT
DTSTART;TZID=America/Los_Angeles:20250621T093000
DTEND;TZID=America/Los_Angeles:20250621T171500
DTSTAMP:20260423T032717
CREATED:20250522T015700Z
LAST-MODIFIED:20251107T221454Z
UID:10000110-1750498200-1750526100@www.rcbo.org
SUMMARY:RR Retreat Event
DESCRIPTION:Join us for this 1-day REFRESH | RECONNECT RETREAT \nTogether\, we will Celebrate your Marriage Bond with some great Marriage Tools\, a little Fun\, some Talk and a lot of Encouragement!! \nLet’s help make your Good Marriage even Stronger! \nVisit: https://marriagecareforlife.com/shop/ols/products/refresh-reconnect-retreat-olg-6-21 or Contact Lydia at 951-733-1058 for more info.
URL:https://www.rcbo.org/event/rr-retreat-event/
CATEGORIES:Marriage,Parish Events
ATTACH;FMTTYPE=image/jpeg:https://www.rcbo.org/wp-content/uploads/2025/11/Refresh-Reconnect-RETREAT-PROMO-VERT-8.5x11-OurLadyGuadalupe-scaled-1.jpg
END:VEVENT
BEGIN:VEVENT
DTSTART;TZID=America/Los_Angeles:20250620T080000
DTEND;TZID=America/Los_Angeles:20250620T093000
DTSTAMP:20260423T032717
CREATED:20250509T003500Z
LAST-MODIFIED:20251107T221453Z
UID:10000107-1750406400-1750411800@www.rcbo.org
SUMMARY:National Eucharistic Congress Pilgrimage through Orange County
DESCRIPTION:As the three-year National Eucharistic Revival in the United States draws to a close\, we are excited to launch the St. Katharine Drexel Route from Indianapolis to Los Angeles and invite you to pray before the Blessed Sacrament along the way. The route will run through the Diocese of Orange through various parishes on June 18-20. All ages and walks of life are welcome to join in prayer before Our Lord in the Blessed Sacrament as the National Eucharistic Pilgrimage travels across the country. \nJune 18th: Our Lady of Fatima\, JSerra High School\, Mission Basilica San Juan Capistrano (overnight)June 19th: St. Thomas More\, Holy Family (Orange)\, St. John Maron\, Christ Cathedral (overnight)June 20th: Transfer to Archdiocese of LA in the morning \nRegister here: https://web.cvent.com/event/bb9bee92-7fff-4c36-a89b-2e511c166a86/summary \nCongress Pilgrimage through Orange County \n—————————————- \nJune 18\, 2025 \n12 noon – 3:00 p.m. = Our Lady of Fatima\, Santa Clemente3:30 -5:30 p.m. = JSerra High School5:30 – 6:30 p.m. = Mass at JSerra High School7:15 – 8:00 p.m. – Procession to Mission Basilica San Juan Capistrano8:00 p.m. to 7:30 a.m. (June 19) = Mission Basilica San Juan Capistrano \nJune 19\, 2025 \n8 – 9:00 a.m. = Mass at Mission Basilica San Juan Capistrano10:00 – 12:30 p.m. = St. Thomas More\, Irvine1:00 – 3:00 p.m. = Holy Family Church\, Orange3:30 – 5:30 p.m. = St. John Maron\, Orange5:30 – 6:30 p.m. = Procession to Christ Cathedral6:30 – 10:00 p.m. = Praise & Worship\, Christ Cathedral10:00 p.m. – 8:00 a.m. (June 20th) = Christ Cathedral \nJune 20\, 2025 \n8 – 9:00 a.m. =  Mass at Christ Cathedral9:30 a.m. = transfer to Archdiocese of Los Angeles.
URL:https://www.rcbo.org/event/national-eucharistic-congress-pilgrimage-through-orange-county-3/
CATEGORIES:Evangelization,Young Adult Ministry
END:VEVENT
BEGIN:VEVENT
DTSTART;TZID=America/Los_Angeles:20250619T190000
DTEND;TZID=America/Los_Angeles:20250619T200000
DTSTAMP:20260423T032717
CREATED:20250522T010300Z
LAST-MODIFIED:20251107T221451Z
UID:10000106-1750359600-1750363200@www.rcbo.org
SUMMARY:Science and Faith Talk
DESCRIPTION:St. Norbert’s Upper Room (Family and Youth Center) \nJoin us for an engaging and thought-provoking talk exploring the dynamic relationship between Catholic faith and modern science. Too often portrayed as conflicting forces\, faith and science in fact share a deep\, complementary relationship rooted in the pursuit of truth. \nInstagram: st.norbertya
URL:https://www.rcbo.org/event/science-and-faith-talk/
CATEGORIES:Parish Events,Young Adult Ministry
END:VEVENT
BEGIN:VEVENT
DTSTART;TZID=America/Los_Angeles:20250619T080000
DTEND;TZID=America/Los_Angeles:20250619T080000
DTSTAMP:20260423T032717
CREATED:20250509T003400Z
LAST-MODIFIED:20251107T221451Z
UID:10000105-1750320000-1750320000@www.rcbo.org
SUMMARY:National Eucharistic Congress Pilgrimage through Orange County
DESCRIPTION:As the three-year National Eucharistic Revival in the United States draws to a close\, we are excited to launch the St. Katharine Drexel Route from Indianapolis to Los Angeles and invite you to pray before the Blessed Sacrament along the way. The route will run through the Diocese of Orange through various parishes on June 18-20. All ages and walks of life are welcome to join in prayer before Our Lord in the Blessed Sacrament as the National Eucharistic Pilgrimage travels across the country. \nJune 18th: Our Lady of Fatima\, JSerra High School\, Mission Basilica San Juan Capistrano (overnight)June 19th: St. Thomas More\, Holy Family (Orange)\, St. John Maron\, Christ Cathedral (overnight)June 20th: Transfer to Archdiocese of LA in the morning \nRegister here: https://web.cvent.com/event/bb9bee92-7fff-4c36-a89b-2e511c166a86/summary \nCongress Pilgrimage through Orange County \n—————————————- \nJune 18\, 2025 \n12 noon – 3:00 p.m. = Our Lady of Fatima\, Santa Clemente3:30 -5:30 p.m. = JSerra High School5:30 – 6:30 p.m. = Mass at JSerra High School7:15 – 8:00 p.m. – Procession to Mission Basilica San Juan Capistrano8:00 p.m. to 7:30 a.m. (June 19) = Mission Basilica San Juan Capistrano \nJune 19\, 2025 \n8 – 9:00 a.m. = Mass at Mission Basilica San Juan Capistrano10:00 – 12:30 p.m. = St. Thomas More\, Irvine1:00 – 3:00 p.m. = Holy Family Church\, Orange3:30 – 5:30 p.m. = St. John Maron\, Orange5:30 – 6:30 p.m. = Procession to Christ Cathedral6:30 – 10:00 p.m. = Praise & Worship\, Christ Cathedral10:00 p.m. – 8:00 a.m. (June 20th) = Christ Cathedral \nJune 20\, 2025 \n8 – 9:00 a.m. =  Mass at Christ Cathedral9:30 a.m. = transfer to Archdiocese of Los Angeles.
URL:https://www.rcbo.org/event/national-eucharistic-congress-pilgrimage-through-orange-county-2/
CATEGORIES:Evangelization,Young Adult Ministry
END:VEVENT
BEGIN:VEVENT
DTSTART;TZID=America/Los_Angeles:20250618T190000
DTEND;TZID=America/Los_Angeles:20250618T210000
DTSTAMP:20260423T032717
CREATED:20250522T005000Z
LAST-MODIFIED:20251107T221450Z
UID:10000104-1750273200-1750280400@www.rcbo.org
SUMMARY:Totus Tuus
DESCRIPTION:Join us for a Young Adult XLT Night with food and fellowship. \n@blessed.yam
URL:https://www.rcbo.org/event/totus-tuus/
CATEGORIES:Parish Events,Young Adult Ministry
END:VEVENT
BEGIN:VEVENT
DTSTART;TZID=America/Los_Angeles:20250616T193000
DTEND;TZID=America/Los_Angeles:20250616T203000
DTSTAMP:20260423T032717
CREATED:20250522T005400Z
LAST-MODIFIED:20251107T221450Z
UID:10000103-1750102200-1750105800@www.rcbo.org
SUMMARY:Bible Study
DESCRIPTION:All are invited to join us every Monday in the Parish Hall to pray through\, discuss and study the upcoming Sunday Gospel reading. No previous experience or knowledge of the Bible is necessary! \nVisit www.st-timers.org/adults or email Matt Zemanek at mzemanek@st-timsrc.org for more information.
URL:https://www.rcbo.org/event/bible-study-12/
CATEGORIES:Parish Events,Young Adult Ministry
END:VEVENT
BEGIN:VEVENT
DTSTART;TZID=America/Los_Angeles:20250616T183000
DTEND;TZID=America/Los_Angeles:20250616T203000
DTSTAMP:20260423T032717
CREATED:20241107T033000Z
LAST-MODIFIED:20251107T221449Z
UID:10000102-1750098600-1750105800@www.rcbo.org
SUMMARY:National Council of Catholic Women Ecclesiastical Province of Los Angeles
DESCRIPTION:The National Council of Catholic Women acts through its members to support\, empower and educate all Catholic women in spirituality\, leadership and service. NCCW programs respond with Gospel values to the needs of the Church and society in the modern world. \n\n\n\n\nOur Objectives\n\n\n\nTo support the programs of the National Council of Catholic Women and maintain communication within the Province of Los Angeles.\nServe as a medium through which Catholic women in southern California may speak and act on matters of public interest.\nTo establish liaison or cooperation with other organizations of good will.\nWork with the Archbishop and Bishops of southern California.\n\n\n\n\n\nVisit https://nccwla.com/ for more info.
URL:https://www.rcbo.org/event/national-council-of-catholic-women-ecclesiastical-province-of-los-angeles/
CATEGORIES:Christ Cathedral Campus,Evangelization
END:VEVENT
BEGIN:VEVENT
DTSTART;TZID=America/Los_Angeles:20250614T080000
DTEND;TZID=America/Los_Angeles:20250615T180000
DTSTAMP:20260423T032717
CREATED:20240516T002300Z
LAST-MODIFIED:20251107T221449Z
UID:10000101-1749888000-1750010400@www.rcbo.org
SUMMARY:Universal Church Collection (Special Collections)
DESCRIPTION:Combines Peter’s Pence and Catholic Relief Services
URL:https://www.rcbo.org/event/universal-church-collection-special-collections/
END:VEVENT
BEGIN:VEVENT
DTSTART;TZID=America/Los_Angeles:20250613T170000
DTEND;TZID=America/Los_Angeles:20250613T210000
DTSTAMP:20260423T032717
CREATED:20250509T225800Z
LAST-MODIFIED:20251126T211501Z
UID:10000099-1749834000-1749848400@www.rcbo.org
SUMMARY:Priests VS Seminarians Basketball Game 2025
DESCRIPTION:On Friday\, June 13\, cheer on your favorite priests and seminarians as they battle it out on the court at the 2025 Priests VS Seminarians Basketball game! WHERE: Mater Dei High School Gym Schedule: 5:00 PM: Food & Fellowship6:30 PM: Doors Open7:00 PM: Tip-off & Program BeginsTickets are $15 each or 5 for $60. Get your tickets today at: Mater Dei High School Gym Schedule:5:00 PM: Food & Fellowship6:30 PM: Doors Open7:00 PM: Tip-off & Program BeginsTickets: Available at https://www.eventbrite.com/e/priests-vs-seminarians-basketball-game-tickets-1337274547169?aff=email
URL:https://www.rcbo.org/event/priests-vs-seminarians-basketball-game-2025/
CATEGORIES:Vocations,Young Adult Ministry
ATTACH;FMTTYPE=image/jpeg:https://www.rcbo.org/wp-content/uploads/2025/11/Untitled.jpg
END:VEVENT
BEGIN:VEVENT
DTSTART;TZID=America/Los_Angeles:20250613T170000
DTEND;TZID=America/Los_Angeles:20250613T210000
DTSTAMP:20260423T032717
CREATED:20250404T025600Z
LAST-MODIFIED:20251107T221448Z
UID:10000098-1749834000-1749848400@www.rcbo.org
SUMMARY:Priest and Seminarian Basketball Game
DESCRIPTION:Priests & Seminarian Basketball Game Friday\, June 13th – 5-9 pm To build community and awareness of who our seminarians are. Mater Dei High School
URL:https://www.rcbo.org/event/priest-and-seminarian-basketball-game/
CATEGORIES:Vocations
END:VEVENT
BEGIN:VEVENT
DTSTART;TZID=America/Los_Angeles:20250613T170000
DTEND;TZID=America/Los_Angeles:20250613T203000
DTSTAMP:20260423T032717
CREATED:20250522T010500Z
LAST-MODIFIED:20251107T221449Z
UID:10000100-1749834000-1749846600@www.rcbo.org
SUMMARY:HT 20's Bonfire Summer Kick-off
DESCRIPTION:HT 20’s Summer Bonfire and Beach Day \nHoly Trinity Young Adults \nLocation: T-Street Beach in San Clemente \nFollow us on IG @ht2.0s
URL:https://www.rcbo.org/event/ht-20s-bonfire-summer-kick-off/
CATEGORIES:Parish Events,Young Adult Ministry
END:VEVENT
BEGIN:VEVENT
DTSTART;TZID=America/Los_Angeles:20250612T190000
DTEND;TZID=America/Los_Angeles:20250612T200000
DTSTAMP:20260423T032717
CREATED:20250522T015200Z
LAST-MODIFIED:20251107T221448Z
UID:10000097-1749754800-1749758400@www.rcbo.org
SUMMARY:Bible Study with Deacon Kevin Duthoy\, J.D.
DESCRIPTION:Bible Study 2 YAMOLGLH \nJoin us for an introduction to exegesis and learn how a Catholic Christian studies scripture\, by employing the literal and spiritual senses of scriptural interpretation. \nFor more information\, please visit olglahabara.org/scripture
URL:https://www.rcbo.org/event/bible-study-with-deacon-kevin-duthoy-j-d/
CATEGORIES:Parish Events,Young Adult Ministry
ATTACH;FMTTYPE=image/png:https://www.rcbo.org/wp-content/uploads/2025/11/Bible-Study-2-YAMOLGLH.png
END:VEVENT
BEGIN:VEVENT
DTSTART;TZID=America/Los_Angeles:20250612T190000
DTEND;TZID=America/Los_Angeles:20250612T200000
DTSTAMP:20260423T032717
CREATED:20250522T010100Z
LAST-MODIFIED:20251107T221448Z
UID:10000096-1749754800-1749758400@www.rcbo.org
SUMMARY:Volleyball
DESCRIPTION:St. Norbert’s Upper Room (Family and Youth Center) \nGame night in our gym. \nInstagram: st.norbertya
URL:https://www.rcbo.org/event/volleyball/
CATEGORIES:Parish Events,Young Adult Ministry
END:VEVENT
BEGIN:VEVENT
DTSTART;TZID=America/Los_Angeles:20250609T193000
DTEND;TZID=America/Los_Angeles:20250609T203000
DTSTAMP:20260423T032717
CREATED:20250522T005200Z
LAST-MODIFIED:20251107T221447Z
UID:10000094-1749497400-1749501000@www.rcbo.org
SUMMARY:Bible Study
DESCRIPTION:All are invited to join us every Monday in the Parish Hall to pray through\, discuss and study the upcoming Sunday Gospel reading. No previous experience or knowledge of the Bible is necessary! \nVisit www.st-timers.org/adults or email Matt Zemanek at mzemanek@st-timsrc.org for more information.
URL:https://www.rcbo.org/event/bible-study-11/
CATEGORIES:Parish Events,Young Adult Ministry
END:VEVENT
BEGIN:VEVENT
DTSTART;TZID=America/Los_Angeles:20250609T180000
DTEND;TZID=America/Los_Angeles:20250609T203000
DTSTAMP:20260423T032717
CREATED:20250604T034400Z
LAST-MODIFIED:20251107T221447Z
UID:10000095-1749492000-1749501000@www.rcbo.org
SUMMARY:High School Vocation Series
DESCRIPTION:The Diocese of Orange Vocations Office is hosting a summer vocation series for high school boys from July 9 to August 13. Each evening includes a guest speaker\, group discussion\, fellowship\, and a free dinner. There is no cost to attend\, and sessions will be held at the Pastoral Center on the Christ Cathedral campus.
URL:https://www.rcbo.org/event/high-school-vocation-series/
CATEGORIES:Christ Cathedral Campus,Diocese of Orange,Parish Events,Vocations,Youth Ministry/Confirmation
ATTACH;FMTTYPE=image/jpeg:https://www.rcbo.org/wp-content/uploads/2025/11/OLLV-Logo-scaled-1.jpg
END:VEVENT
BEGIN:VEVENT
DTSTART;TZID=America/Los_Angeles:20250607T100000
DTEND;TZID=America/Los_Angeles:20250607T120000
DTSTAMP:20260423T032717
CREATED:20250429T070400Z
LAST-MODIFIED:20251107T221447Z
UID:10000093-1749290400-1749297600@www.rcbo.org
SUMMARY:Ordination to the Priesthood
DESCRIPTION:The Diocese of Orange thrilled to share that on June 7\, our diocese will welcome Deacon Oliver Coughlin to the Priesthood. \nDeacon Oliver will be ordained to the Sacred Order of Priesthood by Bishop Kevin Vann on Saturday\, June 7\, 2025\, at 10 a.m. at Christ Cathedral. All are invited to attend.
URL:https://www.rcbo.org/event/ordination-to-the-priesthood/
CATEGORIES:Christ Cathedral Campus
ATTACH;FMTTYPE=image/png:https://www.rcbo.org/wp-content/uploads/2025/11/pope-francis-web-2.png
END:VEVENT
BEGIN:VEVENT
DTSTART;TZID=America/Los_Angeles:20250607T100000
DTEND;TZID=America/Los_Angeles:20250607T120000
DTSTAMP:20260423T032717
CREATED:20250404T024100Z
LAST-MODIFIED:20251107T221447Z
UID:10000092-1749290400-1749297600@www.rcbo.org
SUMMARY:Priest Ordination Day
DESCRIPTION:
URL:https://www.rcbo.org/event/priest-ordination-day/
CATEGORIES:Vocations
END:VEVENT
BEGIN:VEVENT
DTSTART;TZID=America/Los_Angeles:20250605T190000
DTEND;TZID=America/Los_Angeles:20250605T200000
DTSTAMP:20260423T032717
CREATED:20250522T015500Z
LAST-MODIFIED:20251107T221446Z
UID:10000091-1749150000-1749153600@www.rcbo.org
SUMMARY:Women's night
DESCRIPTION:Ladies\, it’s time to build sisterhood and dive into what it means to live as daughters of God and brides of Christ. Receive His love\, be encouraged\, and feel more equipped to live boldly in the calling He has for you – come as you are and bring a friend with you! \nVisit https://linktr.ee/christoursavioryoungadults to follow us on instagram (@ya.christoursavior) and join our GroupMe for updates on fellowship + events.
URL:https://www.rcbo.org/event/womens-night/
CATEGORIES:Parish Events,Young Adult Ministry
ATTACH;FMTTYPE=image/png:https://www.rcbo.org/wp-content/uploads/2025/11/65-womens-night-Amarianna-Busa.png
END:VEVENT
BEGIN:VEVENT
DTSTART;TZID=America/Los_Angeles:20250605T190000
DTEND;TZID=America/Los_Angeles:20250605T200000
DTSTAMP:20260423T032717
CREATED:20250522T010000Z
LAST-MODIFIED:20251107T221446Z
UID:10000090-1749150000-1749153600@www.rcbo.org
SUMMARY:Bible Study
DESCRIPTION:St. Norbert’s Upper Room (Family and Youth Center) \nUpcoming Sunday reading reflection and celebration of the feast of St Nobert \nInstagram:. st.norbertya
URL:https://www.rcbo.org/event/bible-study-10/
CATEGORIES:Parish Events,Young Adult Ministry
END:VEVENT
BEGIN:VEVENT
DTSTART;TZID=America/Los_Angeles:20250604T190000
DTEND;TZID=America/Los_Angeles:20250604T203000
DTSTAMP:20260423T032717
CREATED:20250207T061900Z
LAST-MODIFIED:20251107T221446Z
UID:10000089-1749063600-1749069000@www.rcbo.org
SUMMARY:Revival Night
DESCRIPTION:These nights of Eucharistic adoration\, praise and worship\, and encounter with our Lord are for all ages. Whether your heart is on fire for the Lord\, or you don’t know who God is yet\, we invite you to open your heart and see what the Lord has in store for you! Join us on the first Wednesday of every month from 7-8:30 pm. \nChildcare is offered free of charge for children ages 1 (confident walker) through 5th grade upon reservation. RSVP your child for childcare by clicking here. \nVisit https://www.st-timsrc.org/revivalnights for more information.
URL:https://www.rcbo.org/event/revival-night-4/
CATEGORIES:Parish Events,Young Adult Ministry
END:VEVENT
BEGIN:VEVENT
DTSTART;TZID=America/Los_Angeles:20250602T193000
DTEND;TZID=America/Los_Angeles:20250602T203000
DTSTAMP:20260423T032717
CREATED:20250522T005200Z
LAST-MODIFIED:20251107T221445Z
UID:10000088-1748892600-1748896200@www.rcbo.org
SUMMARY:Bible Study
DESCRIPTION:All are invited to join us every Monday in the Parish Hall to pray through\, discuss and study the upcoming Sunday Gospel reading. No previous experience or knowledge of the Bible is necessary! \nVisit www.st-timers.org/adults or email Matt Zemanek at mzemanek@st-timsrc.org for more information.
URL:https://www.rcbo.org/event/bible-study-9/
CATEGORIES:Parish Events,Young Adult Ministry
END:VEVENT
BEGIN:VEVENT
DTSTART;TZID=America/Los_Angeles:20250530T190000
DTEND;TZID=America/Los_Angeles:20250530T213000
DTSTAMP:20260423T032717
CREATED:20250429T003900Z
LAST-MODIFIED:20251107T221442Z
UID:10000085-1748631600-1748640600@www.rcbo.org
SUMMARY:Ecumenical Prayer Service
DESCRIPTION:Please join us for the \nEcumenical Prayer Service for Christian Unity \nFriday\, May 30\, 2025 \nSt. Kilian’s Roman Catholic Church\n26872 Estanciero Dr\, Mission Viejo\, CA 92691 \n7:00pm to 9:30pm \nPlease join us for this very special event.
URL:https://www.rcbo.org/event/ecumenical-prayer-service/
CATEGORIES:Evangelization,Parish Events
ATTACH;FMTTYPE=image/png:https://www.rcbo.org/wp-content/uploads/2025/11/Ecumenical-Prayer-Service-2025.png
END:VEVENT
BEGIN:VEVENT
DTSTART;TZID=America/Los_Angeles:20250530T190000
DTEND;TZID=America/Los_Angeles:20250530T190000
DTSTAMP:20260423T032717
CREATED:20250517T045800Z
LAST-MODIFIED:20251107T221443Z
UID:10000086-1748631600-1748631600@www.rcbo.org
SUMMARY:The 18th Annual Service of Prayer for Christian Unity at Pentecost (Celebrating the 1700th Anniversary of the First Ecumenical Council of the Church)
DESCRIPTION:Featuring Choirs from The Roman Catholic\, Eastern Catholic\, Armenian Apostolic\, Assyrian and Orthodox Christian Liturgical traditions. \nFRIDAY\, MAY 30\, 2025 AT 7PMSt. Kilian’s Roman Catholic Church26872 Estanciero Drive\, Mission Viejo\, CA 92691
URL:https://www.rcbo.org/event/the-18th-annual-service-of-prayer-for-christian-unity-at-pentecost-celebrating-the-1700th-anniversary-of-the-first-ecumenical-council-of-the-church/
CATEGORIES:Ecumenism & Inter-religion,Parish Events
ATTACH;FMTTYPE=image/jpeg:https://www.rcbo.org/wp-content/uploads/2025/11/Ecumenical-Prayer-Service-189.jpg
END:VEVENT
END:VCALENDAR