BEGIN:VCALENDAR
VERSION:2.0
PRODID:-//Roman Catholic Diocese of Orange - ECPv6.15.17.1//NONSGML v1.0//EN
CALSCALE:GREGORIAN
METHOD:PUBLISH
X-ORIGINAL-URL:https://www.rcbo.org
X-WR-CALDESC:Events for Roman Catholic Diocese of Orange
REFRESH-INTERVAL;VALUE=DURATION:PT1H
X-Robots-Tag:noindex
X-PUBLISHED-TTL:PT1H
BEGIN:VTIMEZONE
TZID:America/Los_Angeles
BEGIN:DAYLIGHT
TZOFFSETFROM:-0800
TZOFFSETTO:-0700
TZNAME:PDT
DTSTART:20240310T100000
END:DAYLIGHT
BEGIN:STANDARD
TZOFFSETFROM:-0700
TZOFFSETTO:-0800
TZNAME:PST
DTSTART:20241103T090000
END:STANDARD
BEGIN:DAYLIGHT
TZOFFSETFROM:-0800
TZOFFSETTO:-0700
TZNAME:PDT
DTSTART:20250309T100000
END:DAYLIGHT
BEGIN:STANDARD
TZOFFSETFROM:-0700
TZOFFSETTO:-0800
TZNAME:PST
DTSTART:20251102T090000
END:STANDARD
BEGIN:DAYLIGHT
TZOFFSETFROM:-0800
TZOFFSETTO:-0700
TZNAME:PDT
DTSTART:20260308T100000
END:DAYLIGHT
BEGIN:STANDARD
TZOFFSETFROM:-0700
TZOFFSETTO:-0800
TZNAME:PST
DTSTART:20261101T090000
END:STANDARD
END:VTIMEZONE
BEGIN:VEVENT
DTSTART;TZID=America/Los_Angeles:20250828T190000
DTEND;TZID=America/Los_Angeles:20250828T210000
DTSTAMP:20260422T184333
CREATED:20250725T220200Z
LAST-MODIFIED:20251107T221516Z
UID:10000164-1756407600-1756414800@www.rcbo.org
SUMMARY:Bible Study Event Post
DESCRIPTION:
URL:https://www.rcbo.org/event/bible-study-event-post-2/
LOCATION:CA
CATEGORIES:Evangelization,Parish Events,Young Adult Ministry
END:VEVENT
BEGIN:VEVENT
DTSTART;TZID=America/Los_Angeles:20250826T183000
DTEND;TZID=America/Los_Angeles:20250826T203000
DTSTAMP:20260422T184333
CREATED:20250730T014700Z
LAST-MODIFIED:20251107T221516Z
UID:10000163-1756233000-1756240200@www.rcbo.org
SUMMARY:DEVOTE NITE
DESCRIPTION:DEVOTE NITE David Cimeni
URL:https://www.rcbo.org/event/devote-nite/
LOCATION:CA
CATEGORIES:Evangelization,Young Adult Ministry
ATTACH;FMTTYPE=image/jpeg:https://www.rcbo.org/wp-content/uploads/2025/11/DEVOTE-NITE-David-Cimeni-scaled-1.jpg
END:VEVENT
BEGIN:VEVENT
DTSTART;TZID=America/Los_Angeles:20250826T180000
DTEND;TZID=America/Los_Angeles:20250826T190000
DTSTAMP:20260422T184333
CREATED:20250725T215200Z
LAST-MODIFIED:20251107T221515Z
UID:10000162-1756231200-1756234800@www.rcbo.org
SUMMARY:Summer Public Witness
DESCRIPTION:Join us on Tuesday evenings as we stand in solidarity with our marginalized brothers and sisters. Our commitment to the Gospel\, the mission\, and our charism urges us to respond and stand with our marginalized community impacted by the removal of our social safety net programs\, including the elimination of healthcare\, SNAP\, and the cruel separation of families. \nPark at the St. Joseph Center’s South Parking Lot. Please do not park in spaces marked “VSJ.” We will gather on La Veta Ave. by the 22 Fwy. exit \nLearn more at https://bit.ly/2025spw If you have any questions\, please contact Damaris Molina at dmolina@csjorange.org or by phone at 714-633-8121 ext. 7741 \n  \nSummer Public Witness 2025 Flyer – Damaris
URL:https://www.rcbo.org/event/summer-public-witness-4/
LOCATION:CA
CATEGORIES:Evangelization,Youth Ministry/Confirmation
END:VEVENT
BEGIN:VEVENT
DTSTART;TZID=America/Los_Angeles:20250824T144500
DTEND;TZID=America/Los_Angeles:20250824T171500
DTSTAMP:20260422T184333
CREATED:20250701T002600Z
LAST-MODIFIED:20251107T221515Z
UID:10000161-1756046700-1756055700@www.rcbo.org
SUMMARY:Como Manejar Las Emociones presentado por Dr. John Yzaguirre
DESCRIPTION:Para gozar de un matrimonio feliz necesitamos eliminar nuestros resentimientos\, controlar nuestra ansiedad\, y superar el desánimo y las crisis y ser agentes de felicidad. Están cordialmente invitados a esta presentación del Dr. John Yzaguirre que ofrecerá técnicas eficaces para promover una felicidad auténtica y duradera. Este evento es gratis y se agradece su confirmación de asistencia. \nPara registrarse o para más información por favor comuníquese con Ana Jaime 707-280-0717. \n  \nCOMO MANEJAR LAS EMOCIONES 24 de agosto 2025
URL:https://www.rcbo.org/event/como-manejar-las-emociones-presentado-por-dr-john-yzaguirre/
LOCATION:CA
CATEGORIES:Parish Events
END:VEVENT
BEGIN:VEVENT
DTSTART;TZID=America/Los_Angeles:20250821T190000
DTEND;TZID=America/Los_Angeles:20250821T210000
DTSTAMP:20260422T184333
CREATED:20250725T220400Z
LAST-MODIFIED:20251107T221515Z
UID:10000160-1755802800-1755810000@www.rcbo.org
SUMMARY:Event Post: Potluck and Jackbox Games
DESCRIPTION:Come relax with us as we play enjoy games and food together. \nContact our Instagram at st.norbertya for any questions
URL:https://www.rcbo.org/event/event-post-potluck-and-jackbox-games/
LOCATION:CA
CATEGORIES:Evangelization,Parish Events,Young Adult Ministry
END:VEVENT
BEGIN:VEVENT
DTSTART;TZID=America/Los_Angeles:20250819T180000
DTEND;TZID=America/Los_Angeles:20250819T190000
DTSTAMP:20260422T184333
CREATED:20250725T215300Z
LAST-MODIFIED:20251107T221515Z
UID:10000159-1755626400-1755630000@www.rcbo.org
SUMMARY:Summer Public Witness
DESCRIPTION:Join us on Tuesday evenings as we stand in solidarity with our marginalized brothers and sisters. Our commitment to the Gospel\, the mission\, and our charism urges us to respond and stand with our marginalized community impacted by the removal of our social safety net programs\, including the elimination of healthcare\, SNAP\, and the cruel separation of families. \nPark at the St. Joseph Center’s South Parking Lot. Please do not park in spaces marked “VSJ.” We will gather on La Veta Ave. by the 22 Fwy. exit \nLearn more at https://bit.ly/2025spw If you have any questions\, please contact Damaris Molina at dmolina@csjorange.org or by phone at 714-633-8121 ext. 7741 \n  \nSummer Public Witness 2025 Flyer – Damaris
URL:https://www.rcbo.org/event/summer-public-witness-3/
LOCATION:CA
CATEGORIES:Evangelization,Youth Ministry/Confirmation
END:VEVENT
BEGIN:VEVENT
DTSTART;TZID=America/Los_Angeles:20250814T190000
DTEND;TZID=America/Los_Angeles:20250814T210000
DTSTAMP:20260422T184333
CREATED:20250730T014400Z
LAST-MODIFIED:20251107T221514Z
UID:10000158-1755198000-1755205200@www.rcbo.org
SUMMARY:Philosophy and God talk
DESCRIPTION:Join us for a talk about the basics of philosophy and God
URL:https://www.rcbo.org/event/philosophy-and-god-talk/
LOCATION:CA
CATEGORIES:Evangelization,Young Adult Ministry
END:VEVENT
BEGIN:VEVENT
DTSTART;TZID=America/Los_Angeles:20250813T183000
DTEND;TZID=America/Los_Angeles:20250813T193000
DTSTAMP:20260422T184333
CREATED:20250730T015500Z
LAST-MODIFIED:20251107T221514Z
UID:10000157-1755109800-1755113400@www.rcbo.org
SUMMARY:Bible Study
DESCRIPTION:Event Description: \nBible study reflecting on the readings of the Solemnity of the Assumption \nLearn more:: \nContact Mayra at mencinas@saintmarysfullerton.org or @stmarys.yam on Instagram for more details
URL:https://www.rcbo.org/event/bible-study-21/
LOCATION:CA
CATEGORIES:Evangelization,Young Adult Ministry
END:VEVENT
BEGIN:VEVENT
DTSTART;TZID=America/Los_Angeles:20250812T184500
DTEND;TZID=America/Los_Angeles:20250812T200000
DTSTAMP:20260422T184333
CREATED:20250729T040100Z
LAST-MODIFIED:20251107T221513Z
UID:10000155-1755024300-1755028800@www.rcbo.org
SUMMARY:Lumen Christi Summer Retreat: Hebrews
DESCRIPTION:July 29\, 2025 – 1 Corinthians – The Temple of the Holy Spirit and the Celebration of the Eucharist (in the Church Hall after Mass)\nAugust 5\, 2025 – Ephesians – Jesus’ authority\, the Unity of the Church and Holy Matrimony (in the Church after Mass)\nAugust 12\, 2025 – Hebrews – The Eternal Priesthood of Jesus Christ and the New Jerusalem (in the Church after Mass)\n\nFor more information: \n bible@rcbo.org \n(714) 282-3079
URL:https://www.rcbo.org/event/lumen-christi-summer-retreat-hebrews/
LOCATION:CA
CATEGORIES:Biblical Institute,Faith Formation
END:VEVENT
BEGIN:VEVENT
DTSTART;TZID=America/Los_Angeles:20250812T183000
DTEND;TZID=America/Los_Angeles:20250812T203000
DTSTAMP:20260422T184333
CREATED:20250730T015700Z
LAST-MODIFIED:20251107T221514Z
UID:10000156-1755023400-1755030600@www.rcbo.org
SUMMARY:Beyond the Feeling: The Power of Choosing Love
DESCRIPTION:Event Description: \nWe are excited to have Fr. Matthew Wheeler\, Pastor for Our Savior Parish & USC Caruso Catholic Center\, come speak on the importance of choosing the good of the other. This topic highlights how our will and virtue play a pivotal role in fostering authentic love and friendship. \nIn contrast to a culture that often views love as merely a feeling\, this approach emphasizes that love is ultimately a choice\, one that honors the dignity of the other person and moves us beyond utilitarian views of relationships. \nFor only $5\, this evening will include dinner\, Fr. Matt’s talk\, Q&A\, and adoration. \nLearn more:: \nContact Jacelyn at jvo@olglahabra.org or Mayra at mencinas@saintmarysfullerton.org for questions!
URL:https://www.rcbo.org/event/beyond-the-feeling-the-power-of-choosing-love/
LOCATION:CA
CATEGORIES:Evangelization,Parish Events,Young Adult Ministry
END:VEVENT
BEGIN:VEVENT
DTSTART;TZID=America/Los_Angeles:20250812T180000
DTEND;TZID=America/Los_Angeles:20250812T190000
DTSTAMP:20260422T184333
CREATED:20250725T215100Z
LAST-MODIFIED:20251107T221513Z
UID:10000154-1755021600-1755025200@www.rcbo.org
SUMMARY:Summer Public Witness
DESCRIPTION:Join us on Tuesday evenings as we stand in solidarity with our marginalized brothers and sisters. Our commitment to the Gospel\, the mission\, and our charism urges us to respond and stand with our marginalized community impacted by the removal of our social safety net programs\, including the elimination of healthcare\, SNAP\, and the cruel separation of families. \nPark at the St. Joseph Center’s South Parking Lot. Please do not park in spaces marked “VSJ.” We will gather on La Veta Ave. by the 22 Fwy. exit \nLearn more at https://bit.ly/2025spw If you have any questions\, please contact Damaris Molina at dmolina@csjorange.org or by phone at 714-633-8121 ext. 7741 \n  \nSummer Public Witness 2025 Flyer – Damaris
URL:https://www.rcbo.org/event/summer-public-witness-2/
LOCATION:CA
CATEGORIES:Evangelization,Youth Ministry/Confirmation
END:VEVENT
BEGIN:VEVENT
DTSTART;TZID=America/Los_Angeles:20250811T190000
DTEND;TZID=America/Los_Angeles:20250811T210000
DTSTAMP:20260422T184333
CREATED:20250730T015400Z
LAST-MODIFIED:20251107T221513Z
UID:10000153-1754938800-1754946000@www.rcbo.org
SUMMARY:Totus Tuus
DESCRIPTION:Young Adult XLT Night\, in Rooms 127-128 of our Pastoral Center \nLearn more:: \nDM @blessed.yam for more info
URL:https://www.rcbo.org/event/totus-tuus-2/
LOCATION:CA
CATEGORIES:Young Adult Ministry
END:VEVENT
BEGIN:VEVENT
DTSTART;TZID=America/Los_Angeles:20250810T184500
DTEND;TZID=America/Los_Angeles:20250810T203000
DTSTAMP:20260422T184333
CREATED:20250729T063300Z
LAST-MODIFIED:20251107T221513Z
UID:10000152-1754851500-1754857800@www.rcbo.org
SUMMARY:Young Adult West Coast Swing Lesson
DESCRIPTION:Young Adult Dance Lesson August 10 Holy Trinity Young Adults
URL:https://www.rcbo.org/event/young-adult-west-coast-swing-lesson/
LOCATION:CA
CATEGORIES:Evangelization,Young Adult Ministry
ATTACH;FMTTYPE=image/png:https://www.rcbo.org/wp-content/uploads/2025/11/Young-Adult-Dance-Lesson-August-10-Holy-Trinity-Young-Adults.png
END:VEVENT
BEGIN:VEVENT
DTSTART;TZID=America/Los_Angeles:20250807T183000
DTEND;TZID=America/Los_Angeles:20250807T203000
DTSTAMP:20260422T184333
CREATED:20250730T014500Z
LAST-MODIFIED:20251107T221512Z
UID:10000151-1754591400-1754598600@www.rcbo.org
SUMMARY:Kickball
DESCRIPTION:Join us for kickball and fellowship afterwards \n  \nInstagram at st.norbertya
URL:https://www.rcbo.org/event/kickball/
LOCATION:CA
CATEGORIES:Evangelization,Young Adult Ministry
END:VEVENT
BEGIN:VEVENT
DTSTART;TZID=America/Los_Angeles:20250806T190000
DTEND;TZID=America/Los_Angeles:20250806T203000
DTSTAMP:20260422T184333
CREATED:20250616T225300Z
LAST-MODIFIED:20251125T205139Z
UID:10000295-1754506800-1754512200@www.rcbo.org
SUMMARY:St. Timothy\, Youth and Young Adults
DESCRIPTION:Join us on the first Wednesday of every month for our parish Revival Nights! These evenings of worship\, Eucharistic Adoration and a dynamic speaker are open for all ages! Our Young adult ministry grabs In-N-Out after each event! This month’s speaker Florencia Moynihan\, also known as the Catholic Nutritionist\, will deliver an incredible testimony that is sure to move you! \nVisit www.st-timsrc.org/revivalnights for more info!
URL:https://www.rcbo.org/event/st-timothy-youth-and-young-adults/2025-08-06/
LOCATION:St. Timothy Catholic Church\, 29102 Crown Valley Parkway\, Laguna Niguel\, CA\, 92677\, United States
CATEGORIES:Eucharistic Revival,Evangelization,Parish Events,Young Adult Ministry
ATTACH;FMTTYPE=image/jpeg:https://www.rcbo.org/wp-content/uploads/2025/11/2024-0807-Revival-Night-3-Tanner-Jauregui.jpg
GEO:33.5402334;-117.693762
X-APPLE-STRUCTURED-LOCATION;VALUE=URI;X-ADDRESS=St. Timothy Catholic Church 29102 Crown Valley Parkway Laguna Niguel CA 92677 United States;X-APPLE-RADIUS=500;X-TITLE=29102 Crown Valley Parkway:geo:-117.693762,33.5402334
END:VEVENT
BEGIN:VEVENT
DTSTART;TZID=America/Los_Angeles:20250806T190000
DTEND;TZID=America/Los_Angeles:20250806T203000
DTSTAMP:20260422T184333
CREATED:20250207T062300Z
LAST-MODIFIED:20251107T221512Z
UID:10000149-1754506800-1754512200@www.rcbo.org
SUMMARY:Revival Night
DESCRIPTION:These nights of Eucharistic adoration\, praise and worship\, and encounter with our Lord are for all ages. Whether your heart is on fire for the Lord\, or you don’t know who God is yet\, we invite you to open your heart and see what the Lord has in store for you! Join us on the first Wednesday of every month from 7-8:30 pm. \nChildcare is offered free of charge for children ages 1 (confident walker) through 5th grade upon reservation. RSVP your child for childcare by clicking here. \nVisit https://www.st-timsrc.org/revivalnights for more information.
URL:https://www.rcbo.org/event/revival-night-6/
LOCATION:CA
CATEGORIES:Parish Events,Young Adult Ministry
END:VEVENT
BEGIN:VEVENT
DTSTART;TZID=America/Los_Angeles:20250806T183000
DTEND;TZID=America/Los_Angeles:20250806T200000
DTSTAMP:20260422T184333
CREATED:20250729T063900Z
LAST-MODIFIED:20251107T221512Z
UID:10000150-1754505000-1754510400@www.rcbo.org
SUMMARY:Parables - Pottery
DESCRIPTION:Join us for a special event called Parables – Pottery at St. John Neumann Catholic Church. Get ready to dive into the meaning behind the parable of the potter with us. It’s going down on Wed Aug 6h 2025 at 6:30 PM. Join us for daily mass at 6 PM if you like and then hop on over to the young adult event. Don’t miss out on this opportunity to connect with others and deepen your faith. \nNo previous pottery skill required\, no fees\, and all materials provided! Come as you are
URL:https://www.rcbo.org/event/parables-pottery/
LOCATION:CA
CATEGORIES:Evangelization,Young Adult Ministry
ATTACH;FMTTYPE=image/png:https://www.rcbo.org/wp-content/uploads/2025/11/YA-poster-1-SJN-YAM.png
END:VEVENT
BEGIN:VEVENT
DTSTART;TZID=America/Los_Angeles:20250805T193000
DTEND;TZID=America/Los_Angeles:20250805T203000
DTSTAMP:20260422T184333
CREATED:20250729T063100Z
LAST-MODIFIED:20251107T221511Z
UID:10000148-1754422200-1754425800@www.rcbo.org
SUMMARY:Praise and Worship Night
DESCRIPTION:  \nVisit our Instagrams for more information: @htcollege_ & @ht2.0s
URL:https://www.rcbo.org/event/praise-and-worship-night/
LOCATION:CA
CATEGORIES:Evangelization,Young Adult Ministry
ATTACH;FMTTYPE=image/png:https://www.rcbo.org/wp-content/uploads/2025/11/Praise-and-Worship-Promo-August-5th-1-Holy-Trinity-Young-Adults.png
END:VEVENT
BEGIN:VEVENT
DTSTART;TZID=America/Los_Angeles:20250805T184500
DTEND;TZID=America/Los_Angeles:20250805T200000
DTSTAMP:20260422T184333
CREATED:20250729T040000Z
LAST-MODIFIED:20251107T221511Z
UID:10000147-1754419500-1754424000@www.rcbo.org
SUMMARY:Lumen Christi Summer Retreat: Ephesians
DESCRIPTION:July 29\, 2025 – 1 Corinthians – The Temple of the Holy Spirit and the Celebration of the Eucharist (in the Church Hall after Mass)\nAugust 5\, 2025 – Ephesians – Jesus’ authority\, the Unity of the Church and Holy Matrimony (in the Church after Mass)\nAugust 12\, 2025 – Hebrews – The Eternal Priesthood of Jesus Christ and the New Jerusalem (in the Church after Mass)\n\nFor more information: \n bible@rcbo.org \n(714) 282-3079
URL:https://www.rcbo.org/event/lumen-christi-summer-retreat-ephesians/
LOCATION:CA
CATEGORIES:Biblical Institute,Faith Formation
END:VEVENT
BEGIN:VEVENT
DTSTART;TZID=America/Los_Angeles:20250805T180000
DTEND;TZID=America/Los_Angeles:20250805T190000
DTSTAMP:20260422T184333
CREATED:20250725T214900Z
LAST-MODIFIED:20251107T221508Z
UID:10000146-1754416800-1754420400@www.rcbo.org
SUMMARY:Summer Public Witness
DESCRIPTION:Join us on Tuesday evenings as we stand in solidarity with our marginalized brothers and sisters. Our commitment to the Gospel\, the mission\, and our charism urges us to respond and stand with our marginalized community impacted by the removal of our social safety net programs\, including the elimination of healthcare\, SNAP\, and the cruel separation of families. \nPark at the St. Joseph Center’s South Parking Lot. Please do not park in spaces marked “VSJ.” We will gather on La Veta Ave. by the 22 Fwy. exit \nLearn more at https://bit.ly/2025spw If you have any questions\, please contact Damaris Molina at dmolina@csjorange.org or by phone at 714-633-8121 ext. 7741 \n  \nSummer Public Witness 2025 Flyer – Damaris
URL:https://www.rcbo.org/event/summer-public-witness/
LOCATION:CA
CATEGORIES:Evangelization,Youth Ministry/Confirmation
END:VEVENT
BEGIN:VEVENT
DTSTART;TZID=America/Los_Angeles:20250804T193000
DTEND;TZID=America/Los_Angeles:20250804T203000
DTSTAMP:20260422T184333
CREATED:20250723T015700Z
LAST-MODIFIED:20251107T221508Z
UID:10000144-1754335800-1754339400@www.rcbo.org
SUMMARY:Bible Study
DESCRIPTION:All are invited to join us in the Parish Hall to pray through\, discuss and study the upcoming Sunday Gospel reading. No previous experience or knowledge of the Bible is necessary! \nContact Matt Zemanek at mzemanek@st-timsrc.org\, or visit www.st-timsrc.org/adults for more information
URL:https://www.rcbo.org/event/bible-study-20/
LOCATION:CA
CATEGORIES:Parish Events,Young Adult Ministry
END:VEVENT
BEGIN:VEVENT
DTSTART;TZID=America/Los_Angeles:20250803T190000
DTEND;TZID=America/Los_Angeles:20250803T200000
DTSTAMP:20260422T184333
CREATED:20250725T220000Z
LAST-MODIFIED:20251107T221507Z
UID:10000142-1754247600-1754251200@www.rcbo.org
SUMMARY:Bible Study Event Post
DESCRIPTION:Calling all Young Adults 18 -25\, come share your thoughts with us at our bible study every other Sunday Night Starting July 6th. \n  \nContact Kathy for more info at 949-449-4488 or Visit www.stangelamericiym.com \n BLAZE bible study Ignite Youth Ministry St Angela Merici
URL:https://www.rcbo.org/event/bible-study-event-post/
LOCATION:CA
CATEGORIES:Evangelization,Young Adult Ministry
ATTACH;FMTTYPE=image/png:https://www.rcbo.org/wp-content/uploads/2025/11/BLAZE-bible-study-Ignite-Youth-Ministry-St-Angela-Merici.png
END:VEVENT
BEGIN:VEVENT
DTSTART;TZID=America/Los_Angeles:20250803T103000
DTEND;TZID=America/Los_Angeles:20250803T220000
DTSTAMP:20260422T184333
CREATED:20250730T020000Z
LAST-MODIFIED:20251107T221508Z
UID:10000143-1754217000-1754258400@www.rcbo.org
SUMMARY:Faith Olympics 2025
DESCRIPTION:Get ready for the ultimate young adult showdown!   \nOur Annual Faith Olympics is back — and it’s more than just competition. It’s a day to pray\, play\, connect\, and build real community with fellow young adults from across the diocese.   \nBring your energy\, your lunch\, and something to share for dinner — a drink\, side\, or dessert. \nWe’ve got the main course for dinner covered!  ️ \nPlease pay extra attention to the timing and plan accordingly for parking inside delays (45min+ wait on weekends in the summer). You can park at the beach or in a nearby neighborhood. Either or\, please plan with enough time to arrive for start of games! \nWhether you’re in it to win it or just here for the fun\, this is a day you won’t want to miss. \nLet’s go make some memories.   Please register at bit.ly/faitholympics \nThe Prize: Winning parish takes Faith Olympics Trophy from Holy Family Church in Orange for the year   \nParish Leads: Wearing team color is required – please contact your parish leader for more information. If you are a parish lead who would like your parish to participate\, please contact Jacelyn. \nLearn more:: \nIf you are a parish lead who would like your parish or ministry to participate\, please contact Jacelyn at jvo@olglahabra.org. To register\, go to bit.ly/faitholympics \nFaith Olympics August 2025 – St. Mary’s Young Adult Ministry
URL:https://www.rcbo.org/event/faith-olympics-2025/
LOCATION:CA
CATEGORIES:Evangelization,Young Adult Ministry
END:VEVENT
BEGIN:VEVENT
DTSTART;TZID=America/Los_Angeles:20250801T190000
DTEND;TZID=America/Los_Angeles:20250801T210000
DTSTAMP:20260422T184333
CREATED:20250725T214600Z
LAST-MODIFIED:20251107T221507Z
UID:10000141-1754074800-1754082000@www.rcbo.org
SUMMARY:An Evening with Jim Wahlberg
DESCRIPTION:He is a producer\, writer\, and director of films and uses his talents and experiences to raise awareness about the hope found in Christ. Jim is the author of “The Big Hustle” A Boston Street Kid’s Story of Addiction and Redemption & Executive Producer of Mother Teresa: No Greater Love.
URL:https://www.rcbo.org/event/an-evening-with-jim-wahlberg/
LOCATION:CA
CATEGORIES:Eucharistic Revival,Evangelization,Parish Events,Young Adult Ministry
ATTACH;FMTTYPE=image/png:https://www.rcbo.org/wp-content/uploads/2025/11/original-6-scaled-1.png
END:VEVENT
BEGIN:VEVENT
DTSTART;TZID=America/Los_Angeles:20250729T184500
DTEND;TZID=America/Los_Angeles:20250729T200000
DTSTAMP:20260422T184333
CREATED:20250729T035400Z
LAST-MODIFIED:20251107T221507Z
UID:10000140-1753814700-1753819200@www.rcbo.org
SUMMARY:Lumen Christi Summer Retreat: 1 Corinthians
DESCRIPTION:July 29\, 2025 – 1 Corinthians – The Temple of the Holy Spirit and the Celebration of the Eucharist (in the Church Hall after Mass)\nAugust 5\, 2025 – Ephesians – Jesus’ authority\, the Unity of the Church and Holy Matrimony (in the Church after Mass)\nAugust 12\, 2025 – Hebrews – The Eternal Priesthood of Jesus Christ and the New Jerusalem (in the Church after Mass)\n\nFor more information: \n bible@rcbo.org \n(714) 282-3079
URL:https://www.rcbo.org/event/lumen-christi-summer-retreat-1-corinthians/
LOCATION:CA
CATEGORIES:Biblical Institute,Faith Formation
END:VEVENT
BEGIN:VEVENT
DTSTART;TZID=America/Los_Angeles:20250729T180000
DTEND;TZID=America/Los_Angeles:20250729T203000
DTSTAMP:20260422T184333
CREATED:20250718T014100Z
LAST-MODIFIED:20251107T221506Z
UID:10000139-1753812000-1753821000@www.rcbo.org
SUMMARY:TESTIMONI PÚBLICO Y PROCESIÓN DESOLIDARIDAD
DESCRIPTION:Spanish
URL:https://www.rcbo.org/event/testimoni-publico-y-procesion-desolidaridad/
LOCATION:CA
CATEGORIES:Christ Cathedral Campus,Life, Justice and Peace
ATTACH;FMTTYPE=image/jpeg:https://www.rcbo.org/wp-content/uploads/2025/11/Spanish.jpg
END:VEVENT
BEGIN:VEVENT
DTSTART;TZID=America/Los_Angeles:20250729T180000
DTEND;TZID=America/Los_Angeles:20250729T203000
DTSTAMP:20260422T184333
CREATED:20250718T003000Z
LAST-MODIFIED:20251107T221506Z
UID:10000138-1753812000-1753821000@www.rcbo.org
SUMMARY:Public Witness & Procession in Solidarity with Marginalized Communities
DESCRIPTION:Public Witness Opp
URL:https://www.rcbo.org/event/public-witness-procession-in-solidarity-with-marginalized-communities/
LOCATION:CA
CATEGORIES:Christ Cathedral Campus,Life, Justice and Peace
ATTACH;FMTTYPE=image/jpeg:https://www.rcbo.org/wp-content/uploads/2025/11/Public-Witness-Procession-In-Solidarity.jpg
END:VEVENT
BEGIN:VEVENT
DTSTART;TZID=America/Los_Angeles:20250728T193000
DTEND;TZID=America/Los_Angeles:20250728T203000
DTSTAMP:20260422T184333
CREATED:20250619T024800Z
LAST-MODIFIED:20251107T221506Z
UID:10000137-1753731000-1753734600@www.rcbo.org
SUMMARY:Bible Study
DESCRIPTION:All are invited to join us in the Parish Hall to pray through\, discuss and study the upcoming Sunday Gospel reading. No previous experience or knowledge of the Bible is necessary! \nVisit st-timsrc.org/adults for more information.
URL:https://www.rcbo.org/event/bible-study-19/
LOCATION:CA
CATEGORIES:Evangelization,Parish Events,Young Adult Ministry
END:VEVENT
BEGIN:VEVENT
DTSTART;TZID=America/Los_Angeles:20250727T141500
DTEND;TZID=America/Los_Angeles:20250727T164500
DTSTAMP:20260422T184333
CREATED:20250701T002400Z
LAST-MODIFIED:20251107T221506Z
UID:10000136-1753625700-1753634700@www.rcbo.org
SUMMARY:Resilient Marriages by Dr. John Yzaguirre
DESCRIPTION:For ALL couples! Join us to grow a RESILIENT MARRIAGE and learn how to manage your emotions! Learn how to control anger\, manage anxiety\, overcome helplessness and become a JOY expert! For dating\, engaged and married couples\, join Dr. John and Claire Yzaguirre\, Ph.D.\, M.F.T.\, therapists and co-creators of the popular “Thriving Marriages-Casados y Felices” program. Invite your friends and we’ll see you there! Free and walk-ins are welcome! \nFor questions or to register\, please contact Ana Jaime at 707-280-0717 or anajaime73@yahoo.com \nHow to Manage Your Emotions July 27- 2025 \n 
URL:https://www.rcbo.org/event/resilient-marriages-by-dr-john-yzaguirre/
LOCATION:CA
CATEGORIES:Parish Events
END:VEVENT
BEGIN:VEVENT
DTSTART;TZID=America/Los_Angeles:20250726T113000
DTEND;TZID=America/Los_Angeles:20250726T123000
DTSTAMP:20260422T184333
CREATED:20250701T001200Z
LAST-MODIFIED:20251107T221505Z
UID:10000135-1753529400-1753533000@www.rcbo.org
SUMMARY:Jubilee of Marriage
DESCRIPTION:The bishops of California have declared Saturday\, July 26\, the Feast of Saints Joachim and Anne\, as the Jubilee of Marriage during this powerful Jubilee Year of Hope. The vocation of marriage truly is a sign of hope! \nThe Diocese of Orange will celebrate the Marriage Jubilee with a Mass at Christ Cathedral in the Arboretum on Saturday\, July 26 at 11:30 am. All couples and families are invited to make this pilgrimage to our cathedral campus and to receive a plenary indulgence. \nFirst 100 couples to RSVP will receive free Radiate Love T-shirts! \n*RSVP not required to attend; all are welcome! \nVisit https://rcbo.org/hope for more info and RSVP \n Jubilee Marriage Flyer 03
URL:https://www.rcbo.org/event/jubilee-of-marriage/
LOCATION:CA
CATEGORIES:Marriage
ATTACH;FMTTYPE=image/jpeg:https://www.rcbo.org/wp-content/uploads/2025/11/Jubilee_Marriage_Flyer_03-scaled-1.jpg
END:VEVENT
END:VCALENDAR