BEGIN:VCALENDAR
VERSION:2.0
PRODID:-//Roman Catholic Diocese of Orange - ECPv6.15.17.1//NONSGML v1.0//EN
CALSCALE:GREGORIAN
METHOD:PUBLISH
X-ORIGINAL-URL:https://www.rcbo.org
X-WR-CALDESC:Events for Roman Catholic Diocese of Orange
REFRESH-INTERVAL;VALUE=DURATION:PT1H
X-Robots-Tag:noindex
X-PUBLISHED-TTL:PT1H
BEGIN:VTIMEZONE
TZID:America/Los_Angeles
BEGIN:DAYLIGHT
TZOFFSETFROM:-0800
TZOFFSETTO:-0700
TZNAME:PDT
DTSTART:20250309T100000
END:DAYLIGHT
BEGIN:STANDARD
TZOFFSETFROM:-0700
TZOFFSETTO:-0800
TZNAME:PST
DTSTART:20251102T090000
END:STANDARD
BEGIN:DAYLIGHT
TZOFFSETFROM:-0800
TZOFFSETTO:-0700
TZNAME:PDT
DTSTART:20260308T100000
END:DAYLIGHT
BEGIN:STANDARD
TZOFFSETFROM:-0700
TZOFFSETTO:-0800
TZNAME:PST
DTSTART:20261101T090000
END:STANDARD
BEGIN:DAYLIGHT
TZOFFSETFROM:-0800
TZOFFSETTO:-0700
TZNAME:PDT
DTSTART:20270314T100000
END:DAYLIGHT
BEGIN:STANDARD
TZOFFSETFROM:-0700
TZOFFSETTO:-0800
TZNAME:PST
DTSTART:20271107T090000
END:STANDARD
END:VTIMEZONE
BEGIN:VEVENT
DTSTART;TZID=America/Los_Angeles:20260418T081500
DTEND;TZID=America/Los_Angeles:20260418T171500
DTSTAMP:20260424T142804
CREATED:20260313T194723Z
LAST-MODIFIED:20260325T221719Z
UID:10000504-1776500100-1776532500@www.rcbo.org
SUMMARY:Restored: A Journey to Wellness
DESCRIPTION:Join us for a one-day retreat of hope and healing for women whose lives have been touched by abortion. \n\n\n\nAll Registrations are Confidential \n\n\n\nAddress for retreat: \n\n\n\nMater Dolorosa Retreat Center | Centro de Retiro Mater Dolorosa700 N Sunnyside Ave\, Sierra Madre\, CA 91024
URL:https://www.rcbo.org/event/restored-a-journey-to-wellness/
CATEGORIES:Family Life,Grief,Retreat
ATTACH;FMTTYPE=image/png:https://www.rcbo.org/wp-content/uploads/2025/10/Bilingual_RestoredRetreat_2026-BULLETIN.png
END:VEVENT
BEGIN:VEVENT
DTSTART;TZID=America/Los_Angeles:20260325T080000
DTEND;TZID=America/Los_Angeles:20260325T170000
DTSTAMP:20260424T142804
CREATED:20251219T182747Z
LAST-MODIFIED:20251219T185252Z
UID:10000426-1774425600-1774458000@www.rcbo.org
SUMMARY:Heartbreak to Healing-Coping with Life Alone Divorce Recovery Series
DESCRIPTION:FROM HEARTBREAK TO HOPE – COPING WITH LIFE ALONE SERIES \n\n\n\nJanuary 7 – March 31st \n\n\n\nSt. Joseph Parish in Placentia will be offering a 10-week series for all who have experienced the loss of their marriage through separation or divorce. The series will be on Tuesday evenings from 7:00 – 8:30 pm from January 7th through March 31st. Heartbreak to Healing will be offered in person and on Zoom. \n\n\n\nParticipants will be given a workbook after they sign up that covers the topics for each week. During the group meetings\, there will be an introduction to the theme\, a time for prayer and a video. Following the video will be discussion on the video and theme of the day. \n\n\n\nThere is a $25.00 registration fee for the series. If you are interested in signing up\, click on the QR code below or go to www.stjosephplacentia.org website to find the link to register. \n\n\n\nFor more information\, please call or email: Carol Koppenheffer (714) 528-1487 Ext 221 or ckoppenheffer@stjosephplacentia.org.
URL:https://www.rcbo.org/event/heartbreak-to-healing-coping-with-life-alone-divorce-recovery-series/2026-03-25/
LOCATION:Saint Joseph Catholic Church\, Placentia\, 717 North Bradford Avenue\, Placentia\, CA\, 92870\, United States
CATEGORIES:Grief,Ministry to Divorced or Separated Catholics
ATTACH;FMTTYPE=image/png:https://www.rcbo.org/wp-content/uploads/2025/12/Screenshot-2025-12-19-100952.png
GEO:33.8786222;-117.8690992
X-APPLE-STRUCTURED-LOCATION;VALUE=URI;X-ADDRESS=Saint Joseph Catholic Church Placentia 717 North Bradford Avenue Placentia CA 92870 United States;X-APPLE-RADIUS=500;X-TITLE=717 North Bradford Avenue:geo:-117.8690992,33.8786222
END:VEVENT
BEGIN:VEVENT
DTSTART;TZID=America/Los_Angeles:20260313T000000
DTEND;TZID=America/Los_Angeles:20260315T235959
DTSTAMP:20260424T142804
CREATED:20260112T223722Z
LAST-MODIFIED:20260112T223724Z
UID:10000431-1773360000-1773619199@www.rcbo.org
SUMMARY:Beginning Experience Weekend for Widowed and Divorced Catholics
DESCRIPTION:If you are grieving the loss of your marriage through death\, divorce or separation\, join us at the Pro Sanctity Spirituality Center in Fullerton\, March 13th – 15th. A trained team leads participants through a healing and growth program. If you are ready to move through your feelings of grief\, into the light of a new beginning and hope\, this weekend may be for you. The Weekend is Catholic in focus but is open to other people of faith. Contact Kim at (714)336-3221 or Melissa (bilingual\, Spanish) at (949)697-3352 for more information. Early registration is encouraged. \n\n\n\nWebsite: https://beginning-experience-of-orange-county.my.canva.site/ \n\n\n\nRegister: https://docs.google.com/forms/d/e/1FAIpQLSf9l-TuVn91v_wWRElsvne0lznFBYlnhe6rZfFLw7p39a9nBw/viewform
URL:https://www.rcbo.org/event/beginning-experience-weekend-for-widowed-and-divorced-catholics-3/
LOCATION:Pro Sanctity Spirituality Center\, 205 S Pine Dr\, Fullerton\, California\, 92833\, United States
CATEGORIES:Grief,Ministry to Divorced or Separated Catholics
ATTACH;FMTTYPE=application/pdf:https://www.rcbo.org/wp-content/uploads/2026/01/Beginning-Experience-Flyer-for-March-2026.pdf
GEO:33.8681399;-117.9666816
X-APPLE-STRUCTURED-LOCATION;VALUE=URI;X-ADDRESS=Pro Sanctity Spirituality Center 205 S Pine Dr Fullerton California 92833 United States;X-APPLE-RADIUS=500;X-TITLE=205 S Pine Dr:geo:-117.9666816,33.8681399
END:VEVENT
BEGIN:VEVENT
DTSTART;TZID=America/Los_Angeles:20260124T080000
DTEND;TZID=America/Los_Angeles:20260124T130000
DTSTAMP:20260424T142804
CREATED:20251219T183616Z
LAST-MODIFIED:20251219T183618Z
UID:10000427-1769241600-1769259600@www.rcbo.org
SUMMARY:Parish Bereavement & Grief Support
DESCRIPTION:Join us for an instructional workshop on Jan. 24 on accompanying individuals and families experiencing a loss. We will cover: \n\n\n\n• Funeral guidelines & teachings \n\n\n\n• Pastoral care & bereavement support \n\n\n\n• Mortuary & cemetery arrangements \n\n\n\nWhether you are looking for a refresher for your parish bereavement team or hoping to start a team at your parish\, or if you are simply looking to enhance other ministry you are doing related to these topics\, we hope to see you there! Questions? Contact: worship@rcbo.org
URL:https://www.rcbo.org/event/parish-bereavement-grief-support/
LOCATION:Diocese of Orange Pastoral Center\, 13280 Chapman Ave\, Garden Grove\, CA\, 92840\, United States
CATEGORIES:Grief,Office for Worship,Pastoral Center
ATTACH;FMTTYPE=application/pdf:https://www.rcbo.org/wp-content/uploads/2025/12/Bereavement-Workshop_2026-3.pdf
GEO:33.7877577;-117.8992682
X-APPLE-STRUCTURED-LOCATION;VALUE=URI;X-ADDRESS=Diocese of Orange Pastoral Center 13280 Chapman Ave Garden Grove CA 92840 United States;X-APPLE-RADIUS=500;X-TITLE=13280 Chapman Ave:geo:-117.8992682,33.7877577
END:VEVENT
END:VCALENDAR