BEGIN:VCALENDAR
VERSION:2.0
PRODID:-//Roman Catholic Diocese of Orange - ECPv6.15.17.1//NONSGML v1.0//EN
CALSCALE:GREGORIAN
METHOD:PUBLISH
X-ORIGINAL-URL:https://www.rcbo.org
X-WR-CALDESC:Events for Roman Catholic Diocese of Orange
REFRESH-INTERVAL;VALUE=DURATION:PT1H
X-Robots-Tag:noindex
X-PUBLISHED-TTL:PT1H
BEGIN:VTIMEZONE
TZID:America/Los_Angeles
BEGIN:DAYLIGHT
TZOFFSETFROM:-0800
TZOFFSETTO:-0700
TZNAME:PDT
DTSTART:20250309T100000
END:DAYLIGHT
BEGIN:STANDARD
TZOFFSETFROM:-0700
TZOFFSETTO:-0800
TZNAME:PST
DTSTART:20251102T090000
END:STANDARD
BEGIN:DAYLIGHT
TZOFFSETFROM:-0800
TZOFFSETTO:-0700
TZNAME:PDT
DTSTART:20260308T100000
END:DAYLIGHT
BEGIN:STANDARD
TZOFFSETFROM:-0700
TZOFFSETTO:-0800
TZNAME:PST
DTSTART:20261101T090000
END:STANDARD
BEGIN:DAYLIGHT
TZOFFSETFROM:-0800
TZOFFSETTO:-0700
TZNAME:PDT
DTSTART:20270314T100000
END:DAYLIGHT
BEGIN:STANDARD
TZOFFSETFROM:-0700
TZOFFSETTO:-0800
TZNAME:PST
DTSTART:20271107T090000
END:STANDARD
END:VTIMEZONE
BEGIN:VEVENT
DTSTART;TZID=America/Los_Angeles:20260613T074500
DTEND;TZID=America/Los_Angeles:20260613T173000
DTSTAMP:20260423T013828
CREATED:20260415T205842Z
LAST-MODIFIED:20260415T205844Z
UID:10000533-1781336700-1781371800@www.rcbo.org
SUMMARY:2026 St. Martin & Friends Women's Retreat
DESCRIPTION:A ONE day retreat in the Parish Hall Saturday\, Starts at 7:45am\, breakfast/ \n\n\n\nlunch included and concludes with 5:30 pm Mass. \n\n\n\nContact: Lucy Rau: 714.348.2135 lucy.rau@outlook.com
URL:https://www.rcbo.org/event/2026-st-martin-friends-womens-retreat/
LOCATION:Saint Martin de Porres Catholic Church\, 19767 Yorba Linda Boulevard\, Yorba Linda\, CA\, 92886\, United States
CATEGORIES:Diocese of Orange,Evangelization,Faith Formation,Parish Events,Young Adult Ministry
GEO:33.8892619;-117.7897882
X-APPLE-STRUCTURED-LOCATION;VALUE=URI;X-ADDRESS=Saint Martin de Porres Catholic Church 19767 Yorba Linda Boulevard Yorba Linda CA 92886 United States;X-APPLE-RADIUS=500;X-TITLE=19767 Yorba Linda Boulevard:geo:-117.7897882,33.8892619
END:VEVENT
END:VCALENDAR