BEGIN:VCALENDAR
VERSION:2.0
PRODID:-//Roman Catholic Diocese of Orange - ECPv6.15.17.1//NONSGML v1.0//EN
CALSCALE:GREGORIAN
METHOD:PUBLISH
X-ORIGINAL-URL:https://www.rcbo.org
X-WR-CALDESC:Events for Roman Catholic Diocese of Orange
REFRESH-INTERVAL;VALUE=DURATION:PT1H
X-Robots-Tag:noindex
X-PUBLISHED-TTL:PT1H
BEGIN:VTIMEZONE
TZID:America/Los_Angeles
BEGIN:DAYLIGHT
TZOFFSETFROM:-0800
TZOFFSETTO:-0700
TZNAME:PDT
DTSTART:20250309T100000
END:DAYLIGHT
BEGIN:STANDARD
TZOFFSETFROM:-0700
TZOFFSETTO:-0800
TZNAME:PST
DTSTART:20251102T090000
END:STANDARD
BEGIN:DAYLIGHT
TZOFFSETFROM:-0800
TZOFFSETTO:-0700
TZNAME:PDT
DTSTART:20260308T100000
END:DAYLIGHT
BEGIN:STANDARD
TZOFFSETFROM:-0700
TZOFFSETTO:-0800
TZNAME:PST
DTSTART:20261101T090000
END:STANDARD
BEGIN:DAYLIGHT
TZOFFSETFROM:-0800
TZOFFSETTO:-0700
TZNAME:PDT
DTSTART:20270314T100000
END:DAYLIGHT
BEGIN:STANDARD
TZOFFSETFROM:-0700
TZOFFSETTO:-0800
TZNAME:PST
DTSTART:20271107T090000
END:STANDARD
END:VTIMEZONE
BEGIN:VEVENT
DTSTART;TZID=America/Los_Angeles:20260202T190000
DTEND;TZID=America/Los_Angeles:20260202T200000
DTSTAMP:20260423T000805
CREATED:20251219T165634Z
LAST-MODIFIED:20260206T201548Z
UID:10000445-1770058800-1770062400@www.rcbo.org
SUMMARY:Saint Timothy Weekly Bible Study
DESCRIPTION:Join us for a Bible study on the upcoming Sunday’s Gospel\, where we pray with the word\, study it in depth\, and answer your burning questions! \n\n\n\nContact mzemanek@st-timsrc.org for more information or visit www.st-timsrc.org/adults
URL:https://www.rcbo.org/event/saint-timothy-weekly-bible-study/2026-02-02/
LOCATION:St. Timothy Catholic Church\, 29102 Crown Valley Parkway\, Laguna Niguel\, CA\, 92677\, United States
CATEGORIES:Evangelization,Faith Formation,Parish Events,Young Adult Ministry
ATTACH;FMTTYPE=image/webp:https://www.rcbo.org/wp-content/uploads/2025/11/st-timothy-bible-study.webp
GEO:33.5402334;-117.693762
X-APPLE-STRUCTURED-LOCATION;VALUE=URI;X-ADDRESS=St. Timothy Catholic Church 29102 Crown Valley Parkway Laguna Niguel CA 92677 United States;X-APPLE-RADIUS=500;X-TITLE=29102 Crown Valley Parkway:geo:-117.693762,33.5402334
END:VEVENT
BEGIN:VEVENT
DTSTART;TZID=America/Los_Angeles:20260207T090000
DTEND;TZID=America/Los_Angeles:20260207T120000
DTSTAMP:20260423T000805
CREATED:20260129T000744Z
LAST-MODIFIED:20260129T000746Z
UID:10000439-1770454800-1770465600@www.rcbo.org
SUMMARY:Retiro Bíblico
DESCRIPTION:Aléjate del ruido de la vida diaria y entra en un espacio sagrado.  \n\n\n\nEste retiro se centrará en el tema del crecimiento en santidad y ayudará a los participantes a comprender cómo la oración de los salmos puede convertirse en una parte fundamental de su camino diario hacia la santidad\, aprendiendo a conocer\, amar y servir a nuestro Señor Jesucristo. De hecho\, los Salmos han desempeñado un papel importante en la liturgia de la Iglesia\, en la Liturgia de las Horas y en la vida de oración personal de innumerables santos. Este retiro examinará los diferentes tipos de salmos que se encuentran en el Salterio. El objetivo es motivar a los fieles a comenzar a rezar la Liturgia de las Horas. Todos están Invitados\, el retiro es gratuito.  \n\n\n\n\nSalmos Parte 1 – Introducción al Salterio\, Salmos Reales y Salmos de la Torá. \n\n\n\nSalmos Parte 2 – Salmos de Salmos de Alabanza (Hallel) y Entronización. \n\n\n\nSalmos Parte 3 – Cantos de Ascensión y Salmos Penitenciales.
URL:https://www.rcbo.org/event/retiro-biblico-2/
LOCATION:Immaculate Heart of Mary Catholic Church\, 1100 South Center Street\, Santa Ana\, CA\, 92704\, United States
CATEGORIES:Biblical Institute,Evangelization,Faith Formation
ATTACH;FMTTYPE=application/pdf:https://www.rcbo.org/wp-content/uploads/2026/01/Retiro-Biblico-Inmaculado-Corazon-de-Maria.pdf
GEO:33.7341081;-117.8985528
X-APPLE-STRUCTURED-LOCATION;VALUE=URI;X-ADDRESS=Immaculate Heart of Mary Catholic Church 1100 South Center Street Santa Ana CA 92704 United States;X-APPLE-RADIUS=500;X-TITLE=1100 South Center Street:geo:-117.8985528,33.7341081
END:VEVENT
BEGIN:VEVENT
DTSTART;TZID=America/Los_Angeles:20260209T190000
DTEND;TZID=America/Los_Angeles:20260209T200000
DTSTAMP:20260423T000805
CREATED:20251219T165634Z
LAST-MODIFIED:20260206T201548Z
UID:10000446-1770663600-1770667200@www.rcbo.org
SUMMARY:Saint Timothy Weekly Bible Study
DESCRIPTION:Join us for a Bible study on the upcoming Sunday’s Gospel\, where we pray with the word\, study it in depth\, and answer your burning questions! \n\n\n\nContact mzemanek@st-timsrc.org for more information or visit www.st-timsrc.org/adults
URL:https://www.rcbo.org/event/saint-timothy-weekly-bible-study/2026-02-09/
LOCATION:St. Timothy Catholic Church\, 29102 Crown Valley Parkway\, Laguna Niguel\, CA\, 92677\, United States
CATEGORIES:Evangelization,Faith Formation,Parish Events,Young Adult Ministry
ATTACH;FMTTYPE=image/webp:https://www.rcbo.org/wp-content/uploads/2025/11/st-timothy-bible-study.webp
GEO:33.5402334;-117.693762
X-APPLE-STRUCTURED-LOCATION;VALUE=URI;X-ADDRESS=St. Timothy Catholic Church 29102 Crown Valley Parkway Laguna Niguel CA 92677 United States;X-APPLE-RADIUS=500;X-TITLE=29102 Crown Valley Parkway:geo:-117.693762,33.5402334
END:VEVENT
BEGIN:VEVENT
DTSTART;TZID=America/Los_Angeles:20260216T190000
DTEND;TZID=America/Los_Angeles:20260216T200000
DTSTAMP:20260423T000805
CREATED:20251219T165634Z
LAST-MODIFIED:20260206T201548Z
UID:10000447-1771268400-1771272000@www.rcbo.org
SUMMARY:Saint Timothy Weekly Bible Study
DESCRIPTION:Join us for a Bible study on the upcoming Sunday’s Gospel\, where we pray with the word\, study it in depth\, and answer your burning questions! \n\n\n\nContact mzemanek@st-timsrc.org for more information or visit www.st-timsrc.org/adults
URL:https://www.rcbo.org/event/saint-timothy-weekly-bible-study/2026-02-16/
LOCATION:St. Timothy Catholic Church\, 29102 Crown Valley Parkway\, Laguna Niguel\, CA\, 92677\, United States
CATEGORIES:Evangelization,Faith Formation,Parish Events,Young Adult Ministry
ATTACH;FMTTYPE=image/webp:https://www.rcbo.org/wp-content/uploads/2025/11/st-timothy-bible-study.webp
GEO:33.5402334;-117.693762
X-APPLE-STRUCTURED-LOCATION;VALUE=URI;X-ADDRESS=St. Timothy Catholic Church 29102 Crown Valley Parkway Laguna Niguel CA 92677 United States;X-APPLE-RADIUS=500;X-TITLE=29102 Crown Valley Parkway:geo:-117.693762,33.5402334
END:VEVENT
BEGIN:VEVENT
DTSTART;TZID=America/Los_Angeles:20260221T090000
DTEND;TZID=America/Los_Angeles:20260221T120000
DTSTAMP:20260423T000805
CREATED:20260112T205127Z
LAST-MODIFIED:20260113T184322Z
UID:10000429-1771664400-1771675200@www.rcbo.org
SUMMARY:The Book of Job: Suffering\, and the Meaning of Life
DESCRIPTION:RSVP Here: Bible Institute ~ Retreats 2026 \n\n\n\nJob Chapter 1-2 – Introduction\, Job’s sufferings\, loses his possessions\, his children and his health. Special features in the Hebrew Bible.Job Chapters 3 ‒ Job’s response to his suffering and his three friends. Examining the assumptions about sin and suffering.Job Chapters 4-14 ‒ Understanding the three rounds of debate in the book of Job. Questions concerning God’s divine action or non-intervention.Job Chapter 15‒26 ‒ Suffering\, death and Job’s redeemerJob Chapters 27 and 37 ‒ Job speaks a total of ten times. Job’s longing for God and the question of righteousness. The unique role of Elihu and the rhetoric of his words.Job chapters 38-40 ‒ Job finally encounters the Lord in the tempest/whirlwind and the Lord responds to Job.
URL:https://www.rcbo.org/event/the-book-of-job/
LOCATION:Saint Cecilia Catholic Church\, 1301 SE. Sycamore Avenue\, Tustin\, CA\, 92780\, United States
CATEGORIES:Biblical Institute,Faith Formation
ATTACH;FMTTYPE=application/pdf:https://www.rcbo.org/wp-content/uploads/2026/01/Book-of-Job-Suffering-and-the-Meaning-of-Life.pdf
GEO:33.7269726;-117.8256824
X-APPLE-STRUCTURED-LOCATION;VALUE=URI;X-ADDRESS=Saint Cecilia Catholic Church 1301 SE. Sycamore Avenue Tustin CA 92780 United States;X-APPLE-RADIUS=500;X-TITLE=1301 SE. Sycamore Avenue:geo:-117.8256824,33.7269726
END:VEVENT
BEGIN:VEVENT
DTSTART;TZID=America/Los_Angeles:20260223T190000
DTEND;TZID=America/Los_Angeles:20260223T200000
DTSTAMP:20260423T000805
CREATED:20251219T165634Z
LAST-MODIFIED:20260206T201548Z
UID:10000448-1771873200-1771876800@www.rcbo.org
SUMMARY:Saint Timothy Weekly Bible Study
DESCRIPTION:Join us for a Bible study on the upcoming Sunday’s Gospel\, where we pray with the word\, study it in depth\, and answer your burning questions! \n\n\n\nContact mzemanek@st-timsrc.org for more information or visit www.st-timsrc.org/adults
URL:https://www.rcbo.org/event/saint-timothy-weekly-bible-study/2026-02-23/
LOCATION:St. Timothy Catholic Church\, 29102 Crown Valley Parkway\, Laguna Niguel\, CA\, 92677\, United States
CATEGORIES:Evangelization,Faith Formation,Parish Events,Young Adult Ministry
ATTACH;FMTTYPE=image/webp:https://www.rcbo.org/wp-content/uploads/2025/11/st-timothy-bible-study.webp
GEO:33.5402334;-117.693762
X-APPLE-STRUCTURED-LOCATION;VALUE=URI;X-ADDRESS=St. Timothy Catholic Church 29102 Crown Valley Parkway Laguna Niguel CA 92677 United States;X-APPLE-RADIUS=500;X-TITLE=29102 Crown Valley Parkway:geo:-117.693762,33.5402334
END:VEVENT
BEGIN:VEVENT
DTSTART;TZID=America/Los_Angeles:20260228T090000
DTEND;TZID=America/Los_Angeles:20260228T120000
DTSTAMP:20260423T000805
CREATED:20260112T204625Z
LAST-MODIFIED:20260112T204858Z
UID:10000428-1772269200-1772280000@www.rcbo.org
SUMMARY:The Gospel of Matthew Explained
DESCRIPTION:The Gospel of Matthew Explained: Jesus’ Eternal Kingship and the Redemption of Israel \n\n\n\nMatthew Chapter 1-2 – Introduction\, The importance of the Infancy Narratives inMatthew’s GospelMatthew Chapters 3-4 ‒ The Ministry of John the Baptist and Jesus’ 40-days in thedesert.Matthew Chapters 5-7 ‒ The Sermon on the mount in light of the prophets and theirexpectation of a new covenant.Matthew Chapter ‒8-15 ‒ Jesus’ ministry and the significance of His healing miracles.Matthew Chapters 16-23 ‒ Saint Peter and the Papacy.Matthew chapters 24-28 ‒ The Last Supper\, Jesus’ Passion and Resurrection. \n\n\n\nPresented by Fr. Timothy Peters\, Professor of Biblical Theology at Saint John’s Seminary in Camarillo\, CA. \n\n\n\nRSVP: Bible Institute: Retreats 2026
URL:https://www.rcbo.org/event/the-gospel-of-matthew-explained/
LOCATION:Saint Cecilia Catholic Church\, 1301 SE. Sycamore Avenue\, Tustin\, CA\, 92780\, United States
CATEGORIES:Biblical Institute,Faith Formation
ATTACH;FMTTYPE=application/pdf:https://www.rcbo.org/wp-content/uploads/2026/01/The_Gospel_of_Matthew_Explained_Jesus_Eternal_K.pdf
GEO:33.7269726;-117.8256824
X-APPLE-STRUCTURED-LOCATION;VALUE=URI;X-ADDRESS=Saint Cecilia Catholic Church 1301 SE. Sycamore Avenue Tustin CA 92780 United States;X-APPLE-RADIUS=500;X-TITLE=1301 SE. Sycamore Avenue:geo:-117.8256824,33.7269726
END:VEVENT
END:VCALENDAR