BEGIN:VCALENDAR
VERSION:2.0
PRODID:-//Roman Catholic Diocese of Orange - ECPv6.15.17.1//NONSGML v1.0//EN
CALSCALE:GREGORIAN
METHOD:PUBLISH
X-ORIGINAL-URL:https://www.rcbo.org
X-WR-CALDESC:Events for Roman Catholic Diocese of Orange
REFRESH-INTERVAL;VALUE=DURATION:PT1H
X-Robots-Tag:noindex
X-PUBLISHED-TTL:PT1H
BEGIN:VTIMEZONE
TZID:America/Los_Angeles
BEGIN:DAYLIGHT
TZOFFSETFROM:-0800
TZOFFSETTO:-0700
TZNAME:PDT
DTSTART:20250309T100000
END:DAYLIGHT
BEGIN:STANDARD
TZOFFSETFROM:-0700
TZOFFSETTO:-0800
TZNAME:PST
DTSTART:20251102T090000
END:STANDARD
BEGIN:DAYLIGHT
TZOFFSETFROM:-0800
TZOFFSETTO:-0700
TZNAME:PDT
DTSTART:20260308T100000
END:DAYLIGHT
BEGIN:STANDARD
TZOFFSETFROM:-0700
TZOFFSETTO:-0800
TZNAME:PST
DTSTART:20261101T090000
END:STANDARD
BEGIN:DAYLIGHT
TZOFFSETFROM:-0800
TZOFFSETTO:-0700
TZNAME:PDT
DTSTART:20270314T100000
END:DAYLIGHT
BEGIN:STANDARD
TZOFFSETFROM:-0700
TZOFFSETTO:-0800
TZNAME:PST
DTSTART:20271107T090000
END:STANDARD
END:VTIMEZONE
BEGIN:VEVENT
DTSTART;TZID=America/Los_Angeles:20260105T190000
DTEND;TZID=America/Los_Angeles:20260105T200000
DTSTAMP:20260423T000317
CREATED:20251219T165634Z
LAST-MODIFIED:20260206T201548Z
UID:10000400-1767639600-1767643200@www.rcbo.org
SUMMARY:Saint Timothy Weekly Bible Study
DESCRIPTION:Join us for a Bible study on the upcoming Sunday’s Gospel\, where we pray with the word\, study it in depth\, and answer your burning questions! \n\n\n\nContact mzemanek@st-timsrc.org for more information or visit www.st-timsrc.org/adults
URL:https://www.rcbo.org/event/saint-timothy-weekly-bible-study/2026-01-05/
LOCATION:St. Timothy Catholic Church\, 29102 Crown Valley Parkway\, Laguna Niguel\, CA\, 92677\, United States
CATEGORIES:Evangelization,Faith Formation,Parish Events,Young Adult Ministry
ATTACH;FMTTYPE=image/webp:https://www.rcbo.org/wp-content/uploads/2025/11/st-timothy-bible-study.webp
GEO:33.5402334;-117.693762
X-APPLE-STRUCTURED-LOCATION;VALUE=URI;X-ADDRESS=St. Timothy Catholic Church 29102 Crown Valley Parkway Laguna Niguel CA 92677 United States;X-APPLE-RADIUS=500;X-TITLE=29102 Crown Valley Parkway:geo:-117.693762,33.5402334
END:VEVENT
BEGIN:VEVENT
DTSTART;TZID=America/Los_Angeles:20260112T190000
DTEND;TZID=America/Los_Angeles:20260112T200000
DTSTAMP:20260423T000317
CREATED:20251219T165634Z
LAST-MODIFIED:20260206T201548Z
UID:10000401-1768244400-1768248000@www.rcbo.org
SUMMARY:Saint Timothy Weekly Bible Study
DESCRIPTION:Join us for a Bible study on the upcoming Sunday’s Gospel\, where we pray with the word\, study it in depth\, and answer your burning questions! \n\n\n\nContact mzemanek@st-timsrc.org for more information or visit www.st-timsrc.org/adults
URL:https://www.rcbo.org/event/saint-timothy-weekly-bible-study/2026-01-12/
LOCATION:St. Timothy Catholic Church\, 29102 Crown Valley Parkway\, Laguna Niguel\, CA\, 92677\, United States
CATEGORIES:Evangelization,Faith Formation,Parish Events,Young Adult Ministry
ATTACH;FMTTYPE=image/webp:https://www.rcbo.org/wp-content/uploads/2025/11/st-timothy-bible-study.webp
GEO:33.5402334;-117.693762
X-APPLE-STRUCTURED-LOCATION;VALUE=URI;X-ADDRESS=St. Timothy Catholic Church 29102 Crown Valley Parkway Laguna Niguel CA 92677 United States;X-APPLE-RADIUS=500;X-TITLE=29102 Crown Valley Parkway:geo:-117.693762,33.5402334
END:VEVENT
BEGIN:VEVENT
DTSTART;TZID=America/Los_Angeles:20260119T190000
DTEND;TZID=America/Los_Angeles:20260119T200000
DTSTAMP:20260423T000317
CREATED:20251219T165634Z
LAST-MODIFIED:20260206T201548Z
UID:10000402-1768849200-1768852800@www.rcbo.org
SUMMARY:Saint Timothy Weekly Bible Study
DESCRIPTION:Join us for a Bible study on the upcoming Sunday’s Gospel\, where we pray with the word\, study it in depth\, and answer your burning questions! \n\n\n\nContact mzemanek@st-timsrc.org for more information or visit www.st-timsrc.org/adults
URL:https://www.rcbo.org/event/saint-timothy-weekly-bible-study/2026-01-19/
LOCATION:St. Timothy Catholic Church\, 29102 Crown Valley Parkway\, Laguna Niguel\, CA\, 92677\, United States
CATEGORIES:Evangelization,Faith Formation,Parish Events,Young Adult Ministry
ATTACH;FMTTYPE=image/webp:https://www.rcbo.org/wp-content/uploads/2025/11/st-timothy-bible-study.webp
GEO:33.5402334;-117.693762
X-APPLE-STRUCTURED-LOCATION;VALUE=URI;X-ADDRESS=St. Timothy Catholic Church 29102 Crown Valley Parkway Laguna Niguel CA 92677 United States;X-APPLE-RADIUS=500;X-TITLE=29102 Crown Valley Parkway:geo:-117.693762,33.5402334
END:VEVENT
BEGIN:VEVENT
DTSTART;TZID=America/Los_Angeles:20260124T083000
DTEND;TZID=America/Los_Angeles:20260124T123000
DTSTAMP:20260423T000317
CREATED:20251125T214942Z
LAST-MODIFIED:20251203T220013Z
UID:10000385-1769243400-1769257800@www.rcbo.org
SUMMARY:Encountering Christ in the Prophet Isaiah
DESCRIPTION:Bible Institute Retreat: Encountering Christ in the Prophet IsaiahDownload Flyer\n\n\n\nPresented by Fr. Timothy Peters\, Professor of Biblical Theology at Saint John’s Seminary in Camarillo\, CA. \n\n\n\nExamining the Book of Isaiah – Some Church Father’s reffered to the great Prophecy of Isaiah as the 5 Gospel because it so eloquently spoke of the future Christ. Thus\, it’s no surprise that the Church continually reads from Isaiah throughout the Advent\, Lent and the Liturgical Year. \n\n\n\nSaint Vincent de Paul Church8345 Talbert Ave. Huntington Beach\, CA 92646Saturday\, January 24\, 20268:30am-12:30pm \n\n\n\nScan the QR codeorClick to register \n\n\n\nIsaiah Part I ‒ The Promise of a Future Davidic King – This presentation will cover the first 12 chapters Isaiah’s Great Prophecy which focuses on the destruction of the Northern Kingdom known as Israel and the Promise of a future Davidic King who will bring restoration and salvation\, fulfilling the great promise which the Lord made to David of an eternal throne (2 Sam 7). The Church places special emphasis on these chapters during Advent and Christmas. This presentation will help you understand how Isaiah’s prophecies help prepare for the coming of the Messiah/Christ. \n\n\n\nIsaiah Part II ‒ The Servant of the Lord and the Promise of Complete Restoration ‒ Many Church Fathers referred to Isaiah as the ‘5th Gospel’ because it so eloquently underlined and expressed the great hope for Zion’s future renewal and restoration. The Gospels frequently make allusions to these chapters (Isa 40‒66)\, because they underline that Zion’s sins will be forgiven and that she will rejoice when her sins are forgiven and children are restored to her. Thus\, Isaiah concludes with the climatic themes of the New Covenant (Isa 55)\, The Lord’s people will be a light to the nations (Isa 60)\, the coming of the anointed figure who brings restoration and freedom (Isa 61)\, the renewal of Zion’s marriage (Isa 62)\, and a new heavens and a new earth (isa 65). Hence\, the prophet Isaiah is essential for those who wish to understand the theology of the New Testament and the coming of the Christ. \n\n\n\n*The Catholic Biblical Institute in the Diocese of Orange presents these short retreats with the goal of inspiring the faithful to continually study Sacred Scripture. All are welcome to attend. Those wishing to take more courses in The Biblical institute may take these retreats as part of their introductory preparation. More information will be provided during our retreat. \n\n\n\nFor more information\, bible@rcbo.org (714) 282-3079
URL:https://www.rcbo.org/event/encountering-christ-in-the-prophet-isaiah/
LOCATION:St. John’s Seminary\, 5012 1/2\, 5012 Seminary Rd\, Camarillo\, California\, 93012\, United States
CATEGORIES:Biblical Institute,Evangelization,Faith Formation
ATTACH;FMTTYPE=image/jpeg:https://www.rcbo.org/wp-content/uploads/2025/11/e71e11ad-a65d-40c0-91d6-5abaab175604-02Alll.jpg
GEO:34.2416133;-119.0045318
X-APPLE-STRUCTURED-LOCATION;VALUE=URI;X-ADDRESS=St. John’s Seminary 5012 1/2 5012 Seminary Rd Camarillo California 93012 United States;X-APPLE-RADIUS=500;X-TITLE=5012 1/2\, 5012 Seminary Rd:geo:-119.0045318,34.2416133
END:VEVENT
BEGIN:VEVENT
DTSTART;TZID=America/Los_Angeles:20260126T190000
DTEND;TZID=America/Los_Angeles:20260126T200000
DTSTAMP:20260423T000317
CREATED:20251219T165634Z
LAST-MODIFIED:20260206T201548Z
UID:10000403-1769454000-1769457600@www.rcbo.org
SUMMARY:Saint Timothy Weekly Bible Study
DESCRIPTION:Join us for a Bible study on the upcoming Sunday’s Gospel\, where we pray with the word\, study it in depth\, and answer your burning questions! \n\n\n\nContact mzemanek@st-timsrc.org for more information or visit www.st-timsrc.org/adults
URL:https://www.rcbo.org/event/saint-timothy-weekly-bible-study/2026-01-26/
LOCATION:St. Timothy Catholic Church\, 29102 Crown Valley Parkway\, Laguna Niguel\, CA\, 92677\, United States
CATEGORIES:Evangelization,Faith Formation,Parish Events,Young Adult Ministry
ATTACH;FMTTYPE=image/webp:https://www.rcbo.org/wp-content/uploads/2025/11/st-timothy-bible-study.webp
GEO:33.5402334;-117.693762
X-APPLE-STRUCTURED-LOCATION;VALUE=URI;X-ADDRESS=St. Timothy Catholic Church 29102 Crown Valley Parkway Laguna Niguel CA 92677 United States;X-APPLE-RADIUS=500;X-TITLE=29102 Crown Valley Parkway:geo:-117.693762,33.5402334
END:VEVENT
END:VCALENDAR