BEGIN:VCALENDAR
VERSION:2.0
PRODID:-//Roman Catholic Diocese of Orange - ECPv6.15.17.1//NONSGML v1.0//EN
CALSCALE:GREGORIAN
METHOD:PUBLISH
X-ORIGINAL-URL:https://www.rcbo.org
X-WR-CALDESC:Events for Roman Catholic Diocese of Orange
REFRESH-INTERVAL;VALUE=DURATION:PT1H
X-Robots-Tag:noindex
X-PUBLISHED-TTL:PT1H
BEGIN:VTIMEZONE
TZID:America/Los_Angeles
BEGIN:DAYLIGHT
TZOFFSETFROM:-0800
TZOFFSETTO:-0700
TZNAME:PDT
DTSTART:20250309T100000
END:DAYLIGHT
BEGIN:STANDARD
TZOFFSETFROM:-0700
TZOFFSETTO:-0800
TZNAME:PST
DTSTART:20251102T090000
END:STANDARD
BEGIN:DAYLIGHT
TZOFFSETFROM:-0800
TZOFFSETTO:-0700
TZNAME:PDT
DTSTART:20260308T100000
END:DAYLIGHT
BEGIN:STANDARD
TZOFFSETFROM:-0700
TZOFFSETTO:-0800
TZNAME:PST
DTSTART:20261101T090000
END:STANDARD
BEGIN:DAYLIGHT
TZOFFSETFROM:-0800
TZOFFSETTO:-0700
TZNAME:PDT
DTSTART:20270314T100000
END:DAYLIGHT
BEGIN:STANDARD
TZOFFSETFROM:-0700
TZOFFSETTO:-0800
TZNAME:PST
DTSTART:20271107T090000
END:STANDARD
END:VTIMEZONE
BEGIN:VEVENT
DTSTART;TZID=America/Los_Angeles:20260314T090000
DTEND;TZID=America/Los_Angeles:20260314T120000
DTSTAMP:20260425T082315
CREATED:20260226T165845Z
LAST-MODIFIED:20260226T165846Z
UID:10000479-1773478800-1773489600@www.rcbo.org
SUMMARY:Gospel of Matthew: Jesus’s Eternal Kingship and the Redemption of Israel
DESCRIPTION:Presentations will include: \n\n\n\n\nMatthew Chapter 1-2 – Introduction\, The importance of the Infancy Narratives in Matthew’s Gospel\n\n\n\nMatthew Chapters 3-4 ‒ The Ministry of John the Baptist and Jesus’ 40-days in the desert.\n\n\n\nMatthew Chapters 5-7 ‒ The Sermon on the mount in light of the prophets and their expectation of a new covenant.\n\n\n\nMatthew Chapter ‒8-15 ‒ Jesus’ ministry and the significance of His healing miracles.\n\n\n\nMatthew Chapters 16-23 ‒ Saint Peter and the Papacy.\n\n\n\nMatthew chapters 24-28 ‒ The Last Supper\, Jesus’ Passion and Resurrection.
URL:https://www.rcbo.org/event/gospel-of-matthew-jesuss-eternal-kingship-and-the-redemption-of-israel/
LOCATION:Santiago de Compostela Catholic Church\, 21682 Lake Forest Drive\, Lake Forest\, CA\, 92630\, United States
CATEGORIES:Biblical Institute,Retreat
ATTACH;FMTTYPE=application/pdf:https://www.rcbo.org/wp-content/uploads/2026/02/The-Gospel-of-Matthew-Jesus-Eternal-Kingship-and-Redemption-of-Israel.pdf
GEO:33.6472766;-117.6834509
X-APPLE-STRUCTURED-LOCATION;VALUE=URI;X-ADDRESS=Santiago de Compostela Catholic Church 21682 Lake Forest Drive Lake Forest CA 92630 United States;X-APPLE-RADIUS=500;X-TITLE=21682 Lake Forest Drive:geo:-117.6834509,33.6472766
END:VEVENT
BEGIN:VEVENT
DTSTART;TZID=America/Los_Angeles:20260326T000000
DTEND;TZID=America/Los_Angeles:20260327T235959
DTSTAMP:20260425T082315
CREATED:20260316T181516Z
LAST-MODIFIED:20260316T181517Z
UID:10000506-1774483200-1774655999@www.rcbo.org
SUMMARY:Retiro Bíblico: La victoria eterna de Jesucristo\, Un estudio del Libro del Apocalipsis
DESCRIPTION:Jueves y Viernes26-27 de Marzo del 20267:40 pm – 9:15 pm \n\n\n\nAléjate del ruido de la vida diaria y entra en unespacio sagrado. \n\n\n\nLas presentaciones incluirán: \n\n\n\n\nLa victoria eterna de Jesucristo: Un estudio del Apocalipsis\n\n\n\nApocalipsis\, capítulos 1-3: El contexto del Apocalipsis\, el mensaje a las siete iglesias y la invitación al arrepentimiento.\n\n\n\nApocalipsis\, capítulos 4-5: La adoración celestial\, el León y el Cordero.\n\n\n\nApocalipsis\, capítulo 7: La gran muchedumbre ante el trono de Dios\, incontable.\n\n\n\nApocalipsis\, capítulos 11-12: La destrucción de Jerusalén y la gran señal de la mujer cubierta por el sol.\n\n\n\nApocalipsis\, capítulos 13-19: El juicio del Señor y la cena de las bodas del Cordero de Dios.\n\n\n\nApocalipsis\, capítulos 20-21: La Jerusalén celestial\, la ciudad a la que pertenecemos
URL:https://www.rcbo.org/event/retiro-biblico-la-victoria-eterna-de-jesucristo/
LOCATION:Immaculate Heart of Mary Catholic Church\, 1100 South Center Street\, Santa Ana\, CA\, 92704\, United States
CATEGORIES:Biblical Institute,Evangelization,Faith Formation
ATTACH;FMTTYPE=application/pdf:https://www.rcbo.org/wp-content/uploads/2026/03/Retiro-Biblico-Marzo-26-27-2026.pdf
GEO:33.7341081;-117.8985528
X-APPLE-STRUCTURED-LOCATION;VALUE=URI;X-ADDRESS=Immaculate Heart of Mary Catholic Church 1100 South Center Street Santa Ana CA 92704 United States;X-APPLE-RADIUS=500;X-TITLE=1100 South Center Street:geo:-117.8985528,33.7341081
END:VEVENT
BEGIN:VEVENT
DTSTART;TZID=America/Los_Angeles:20260328T090000
DTEND;TZID=America/Los_Angeles:20260328T120000
DTSTAMP:20260425T082315
CREATED:20260226T165328Z
LAST-MODIFIED:20260226T165329Z
UID:10000478-1774688400-1774699200@www.rcbo.org
SUMMARY:Retiro Bíblico: La Explicación del Evangelio de Mateo
DESCRIPTION:Aléjate del ruido de la vida diaria y entra enun espacio sagrado. Este retiro se centrará en\, La Explicación del Evangelio de Mateo \n\n\n\nLas presentaciones incluirán: \n\n\n\n\nMateo\, capítulos 1 y 2: Introducción; La importancia de los relatos de la infancia en el Evangelio de Mateo;\n\n\n\nMateo\, capítulos 3 y 4: El ministerio de Juan el Bautista y los 40 días de Jesús en el desierto.\n\n\n\nMateo\, capítulos 5-7: El Sermón del Monte a laluz de los profetas y su expectativa de una nuevaalianza.\n\n\n\nMateo\, capítulos 8-15: El ministerio de Jesús y laimportancia de sus milagros de sanación.\n\n\n\nMateo\, capítulos 16-23: San Pedro y el papado.\n\n\n\nMateo\, capítulos 24-28: La Última Cena\, la Pasión y Resurrección de Jesús.
URL:https://www.rcbo.org/event/retiro-biblico-la-explicacion-del-evangelio-de-mateo/
LOCATION:Santiago de Compostela Catholic Church\, 21682 Lake Forest Drive\, Lake Forest\, CA\, 92630\, United States
CATEGORIES:Biblical Institute,Retreat
ATTACH;FMTTYPE=application/pdf:https://www.rcbo.org/wp-content/uploads/2026/02/Retiro_Biblico-La_Explicacion_del_Evangelio_de_Mateo-1.pdf
GEO:33.6472766;-117.6834509
X-APPLE-STRUCTURED-LOCATION;VALUE=URI;X-ADDRESS=Santiago de Compostela Catholic Church 21682 Lake Forest Drive Lake Forest CA 92630 United States;X-APPLE-RADIUS=500;X-TITLE=21682 Lake Forest Drive:geo:-117.6834509,33.6472766
END:VEVENT
END:VCALENDAR