BEGIN:VCALENDAR
VERSION:2.0
PRODID:-//Roman Catholic Diocese of Orange - ECPv6.15.17.1//NONSGML v1.0//EN
CALSCALE:GREGORIAN
METHOD:PUBLISH
X-WR-CALNAME:Roman Catholic Diocese of Orange
X-ORIGINAL-URL:https://www.rcbo.org
X-WR-CALDESC:Events for Roman Catholic Diocese of Orange
REFRESH-INTERVAL;VALUE=DURATION:PT1H
X-Robots-Tag:noindex
X-PUBLISHED-TTL:PT1H
BEGIN:VTIMEZONE
TZID:America/Los_Angeles
BEGIN:DAYLIGHT
TZOFFSETFROM:-0800
TZOFFSETTO:-0700
TZNAME:PDT
DTSTART:20250309T100000
END:DAYLIGHT
BEGIN:STANDARD
TZOFFSETFROM:-0700
TZOFFSETTO:-0800
TZNAME:PST
DTSTART:20251102T090000
END:STANDARD
BEGIN:DAYLIGHT
TZOFFSETFROM:-0800
TZOFFSETTO:-0700
TZNAME:PDT
DTSTART:20260308T100000
END:DAYLIGHT
BEGIN:STANDARD
TZOFFSETFROM:-0700
TZOFFSETTO:-0800
TZNAME:PST
DTSTART:20261101T090000
END:STANDARD
BEGIN:DAYLIGHT
TZOFFSETFROM:-0800
TZOFFSETTO:-0700
TZNAME:PDT
DTSTART:20270314T100000
END:DAYLIGHT
BEGIN:STANDARD
TZOFFSETFROM:-0700
TZOFFSETTO:-0800
TZNAME:PST
DTSTART:20271107T090000
END:STANDARD
END:VTIMEZONE
BEGIN:VEVENT
DTSTART;TZID=America/Los_Angeles:20260429T190000
DTEND;TZID=America/Los_Angeles:20260429T210000
DTSTAMP:20260425T181430
CREATED:20260318T201151Z
LAST-MODIFIED:20260318T201153Z
UID:10000517-1777489200-1777496400@www.rcbo.org
SUMMARY:Members Only Networking Event
DESCRIPTION:YCP members will gather for an exclusive evening with top-tier mentors and business leaders from Legatus. We’ll dive into authentic conversations about integrating faith and business success. Expect actionable leadership insights\, personal growth perspectives\, and meaningful networking—just for our member community. It’ll be an evening of inspiration and practical wisdom you won’t want to miss. \n\n\n\nVisit youngcatholicprofessionals.org/chapter/orange-county for more information and to find out about future events!Location: The Busch Firm: 2532 Dupont Drive\, Irvine
URL:https://www.rcbo.org/event/members-only-networking-event/
CATEGORIES:Young Adult Ministry
END:VEVENT
END:VCALENDAR