BEGIN:VCALENDAR
VERSION:2.0
PRODID:-//Roman Catholic Diocese of Orange - ECPv6.15.17.1//NONSGML v1.0//EN
CALSCALE:GREGORIAN
METHOD:PUBLISH
X-WR-CALNAME:Roman Catholic Diocese of Orange
X-ORIGINAL-URL:https://www.rcbo.org
X-WR-CALDESC:Events for Roman Catholic Diocese of Orange
REFRESH-INTERVAL;VALUE=DURATION:PT1H
X-Robots-Tag:noindex
X-PUBLISHED-TTL:PT1H
BEGIN:VTIMEZONE
TZID:America/Los_Angeles
BEGIN:DAYLIGHT
TZOFFSETFROM:-0800
TZOFFSETTO:-0700
TZNAME:PDT
DTSTART:20250309T100000
END:DAYLIGHT
BEGIN:STANDARD
TZOFFSETFROM:-0700
TZOFFSETTO:-0800
TZNAME:PST
DTSTART:20251102T090000
END:STANDARD
BEGIN:DAYLIGHT
TZOFFSETFROM:-0800
TZOFFSETTO:-0700
TZNAME:PDT
DTSTART:20260308T100000
END:DAYLIGHT
BEGIN:STANDARD
TZOFFSETFROM:-0700
TZOFFSETTO:-0800
TZNAME:PST
DTSTART:20261101T090000
END:STANDARD
BEGIN:DAYLIGHT
TZOFFSETFROM:-0800
TZOFFSETTO:-0700
TZNAME:PDT
DTSTART:20270314T100000
END:DAYLIGHT
BEGIN:STANDARD
TZOFFSETFROM:-0700
TZOFFSETTO:-0800
TZNAME:PST
DTSTART:20271107T090000
END:STANDARD
END:VTIMEZONE
BEGIN:VEVENT
DTSTART;TZID=America/Los_Angeles:20260427T080000
DTEND;TZID=America/Los_Angeles:20260427T170000
DTSTAMP:20260425T125803
CREATED:20260317T211340Z
LAST-MODIFIED:20260317T211342Z
UID:10000514-1777276800-1777309200@www.rcbo.org
SUMMARY:Bible Study
DESCRIPTION:All are invited to join us in the Parish Hall to pray through\, discuss and study the upcoming Sunday Gospel reading. No previous experience or knowledge of the Bible is necessary! \n\n\n\n \n\n\n\nVisit www.st-timsrc.org/adults for more information!
URL:https://www.rcbo.org/event/bible-study-36/2026-04-27/
LOCATION:St. Timothy Catholic Church\, 29102 Crown Valley Parkway\, Laguna Niguel\, CA\, 92677\, United States
CATEGORIES:Parish Events,Young Adult Ministry
GEO:33.5402334;-117.693762
X-APPLE-STRUCTURED-LOCATION;VALUE=URI;X-ADDRESS=St. Timothy Catholic Church 29102 Crown Valley Parkway Laguna Niguel CA 92677 United States;X-APPLE-RADIUS=500;X-TITLE=29102 Crown Valley Parkway:geo:-117.693762,33.5402334
END:VEVENT
BEGIN:VEVENT
DTSTART;TZID=America/Los_Angeles:20260427T190000
DTEND;TZID=America/Los_Angeles:20260427T210000
DTSTAMP:20260425T125803
CREATED:20260320T165959Z
LAST-MODIFIED:20260320T170001Z
UID:10000524-1777316400-1777323600@www.rcbo.org
SUMMARY:Bible Study
DESCRIPTION:All are invited to join us in the Parish Hall to pray through\, discuss and study the upcoming Sunday Gospel reading. No previous experience or knowledge of the Bible is necessary! \n\n\n\nVisit www.st-timsrc.org/adults for more information!
URL:https://www.rcbo.org/event/bible-study-38/2026-04-27/
LOCATION:St. Timothy Catholic Church\, 29102 Crown Valley Parkway\, Laguna Niguel\, CA\, 92677\, United States
CATEGORIES:Young Adult Ministry
GEO:33.5402334;-117.693762
X-APPLE-STRUCTURED-LOCATION;VALUE=URI;X-ADDRESS=St. Timothy Catholic Church 29102 Crown Valley Parkway Laguna Niguel CA 92677 United States;X-APPLE-RADIUS=500;X-TITLE=29102 Crown Valley Parkway:geo:-117.693762,33.5402334
END:VEVENT
END:VCALENDAR